{"text_format":"1","workbook":"xlsx","n_sheets":22,"sheets":["QLS","Menu","Danh muc nhan vien","T1","T2","T3","T4","T5","T6","T7","T8","T9","T10","T11","T12","About us","Report","Report-1","Calendar","Bang luong","Phieu luong","Setup"],"not_rendered":{"charts":0,"images":8,"macros":1,"external_links":0,"defined_names":223,"comments":0,"pivot_tables":0},"unopened":[],"bounds":{"document_bytes":16777216,"sheet_cells":100000,"rows_first":2000,"rows_last":500,"rows_between":2000,"halvings":0,"cell_chars":16384,"cell_head_chars":4096},"cells_cut":0,"cells_raw":0,"read":"whole","date_system":"1900"}

{"sheet":"QLS","index":0,"n_rows":0,"n_cols":0,"rows_kept":0,"cut":false,"hidden":true,"merged":[]}

{"sheet":"Menu","index":1,"n_rows":12,"n_cols":11,"rows_kept":12,"cut":false,"hidden":false,"merged":[]}
[null,"WPRO.VN - #1 PHẦN MỀM QUẢN TRỊ DOANH NGHIỆP SME"]
[]
[]
[null,null,null,null,null,null,null,null,null,null,"PHẦN MỀM NHÂN SỰ 12 THÁNG"]
[null,null,null,null,null,null,null,null,null,null,"Phiên bản: WPRO.VN_018_20210103"]
[]
[]
[null,null,null,null,null,null,null,null,null,null,"Thiết kế bởi:"]
[null,null,null,null,null,null,null,null,null,null,"CÔNG TY TNHH WEBKYNANG VIỆT NAM"]
[null,null,null,null,null,null,null,null,null,null,"Tầng 6, Tòa nhà Sannam, 78 Duy Tân, Cầu Giấy, Hà Nội"]
[null,null,null,null,null,null,null,null,null,null,"Email: Webkynang.vn@gmail.com"]
[null,null,null,null,null,null,null,null,null,null,"Hotline: 038-997-8430; Phone: 024-2239-7373"]

{"sheet":"Danh muc nhan vien","index":2,"n_rows":43,"n_cols":77,"rows_kept":43,"cut":false,"hidden":false,"merged":[[8,64,8,75],[8,12,8,23],[8,25,8,36],[8,38,8,49],[8,51,8,62]]}
[]
[]
[]
[]
[]
[null,null,{"$f":"Setup!F10","v":"Công ty TNHH Webkynang Việt Nam"}]
[null,null,{"$f":"Setup!F11","v":"Tầng 6, Tòa nhà Sannam, Duy Tân, Cầu Giấy, Hà Nội"},null,null,null,null,null,null,null,null,null,"Home",null,null,null,null,null,null,null,null,null,null,null,null,"Home",null,null,null,null,null,null,null,null,null,null,null,null,"Home",null,null,null,null,null,null,null,null,null,null,null,null,"Home",null,null,null,null,null,null,null,null,null,null,null,null,"Home"]
[]
[null,null,"DANH SÁCH NHÂN VIÊN",null,null,null,"Lương cơ bản","Lương tính\nbảo hiểm","Phụ cấp \ntrách nhiệm","Phụ cấp\năn trưa","Tạm ứng",null,"1. LƯƠNG CƠ BẢN",null,null,null,null,null,null,null,null,null,null,null,null,"2. LƯƠNG TÍNH BẢO HIỂM",null,null,null,null,null,null,null,null,null,null,null,null,"3. PHỤ CẤP TRÁCH NHIỆM",null,null,null,null,null,null,null,null,null,null,null,null,"4. PHỤ CẤP CƠM TRƯA",null,null,null,null,null,null,null,null,null,null,null,null,"5. TẠM ỨNG"]
[]
[null,null,"STT","MÃ NV","TÊN NV","CHỨC VỤ","PHÒNG BAN","BẮT ĐẦU","KẾT THÚC","MST TNCN","Số người phụ thuộc","GHI CHÚ",1,2,3,4,5,6,7,8,9,10,11,12,null,1,2,3,4,5,6,7,8,9,10,11,12,null,1,2,3,4,5,6,7,8,9,10,11,12,null,1,2,3,4,5,6,7,8,9,10,11,12,null,1,2,3,4,5,6,7,8,9,10,11,12]
[null,null,1,"QL001","Trần Văn Tám","Giám Đốc","BGĐ","2014-03-14",null,null,2,null,100000000,11000000,{"$f":"N12","v":11000000},11000000,11000000,11000000,11000000,11000000,11000000,11000000,11000000,11000000,null,23000000,25000000,{"$f":"AA12","v":25000000},25000000,25000000,25000000,25000000,25000000,25000000,25000000,25000000,25000000,null,1000000,1300000,{"$f":"AN12","v":1300000},1300000,1300000,1300000,1300000,1400000,1400000,1400000,1400000,1400000,null,500000,600000,{"$f":"BA12","v":600000},600000,600000,600000,600000,600000,600000,600000,600000,600000,null,1000000,null,null,2000000,null,4800000]
[null,null,2,"QL002","Đặng Văn Thành","Phó GĐ","BGĐ","2014-03-15",null,null,2,null,70000000,{"$f":"M13","v":70000000},70000000,70000000,70000000,70000000,70000000,70000000,70000000,70000000,70000000,70000000,null,23000000,25000000,{"$f":"AA13","v":25000000},25000000,25000000,25000000,25000000,25000000,25000000,25000000,25000000,25000000,null,700000,{"$f":"AM13","v":700000},700000,700000,700000,700000,700000,1000000,1000000,1000000,1000000,1000000,null,500000,{"$f":"AZ13","v":500000},500000,500000,500000,500000,500000,500000,500000,500000,500000,500000]
[null,null,3,"QL003","Đặng Thành Tâm","KTT","Kế Toán","2014-03-15",null,null,1,null,46000000,{"$f":"M14","v":46000000},46000000,46000000,46000000,46000000,46000000,46000000,46000000,46000000,46000000,46000000,null,23000000,25000000,{"$f":"AA14","v":25000000},25000000,25000000,25000000,25000000,25000000,25000000,25000000,25000000,25000000,null,null,null,null,null,null,null,null,null,null,null,null,null,null,500000,{"$f":"AZ14","v":500000},500000,500000,500000,500000,500000,500000,500000,500000,500000,500000,null,null,null,500000,null,700000]
[null,null,4,"QL004","Đoàn Văn Cường","TP Kinh Doanh","Kinh Doanh","2014-03-15",null,null,2,null,35000000,{"$f":"M15","v":35000000},35000000,35000000,35000000,35000000,35000000,35000000,35000000,35000000,35000000,35000000,null,23000000,25000000,{"$f":"AA15","v":25000000},25000000,25000000,25000000,25000000,25000000,25000000,25000000,25000000,25000000,null,null,null,null,null,null,null,null,null,null,null,null,null,null,500000,{"$f":"AZ15","v":500000},500000,500000,500000,500000,500000,500000,500000,500000,500000,500000]
[null,null,5,"VP001","Hồ Phương Lanh","KT Tổng hợp","Kế Toán","2014-05-10",null,null,3,null,25000000,{"$f":"M16","v":25000000},25000000,25000000,25000000,25000000,25000000,25000000,25000000,25000000,25000000,25000000,null,23000000,25000000,{"$f":"AA16","v":25000000},25000000,25000000,25000000,25000000,25000000,25000000,25000000,25000000,25000000,null,null,null,null,null,null,null,null,null,null,null,null,null,null,500000,{"$f":"AZ16","v":500000},500000,500000,500000,500000,500000,500000,500000,500000,500000,500000]
[null,null,6,"VP002","Huỳnh Tùng Lâm","KT Viên","Kế Toán","2014-05-10","2015-01-15",null,1,null,15000000,{"$f":"M17","v":15000000},15000000,15000000,15000000,15000000,15000000,15000000,15000000,15000000,15000000,15000000,null,13000000,25000000,{"$f":"AA17","v":25000000},25000000,25000000,25000000,25000000,25000000,25000000,25000000,25000000,25000000,null,null,null,null,null,null,null,null,null,null,null,null,null,null,500000,{"$f":"AZ17","v":500000},500000,500000,500000,500000,500000,500000,500000,500000,500000,500000,null,null,null,null,200000,200000]
[null,null,7,"VP003","Lê Đại Tài","KT Viên","Kế Toán","2014-05-10",null,null,1,null,11000000,{"$f":"M18","v":11000000},11000000,11000000,11000000,11000000,11000000,11000000,11000000,11000000,11000000,11000000,null,2500000,{"$f":"Z18","v":2500000},2500000,2500000,2500000,2500000,2500000,2500000,2500000,2500000,2500000,2500000,null,null,null,null,null,null,null,null,null,null,null,null,null,null,500000,{"$f":"AZ18","v":500000},500000,500000,500000,500000,500000,500000,500000,500000,500000,500000]
[null,null,8,"VP004","Lâm Thị Cành","Nhân sự","HC - NS","2014-09-22",null,null,2,null,9900000,{"$f":"M19","v":9900000},9900000,9900000,9900000,9900000,9900000,9900000,9900000,9900000,9900000,9900000,null,2450000,{"$f":"Z19","v":2450000},2450000,2450000,2450000,2450000,2450000,2450000,2450000,2450000,2450000,2450000,null,null,null,null,null,null,null,null,null,null,null,null,null,null,500000,{"$f":"AZ19","v":500000},500000,500000,500000,500000,500000,500000,500000,500000,500000,500000,null,null,null,null,null,null,null,300000]
[null,null,9,"VP005","Lê Đức Chinh","Hành chính","HC - NS",{"$f":"H19+1","v":"2014-09-23"},"2015-11-15",null,2,null,5900000,{"$f":"M20","v":5900000},5900000,5900000,5900000,5900000,5900000,5900000,5900000,5900000,5900000,5900000,null,2950000,{"$f":"Z20","v":2950000},2950000,2950000,2950000,2950000,2950000,2950000,2950000,2950000,2950000,2950000,null,null,null,null,null,null,null,null,null,null,null,null,null,null,500000,{"$f":"AZ20","v":500000},500000,500000,500000,500000,500000,500000,500000,500000,500000,500000]
[null,null,10,"VP006","Lê Văn Liêm","Marketing","MKT",{"$f":"H20+1","v":"2014-09-24"},null,null,0,null,5300000,{"$f":"M21","v":5300000},5300000,5300000,5300000,5300000,5300000,5300000,5300000,5300000,5300000,5300000,null,2650000,{"$f":"Z21","v":2650000},2650000,2650000,2650000,2650000,2650000,2650000,2650000,2650000,2650000,2650000,null,null,null,null,null,null,null,null,null,null,null,null,null,null,500000,{"$f":"AZ21","v":500000},500000,500000,500000,500000,500000,500000,500000,500000,500000,500000]
[null,null,11,"KD001","Nguyễn Chí Thanh","NV Kinh Doanh","Kinh Doanh","2014-09-25",null,null,0,null,5000000,{"$f":"M22","v":5000000},5000000,5000000,5000000,5000000,5000000,5000000,5000000,5000000,5000000,5000000,null,2500000,{"$f":"Z22","v":2500000},2500000,2500000,2500000,2500000,2500000,2500000,2500000,2500000,2500000,2500000,null,null,null,null,null,null,null,null,null,null,null,null,null,null,500000,{"$f":"AZ22","v":500000},500000,500000,500000,500000,500000,500000,500000,500000,500000,500000,null,null,null,null,1000000]
[null,null,12,"KD002","Nguyễn Hoàng Tính","NV Kinh Doanh","Kinh Doanh","2014-09-26","2015-08-10",null,0,null,3000000,{"$f":"M23","v":3000000},3000000,3000000,3000000,3000000,3000000,3000000,3000000,3000000,3000000,3000000,null,1500000,{"$f":"Z23","v":1500000},1500000,1500000,1500000,1500000,1500000,1500000,1500000,1500000,1500000,1500000,null,null,null,null,null,null,null,null,null,null,null,null,null,null,500000,{"$f":"AZ23","v":500000},500000,500000,500000,500000,500000,500000,500000,500000,500000,500000]
[null,null,13,"KD003","Nguyễn Văn Hân","NV Kinh Doanh","Kinh Doanh","2014-09-27",null,null,0,null,4500000,{"$f":"M24","v":4500000},4500000,4500000,4500000,4500000,4500000,4500000,4500000,4500000,4500000,4500000,null,2250000,{"$f":"Z24","v":2250000},2250000,2250000,2250000,2250000,2250000,2250000,2250000,2250000,2250000,2250000,null,null,null,null,null,null,null,null,null,null,null,null,null,null,500000,{"$f":"AZ24","v":500000},500000,500000,500000,500000,500000,500000,500000,500000,500000,500000]
[null,null,14,"KD004","Phạm Hoài An","NV Kinh Doanh","Kinh Doanh","2014-09-28",null,null,0,null,2400000,{"$f":"M25","v":2400000},2400000,2400000,2400000,2400000,2400000,2400000,2400000,2400000,2400000,2400000,null,1200000,{"$f":"Z25","v":1200000},1200000,1200000,1200000,1200000,1200000,1200000,1200000,1200000,1200000,1200000,null,null,null,null,null,null,null,null,null,null,null,null,null,null,500000,{"$f":"AZ25","v":500000},500000,500000,500000,500000,500000,500000,500000,500000,500000,500000]
[null,null,15,null,null,null,null,null,null,null,null,null,null,{"$f":"M26","v":0},0,0,0,0,0,0,0,0,0,0,null,null,{"$f":"Z26","v":0},0,0,0,0,0,0,0,0,0,0,null,null,null,null,null,null,null,null,null,null,null,null,null,null,null,{"$f":"AZ26","v":0},0,0,0,0,0,0,0,0,0,0,null,null,{"$f":"BM26","v":0},0,0,0,0,0,0,0,0,0,0]
[null,null,16,null,null,null,null,null,null,null,null,null,null,{"$f":"M27","v":0},0,0,0,0,0,0,0,0,0,0,null,null,{"$f":"Z27","v":0},0,0,0,0,0,0,0,0,0,0,null,null,null,null,null,null,null,null,null,null,null,null,null,null,null,{"$f":"AZ27","v":0},0,0,0,0,0,0,0,0,0,0,null,null,{"$f":"BM27","v":0},0,0,0,0,0,0,0,0,0,0]
[null,null,17,null,null,null,null,null,null,null,null,null,null,{"$f":"M28","v":0},0,0,0,0,0,0,0,0,0,0,null,null,{"$f":"Z28","v":0},0,0,0,0,0,0,0,0,0,0,null,null,null,null,null,null,null,null,null,null,null,null,null,null,null,{"$f":"AZ28","v":0},0,0,0,0,0,0,0,0,0,0,null,null,{"$f":"BM28","v":0},0,0,0,0,0,0,0,0,0,0]
[null,null,18,null,null,null,null,null,null,null,null,null,null,{"$f":"M29","v":0},0,0,0,0,0,0,0,0,0,0,null,null,{"$f":"Z29","v":0},0,0,0,0,0,0,0,0,0,0,null,null,null,null,null,null,null,null,null,null,null,null,null,null,null,{"$f":"AZ29","v":0},0,0,0,0,0,0,0,0,0,0,null,null,{"$f":"BM29","v":0},0,0,0,0,0,0,0,0,0,0]
[null,null,19,null,null,null,null,null,null,null,null,null,null,{"$f":"M30","v":0},0,0,0,0,0,0,0,0,0,0,null,null,{"$f":"Z30","v":0},0,0,0,0,0,0,0,0,0,0,null,null,null,null,null,null,null,null,null,null,null,null,null,null,null,{"$f":"AZ30","v":0},0,0,0,0,0,0,0,0,0,0,null,null,{"$f":"BM30","v":0},0,0,0,0,0,0,0,0,0,0]
[null,null,20,null,null,null,null,null,null,null,null,null,null,{"$f":"M31","v":0},0,0,0,0,0,0,0,0,0,0,null,null,{"$f":"Z31","v":0},0,0,0,0,0,0,0,0,0,0,null,null,null,null,null,null,null,null,null,null,null,null,null,null,null,{"$f":"AZ31","v":0},0,0,0,0,0,0,0,0,0,0,null,null,{"$f":"BM31","v":0},0,0,0,0,0,0,0,0,0,0]
[null,null,21,null,null,null,null,null,null,null,null,null,null,{"$f":"M32","v":0},0,0,0,0,0,0,0,0,0,0,null,null,{"$f":"Z32","v":0},0,0,0,0,0,0,0,0,0,0,null,null,null,null,null,null,null,null,null,null,null,null,null,null,null,{"$f":"AZ32","v":0},0,0,0,0,0,0,0,0,0,0,null,null,{"$f":"BM32","v":0},0,0,0,0,0,0,0,0,0,0]
[null,null,22,null,null,null,null,null,null,null,null,null,null,{"$f":"M33","v":0},0,0,0,0,0,0,0,0,0,0,null,null,{"$f":"Z33","v":0},0,0,0,0,0,0,0,0,0,0,null,null,null,null,null,null,null,null,null,null,null,null,null,null,null,{"$f":"AZ33","v":0},0,0,0,0,0,0,0,0,0,0,null,null,{"$f":"BM33","v":0},0,0,0,0,0,0,0,0,0,0]
[null,null,23,null,null,null,null,null,null,null,null,null,null,{"$f":"M34","v":0},0,0,0,0,0,0,0,0,0,0,null,null,{"$f":"Z34","v":0},0,0,0,0,0,0,0,0,0,0,null,null,null,null,null,null,null,null,null,null,null,null,null,null,null,{"$f":"AZ34","v":0},0,0,0,0,0,0,0,0,0,0,null,null,{"$f":"BM34","v":0},0,0,0,0,0,0,0,0,0,0]
[null,null,24,null,null,null,null,null,null,null,null,null,null,{"$f":"M35","v":0},0,0,0,0,0,0,0,0,0,0,null,null,{"$f":"Z35","v":0},0,0,0,0,0,0,0,0,0,0,null,null,null,null,null,null,null,null,null,null,null,null,null,null,null,{"$f":"AZ35","v":0},0,0,0,0,0,0,0,0,0,0,null,null,{"$f":"BM35","v":0},0,0,0,0,0,0,0,0,0,0]
[null,null,25,null,null,null,null,null,null,null,null,null,null,{"$f":"M36","v":0},0,0,0,0,0,0,0,0,0,0,null,null,{"$f":"Z36","v":0},0,0,0,0,0,0,0,0,0,0,null,null,null,null,null,null,null,null,null,null,null,null,null,null,null,{"$f":"AZ36","v":0},0,0,0,0,0,0,0,0,0,0,null,null,{"$f":"BM36","v":0},0,0,0,0,0,0,0,0,0,0]
[null,null,26,null,null,null,null,null,null,null,null,null,null,{"$f":"M37","v":0},0,0,0,0,0,0,0,0,0,0,null,null,{"$f":"Z37","v":0},0,0,0,0,0,0,0,0,0,0,null,null,null,null,null,null,null,null,null,null,null,null,null,null,null,{"$f":"AZ37","v":0},0,0,0,0,0,0,0,0,0,0,null,null,{"$f":"BM37","v":0},0,0,0,0,0,0,0,0,0,0]
[null,null,27,null,null,null,null,null,null,null,null,null,null,{"$f":"M38","v":0},0,0,0,0,0,0,0,0,0,0,null,null,{"$f":"Z38","v":0},0,0,0,0,0,0,0,0,0,0,null,null,null,null,null,null,null,null,null,null,null,null,null,null,null,{"$f":"AZ38","v":0},0,0,0,0,0,0,0,0,0,0,null,null,{"$f":"BM38","v":0},0,0,0,0,0,0,0,0,0,0]
[null,null,28,null,null,null,null,null,null,null,null,null,null,{"$f":"M39","v":0},0,0,0,0,0,0,0,0,0,0,null,null,{"$f":"Z39","v":0},0,0,0,0,0,0,0,0,0,0,null,null,null,null,null,null,null,null,null,null,null,null,null,null,null,{"$f":"AZ39","v":0},0,0,0,0,0,0,0,0,0,0,null,null,{"$f":"BM39","v":0},0,0,0,0,0,0,0,0,0,0]
[null,null,29,null,null,null,null,null,null,null,null,null,null,{"$f":"M40","v":0},0,0,0,0,0,0,0,0,0,0,null,null,{"$f":"Z40","v":0},0,0,0,0,0,0,0,0,0,0,null,null,null,null,null,null,null,null,null,null,null,null,null,null,null,{"$f":"AZ40","v":0},0,0,0,0,0,0,0,0,0,0,null,null,{"$f":"BM40","v":0},0,0,0,0,0,0,0,0,0,0]
[null,null,30,null,null,null,null,null,null,null,null,null,null,{"$f":"M41","v":0},0,0,0,0,0,0,0,0,0,0,null,null,{"$f":"Z41","v":0},0,0,0,0,0,0,0,0,0,0,null,null,null,null,null,null,null,null,null,null,null,null,null,null,null,{"$f":"AZ41","v":0},0,0,0,0,0,0,0,0,0,0,null,null,{"$f":"BM41","v":0},0,0,0,0,0,0,0,0,0,0]
[]
[null,null,".",".",".",".",".",".",".",".",null,null,null,null,null,null,null,null,null,null,null,null,null,null,null,null,null,null,null,null,null,null,null,null,null,null,null,null,null,null,null,null,null,null,null,null,null,null,null,null,null,null,null,null,null,null,null,null,null,null,null,null,null,null,null,null,null,null,null,null,null,null,null,null,null,null,"."]

{"sheet":"T1","index":3,"n_rows":55,"n_cols":88,"rows_kept":55,"cut":false,"hidden":false,"merged":[[49,33,49,42],[54,33,54,42],[4,53,4,61],[12,39,13,39],[12,40,13,40],[11,5,11,35],[11,42,13,42],[12,36,13,36],[11,36,11,41],[12,41,13,41],[12,37,13,37],[12,38,13,38],[8,5,8,35],[9,5,9,35],[5,38,5,42],[5,2,5,3],[5,7,5,9],[5,10,5,12],[47,33,47,42],[48,33,48,42],[11,2,13,2],[11,4,13,4],[11,3,13,3],[8,2,9,4]]}
[]
[]
[]
[]
[]
[null,null,"Số ngày làm việc:",null,{"$f":"VLOOKUP(m.jan,ngaycong,2,0)","v":27},null,null,"<<",null,null,">>",null,null,null,null,null,null,null,null,null,null,null,null,null,null,null,null,null,null,null,null,null,null,null,null,null,true,null,{"$f":"DATEVALUE(\"1/1/\"&year)","v":"2021-01-01"}]
[]
[null,null,{"$f":"Setup!F10","v":"Công ty TNHH Webkynang Việt Nam"},null,null,null,null,null,null,null,null,null,null,null,null,null,null,null,null,null,null,null,null,null,null,null,null,null,null,null,null,null,null,null,null,null,null,null,null,null,null,null,null,null,null,null,null,null,null,null,null,null,null,null,null,null,null,null,null,null,null,null,null,null,null,null,null,null,null,null,null,null,null,null,null,null,null,null,null,null,null,null,null,null,null,null,null,{"$f":"VALUE(MID(F10,8,1))","v":1}]
[null,null,{"$f":"Setup!D11&\" \"&Setup!F11","v":"Địa chỉ: Tầng 6, Tòa nhà Sannam, Duy Tân, Cầu Giấy, Hà Nội"},null,null,"BẢNG CHẤM CÔNG"]
[null,null,null,null,null,{"$f":"\"Tháng 1 năm \"&year","v":"Tháng 1 năm 2021"}]
[null,null,null,null,null,null,{"$f":"F13+1","v":"2021-01-02"},{"$f":"G11+1","v":"2021-01-03"},{"$f":"H11+1","v":"2021-01-04"},"2021-01-05","2021-01-06","2021-01-07","2021-01-08","2021-01-09","2021-01-10","2021-01-11","2021-01-12","2021-01-13","2021-01-14","2021-01-15","2021-01-16","2021-01-17","2021-01-18","2021-01-19","2021-01-20","2021-01-21","2021-01-22","2021-01-23","2021-01-24","2021-01-25","2021-01-26","2021-01-27","2021-01-28","2021-01-29","2021-01-30","2021-01-31"]
[null,null,"SỐ TT","HỌ VÀ TÊN","CHỨC VỤ","NGÀY TRONG THÁNG/ THỨ TRONG TUẦN",null,null,null,null,null,null,null,null,null,null,null,null,null,null,null,null,null,null,null,null,null,null,null,null,null,null,null,null,null,null,"TỔNG",null,null,null,null,null,"GHI CHÚ"]
[null,null,null,null,null,{"$f":"DATE(year,m.jan,1)","v":"2021-01-01"},{"$f":"IF(MONTH(G11)>m.jan,\"\",G11)","v":"2021-01-02"},"2021-01-03","2021-01-04","2021-01-05","2021-01-06","2021-01-07","2021-01-08","2021-01-09","2021-01-10","2021-01-11","2021-01-12","2021-01-13","2021-01-14","2021-01-15","2021-01-16","2021-01-17","2021-01-18","2021-01-19","2021-01-20","2021-01-21","2021-01-22","2021-01-23","2021-01-24","2021-01-25","2021-01-26","2021-01-27","2021-01-28","2021-01-29","2021-01-30","2021-01-31",{"$f":"macong1","v":"x"},{"$f":"macong2","v":"x2"},{"$f":"macong3","v":"NC"},{"$f":"macong4","v":"NO"},{"$f":"macong5","v":"00:00:00"},"Tổng"]
[null,null,null,null,null,{"$f":"IF(F13=\"\",\"\",CHOOSE(WEEKDAY(F13),\"C.Nhật\",\"T.Hai\",\"T.Ba\",\"T.Tư\",\"T.Năm\",\"T.Sáu\",\"T.Bảy\"))","v":"T.Sáu"},{"$f":"IF(G13=\"\",\"\",CHOOSE(WEEKDAY(G13),\"C.Nhật\",\"T.Hai\",\"T.Ba\",\"T.Tư\",\"T.Năm\",\"T.Sáu\",\"T.Bảy\"))","v":"T.Bảy"},"C.Nhật","T.Hai","T.Ba","T.Tư","T.Năm","T.Sáu","T.Bảy","C.Nhật","T.Hai","T.Ba","T.Tư","T.Năm","T.Sáu","T.Bảy","C.Nhật","T.Hai","T.Ba","T.Tư","T.Năm","T.Sáu","T.Bảy","C.Nhật","T.Hai","T.Ba","T.Tư","T.Năm",{"$f":"IF(AH13=\"\",\"\",CHOOSE(WEEKDAY(AH13),\"C.Nhật\",\"T.Hai\",\"T.Ba\",\"T.Tư\",\"T.Năm\",\"T.Sáu\",\"T.Bảy\"))","v":"T.Sáu"},{"$f":"IF(AI13=\"\",\"\",CHOOSE(WEEKDAY(AI13),\"C.Nhật\",\"T.Hai\",\"T.Ba\",\"T.Tư\",\"T.Năm\",\"T.Sáu\",\"T.Bảy\"))","v":"T.Bảy"},"C.Nhật"]
[null,null,{"$f":"SUBTOTAL(3,$D$15:D15)","v":1},{"$f":"'Danh muc nhan vien'!E12","v":"Trần Văn Tám"},{"$f":"IFERROR(VLOOKUP(D15,'Danh muc nhan vien'!$E$12:$BY$42,2,0),\"\")","v":"Giám Đốc"},null,null,null,null,null,null,"x","x",null,null,null,null,null,null,null,null,null,null,null,null,null,null,null,null,null,null,null,null,null,null,null,{"$f":"COUNTIF($F15:$AJ15,AK$13)","v":2},{"$f":"COUNTIF($F15:$AJ15,AL$13)","v":0},0,0,0,{"$f":"AK15*1+AL15*0.5+AM15*1","v":2},{"$f":"IF(E15=\"\",\"\",IF(OR(VLOOKUP(D15,DSNV,5,0)<1,VLOOKUP(D15,DSNV,5,0)>eomonth),\"\",\"Đã nghỉ\"))","v":""},null,null,null,null,null,null,null,null,null,null,{"$f":"IF(AND(VLOOKUP(D15,DSNV,5,0)>1,$F$13>VLOOKUP(D15,DSNV,5,0)),\"\",IF(SUM(AK15:AP15)<$E$6,\"x\",\"\"))","v":"x"}]
[null,null,{"$f":"SUBTOTAL(3,$D$15:D16)","v":2},{"$f":"'Danh muc nhan vien'!E13","v":"Đặng Văn Thành"},{"$f":"IFERROR(VLOOKUP(D16,'Danh muc nhan vien'!$E$12:$BY$42,2,0),\"\")","v":"Phó GĐ"},null,null,null,null,null,null,null,null,null,null,null,null,null,null,null,null,null,null,null,null,null,null,null,null,null,null,null,null,null,null,null,{"$f":"COUNTIF($F16:$AJ16,AK$13)","v":0},0,0,0,0,{"$f":"AK16*1+AL16*0.5+AM16*1","v":0},"",null,null,null,null,null,null,null,null,null,null,"x"]
[null,null,{"$f":"SUBTOTAL(3,$D$15:D17)","v":3},{"$f":"'Danh muc nhan vien'!E14","v":"Đặng Thành Tâm"},{"$f":"IFERROR(VLOOKUP(D17,'Danh muc nhan vien'!$E$12:$BY$42,2,0),\"\")","v":"KTT"},null,null,null,null,null,null,null,null,null,null,null,null,null,null,null,null,null,null,null,null,null,null,null,null,null,null,null,null,null,null,null,0,0,0,0,0,0,"",null,null,null,null,null,null,null,null,null,null,"x"]
[null,null,{"$f":"SUBTOTAL(3,$D$15:D18)","v":4},{"$f":"'Danh muc nhan vien'!E15","v":"Đoàn Văn Cường"},{"$f":"IFERROR(VLOOKUP(D18,'Danh muc nhan vien'!$E$12:$BY$42,2,0),\"\")","v":"TP Kinh Doanh"},null,null,null,null,null,null,null,null,null,null,null,null,null,null,null,null,null,null,null,null,null,null,null,null,null,null,null,null,null,null,null,0,0,0,0,0,0,"",null,null,null,null,null,null,null,null,null,null,"x"]
[null,null,{"$f":"SUBTOTAL(3,$D$15:D19)","v":5},{"$f":"'Danh muc nhan vien'!E16","v":"Hồ Phương Lanh"},{"$f":"IFERROR(VLOOKUP(D19,'Danh muc nhan vien'!$E$12:$BY$42,2,0),\"\")","v":"KT Tổng hợp"},null,null,null,null,null,null,null,null,null,null,null,null,null,null,null,null,null,null,null,null,null,null,null,null,null,null,null,null,null,null,null,0,0,0,0,0,0,"",null,null,null,null,null,null,null,null,null,null,"x"]
[null,null,{"$f":"SUBTOTAL(3,$D$15:D20)","v":6},{"$f":"'Danh muc nhan vien'!E17","v":"Huỳnh Tùng Lâm"},{"$f":"IFERROR(VLOOKUP(D20,'Danh muc nhan vien'!$E$12:$BY$42,2,0),\"\")","v":"KT Viên"},null,null,null,null,null,null,null,null,null,null,null,null,null,null,null,null,null,null,null,null,null,null,null,null,null,null,null,null,null,null,null,0,0,0,0,0,0,"Đã nghỉ",null,null,null,null,null,null,null,null,null,null,""]
[null,null,{"$f":"SUBTOTAL(3,$D$15:D21)","v":7},{"$f":"'Danh muc nhan vien'!E18","v":"Lê Đại Tài"},{"$f":"IFERROR(VLOOKUP(D21,'Danh muc nhan vien'!$E$12:$BY$42,2,0),\"\")","v":"KT Viên"},null,null,null,null,null,null,null,null,null,null,null,null,null,null,null,null,null,null,null,null,null,null,null,null,null,null,null,null,null,null,null,0,0,0,0,0,0,"",null,null,null,null,null,null,null,null,null,null,"x"]
[null,null,{"$f":"SUBTOTAL(3,$D$15:D22)","v":8},{"$f":"'Danh muc nhan vien'!E19","v":"Lâm Thị Cành"},{"$f":"IFERROR(VLOOKUP(D22,'Danh muc nhan vien'!$E$12:$BY$42,2,0),\"\")","v":"Nhân sự"},null,null,null,null,null,null,null,null,null,null,null,null,null,null,null,null,null,null,null,null,null,null,null,null,null,null,null,null,null,null,null,0,0,0,0,0,0,"",null,null,null,null,null,null,null,null,null,null,"x"]
[null,null,{"$f":"SUBTOTAL(3,$D$15:D23)","v":9},{"$f":"'Danh muc nhan vien'!E20","v":"Lê Đức Chinh"},{"$f":"IFERROR(VLOOKUP(D23,'Danh muc nhan vien'!$E$12:$BY$42,2,0),\"\")","v":"Hành chính"},null,null,null,null,null,null,null,null,null,null,null,null,null,null,null,null,null,null,null,null,null,null,null,null,null,null,null,null,null,null,null,0,0,0,0,0,0,"Đã nghỉ",null,null,null,null,null,null,null,null,null,null,""]
[null,null,{"$f":"SUBTOTAL(3,$D$15:D24)","v":10},{"$f":"'Danh muc nhan vien'!E21","v":"Lê Văn Liêm"},{"$f":"IFERROR(VLOOKUP(D24,'Danh muc nhan vien'!$E$12:$BY$42,2,0),\"\")","v":"Marketing"},null,null,null,null,null,null,null,null,null,null,null,null,null,null,null,null,null,null,null,null,null,null,null,null,null,null,null,null,null,null,null,0,0,0,0,0,0,"",null,null,null,null,null,null,null,null,null,null,"x"]
[null,null,{"$f":"SUBTOTAL(3,$D$15:D25)","v":11},{"$f":"'Danh muc nhan vien'!E22","v":"Nguyễn Chí Thanh"},{"$f":"IFERROR(VLOOKUP(D25,'Danh muc nhan vien'!$E$12:$BY$42,2,0),\"\")","v":"NV Kinh Doanh"},null,null,null,null,null,null,null,null,null,null,null,null,null,null,null,null,null,null,null,null,null,null,null,null,null,null,null,null,null,null,null,0,0,0,0,0,0,"",null,null,null,null,null,null,null,null,null,null,"x"]
[null,null,{"$f":"SUBTOTAL(3,$D$15:D26)","v":12},{"$f":"'Danh muc nhan vien'!E23","v":"Nguyễn Hoàng Tính"},{"$f":"IFERROR(VLOOKUP(D26,'Danh muc nhan vien'!$E$12:$BY$42,2,0),\"\")","v":"NV Kinh Doanh"},null,null,null,null,null,null,null,null,null,null,null,null,null,null,null,null,null,null,null,null,null,null,null,null,null,null,null,null,null,null,null,0,0,0,0,0,0,"Đã nghỉ",null,null,null,null,null,null,null,null,null,null,""]
[null,null,{"$f":"SUBTOTAL(3,$D$15:D27)","v":13},{"$f":"'Danh muc nhan vien'!E24","v":"Nguyễn Văn Hân"},{"$f":"IFERROR(VLOOKUP(D27,'Danh muc nhan vien'!$E$12:$BY$42,2,0),\"\")","v":"NV Kinh Doanh"},null,null,null,null,null,null,null,null,null,null,null,null,null,null,null,null,null,null,null,null,null,null,null,null,null,null,null,null,null,null,null,0,0,0,0,0,0,"",null,null,null,null,null,null,null,null,null,null,"x"]
[null,null,{"$f":"SUBTOTAL(3,$D$15:D28)","v":14},{"$f":"'Danh muc nhan vien'!E25","v":"Phạm Hoài An"},{"$f":"IFERROR(VLOOKUP(D28,'Danh muc nhan vien'!$E$12:$BY$42,2,0),\"\")","v":"NV Kinh Doanh"},null,null,null,null,null,null,null,null,null,null,null,null,null,null,null,null,null,null,null,null,null,null,null,null,null,null,null,null,null,null,null,0,0,0,0,0,0,"",null,null,null,null,null,null,null,null,null,null,"x"]
[null,null,{"$f":"SUBTOTAL(3,$D$15:D29)","v":15},{"$f":"'Danh muc nhan vien'!E26","v":0},{"$f":"IFERROR(VLOOKUP(D29,'Danh muc nhan vien'!$E$12:$BY$42,2,0),\"\")","v":""},null,null,null,null,null,null,null,null,null,null,null,null,null,null,null,null,null,null,null,null,null,null,null,null,null,null,null,null,null,null,null,0,0,0,0,0,0,"",null,null,null,null,null,null,null,null,null,null,{"$error":"#N/A"}]
[null,null,{"$f":"SUBTOTAL(3,$D$15:D30)","v":16},{"$f":"'Danh muc nhan vien'!E27","v":0},{"$f":"IFERROR(VLOOKUP(D30,'Danh muc nhan vien'!$E$12:$BY$42,2,0),\"\")","v":""},null,null,null,null,null,null,null,null,null,null,null,null,null,null,null,null,null,null,null,null,null,null,null,null,null,null,null,null,null,null,null,0,0,0,0,0,0,"",null,null,null,null,null,null,null,null,null,null,{"$error":"#N/A"}]
[null,null,{"$f":"SUBTOTAL(3,$D$15:D31)","v":17},{"$f":"'Danh muc nhan vien'!E28","v":0},{"$f":"IFERROR(VLOOKUP(D31,'Danh muc nhan vien'!$E$12:$BY$42,2,0),\"\")","v":""},null,null,null,null,null,null,null,null,null,null,null,null,null,null,null,null,null,null,null,null,null,null,null,null,null,null,null,null,null,null,null,0,0,0,0,0,0,"",null,null,null,null,null,null,null,null,null,null,{"$error":"#N/A"}]
[null,null,{"$f":"SUBTOTAL(3,$D$15:D32)","v":18},{"$f":"'Danh muc nhan vien'!E29","v":0},{"$f":"IFERROR(VLOOKUP(D32,'Danh muc nhan vien'!$E$12:$BY$42,2,0),\"\")","v":""},null,null,null,null,null,null,null,null,null,null,null,null,null,null,null,null,null,null,null,null,null,null,null,null,null,null,null,null,null,null,null,{"$f":"COUNTIF($F32:$AJ32,AK$13)","v":0},0,0,0,0,0,"",null,null,null,null,null,null,null,null,null,null,{"$error":"#N/A"}]
[null,null,{"$f":"SUBTOTAL(3,$D$15:D33)","v":19},{"$f":"'Danh muc nhan vien'!E30","v":0},{"$f":"IFERROR(VLOOKUP(D33,'Danh muc nhan vien'!$E$12:$BY$42,2,0),\"\")","v":""},null,null,null,null,null,null,null,null,null,null,null,null,null,null,null,null,null,null,null,null,null,null,null,null,null,null,null,null,null,null,null,0,0,0,0,0,0,"",null,null,null,null,null,null,null,null,null,null,{"$error":"#N/A"}]
[null,null,{"$f":"SUBTOTAL(3,$D$15:D34)","v":20},{"$f":"'Danh muc nhan vien'!E31","v":0},{"$f":"IFERROR(VLOOKUP(D34,'Danh muc nhan vien'!$E$12:$BY$42,2,0),\"\")","v":""},null,null,null,null,null,null,null,null,null,null,null,null,null,null,null,null,null,null,null,null,null,null,null,null,null,null,null,null,null,null,null,0,0,0,0,0,0,"",null,null,null,null,null,null,null,null,null,null,{"$error":"#N/A"}]
[null,null,{"$f":"SUBTOTAL(3,$D$15:D35)","v":21},{"$f":"'Danh muc nhan vien'!E32","v":0},{"$f":"IFERROR(VLOOKUP(D35,'Danh muc nhan vien'!$E$12:$BY$42,2,0),\"\")","v":""},null,null,null,null,null,null,null,null,null,null,null,null,null,null,null,null,null,null,null,null,null,null,null,null,null,null,null,null,null,null,null,0,0,0,0,0,0,"",null,null,null,null,null,null,null,null,null,null,{"$error":"#N/A"}]
[null,null,{"$f":"SUBTOTAL(3,$D$15:D36)","v":22},{"$f":"'Danh muc nhan vien'!E33","v":0},{"$f":"IFERROR(VLOOKUP(D36,'Danh muc nhan vien'!$E$12:$BY$42,2,0),\"\")","v":""},null,null,null,null,null,null,null,null,null,null,null,null,null,null,null,null,null,null,null,null,null,null,null,null,null,null,null,null,null,null,null,0,0,0,0,0,0,"",null,null,null,null,null,null,null,null,null,null,{"$error":"#N/A"}]
[null,null,{"$f":"SUBTOTAL(3,$D$15:D37)","v":23},{"$f":"'Danh muc nhan vien'!E34","v":0},{"$f":"IFERROR(VLOOKUP(D37,'Danh muc nhan vien'!$E$12:$BY$42,2,0),\"\")","v":""},null,null,null,null,null,null,null,null,null,null,null,null,null,null,null,null,null,null,null,null,null,null,null,null,null,null,null,null,null,null,null,0,0,0,0,0,0,"",null,null,null,null,null,null,null,null,null,null,{"$error":"#N/A"}]
[null,null,{"$f":"SUBTOTAL(3,$D$15:D38)","v":24},{"$f":"'Danh muc nhan vien'!E35","v":0},{"$f":"IFERROR(VLOOKUP(D38,'Danh muc nhan vien'!$E$12:$BY$42,2,0),\"\")","v":""},null,null,null,null,null,null,null,null,null,null,null,null,null,null,null,null,null,null,null,null,null,null,null,null,null,null,null,null,null,null,null,0,0,0,0,0,0,"",null,null,null,null,null,null,null,null,null,null,{"$error":"#N/A"}]
[null,null,{"$f":"SUBTOTAL(3,$D$15:D39)","v":25},{"$f":"'Danh muc nhan vien'!E36","v":0},{"$f":"IFERROR(VLOOKUP(D39,'Danh muc nhan vien'!$E$12:$BY$42,2,0),\"\")","v":""},null,null,null,null,null,null,null,null,null,null,null,null,null,null,null,null,null,null,null,null,null,null,null,null,null,null,null,null,null,null,null,0,0,0,0,0,0,"",null,null,null,null,null,null,null,null,null,null,{"$error":"#N/A"}]
[null,null,{"$f":"SUBTOTAL(3,$D$15:D40)","v":26},{"$f":"'Danh muc nhan vien'!E37","v":0},{"$f":"IFERROR(VLOOKUP(D40,'Danh muc nhan vien'!$E$12:$BY$42,2,0),\"\")","v":""},null,null,null,null,null,null,null,null,null,null,null,null,null,null,null,null,null,null,null,null,null,null,null,null,null,null,null,null,null,null,null,0,0,0,0,0,0,"",null,null,null,null,null,null,null,null,null,null,{"$error":"#N/A"}]
[null,null,{"$f":"SUBTOTAL(3,$D$15:D41)","v":27},{"$f":"'Danh muc nhan vien'!E38","v":0},{"$f":"IFERROR(VLOOKUP(D41,'Danh muc nhan vien'!$E$12:$BY$42,2,0),\"\")","v":""},null,null,null,null,null,null,null,null,null,null,null,null,null,null,null,null,null,null,null,null,null,null,null,null,null,null,null,null,null,null,null,0,0,0,0,0,0,"",null,null,null,null,null,null,null,null,null,null,{"$error":"#N/A"}]
[null,null,{"$f":"SUBTOTAL(3,$D$15:D42)","v":28},{"$f":"'Danh muc nhan vien'!E39","v":0},{"$f":"IFERROR(VLOOKUP(D42,'Danh muc nhan vien'!$E$12:$BY$42,2,0),\"\")","v":""},null,null,null,null,null,null,null,null,null,null,null,null,null,null,null,null,null,null,null,null,null,null,null,null,null,null,null,null,null,null,null,0,0,0,0,0,0,"",null,null,null,null,null,null,null,null,null,null,{"$error":"#N/A"}]
[null,null,{"$f":"SUBTOTAL(3,$D$15:D43)","v":29},{"$f":"'Danh muc nhan vien'!E40","v":0},{"$f":"IFERROR(VLOOKUP(D43,'Danh muc nhan vien'!$E$12:$BY$42,2,0),\"\")","v":""},null,null,null,null,null,null,null,null,null,null,null,null,null,null,null,null,null,null,null,null,null,null,null,null,null,null,null,null,null,null,null,0,0,0,0,0,0,"",null,null,null,null,null,null,null,null,null,null,{"$error":"#N/A"}]
[null,null,{"$f":"SUBTOTAL(3,$D$15:D44)","v":30},{"$f":"'Danh muc nhan vien'!E41","v":0},{"$f":"IFERROR(VLOOKUP(D44,'Danh muc nhan vien'!$E$12:$BY$42,2,0),\"\")","v":""},null,null,null,null,null,null,null,null,null,null,null,null,null,null,null,null,null,null,null,null,null,null,null,null,null,null,null,null,null,null,null,0,0,0,0,0,0,"",null,null,null,null,null,null,null,null,null,null,{"$error":"#N/A"}]
[]
[null,null,".",".",".",".",".",".",".",".",".",".",".",".",".",".",".",".",".",".",".",".",".",".",".",".",".",".",".",".",".",".",".",".",".",".",".",".",".",".",".",".","."]
[]
[null,null,null,null,null,null,null,null,null,null,null,null,null,null,null,null,null,null,null,null,null,null,null,null,null,null,null,null,null,null,null,null,null,{"$f":"\"Ngày …….. Tháng …….. Năm \"&year","v":"Ngày …….. Tháng …….. Năm 2021"}]
[null,null,null,"NGƯỜI CHẤM CÔNG",null,null,null,null,null,null,null,null,null,null,null,null,null,null,null,"PHỤ TRÁCH BỘ PHẬN",null,null,null,null,null,null,null,null,null,null,null,null,null,"THỦ TRƯỞNG ĐƠN VỊ"]
[null,null,null,"(Ký tên)",null,null,null,null,null,null,null,null,null,null,null,null,null,null,null,"(Ký tên)",null,null,null,null,null,null,null,null,null,null,null,null,null,"(Ký tên)"]
[]
[]
[]
[]
[null,null,null,{"$f":"Chamcong","v":"Vũ Trình B"},null,null,null,null,null,null,null,null,null,null,null,null,null,null,null,{"$f":"phutrach","v":"Nguyễn Linh A"},null,null,null,null,null,null,null,null,null,null,null,null,null,{"$f":"Giamdoc","v":"Mr. Trường"}]

{"sheet":"T2","index":4,"n_rows":55,"n_cols":88,"rows_kept":55,"cut":false,"hidden":false,"merged":[[9,5,9,35],[4,53,4,61],[5,2,5,3],[5,7,5,9],[5,10,5,12],[8,5,8,35],[5,38,5,42],[8,2,9,4],[54,33,54,42],[11,2,13,2],[11,3,13,3],[11,4,13,4],[11,5,11,35],[11,36,11,41],[11,42,13,42],[12,36,13,36],[12,37,13,37],[12,38,13,38],[12,39,13,39],[12,40,13,40],[12,41,13,41],[47,33,47,42],[48,33,48,42],[49,33,49,42]]}
[]
[]
[]
[]
[]
[null,null,"Số ngày làm việc:",null,{"$f":"VLOOKUP(m.feb,ngaycong,2,0)","v":24},null,null,"<<",null,null,">>",null,null,null,null,null,null,null,null,null,null,null,null,null,null,null,null,null,null,null,null,null,null,null,null,null,true,null,{"$f":"DATEVALUE(\"1/2/\"&year)","v":"2021-01-02"}]
[]
[null,null,{"$f":"Setup!F10","v":"Công ty TNHH Webkynang Việt Nam"},null,null,null,null,null,null,null,null,null,null,null,null,null,null,null,null,null,null,null,null,null,null,null,null,null,null,null,null,null,null,null,null,null,null,null,null,null,null,null,null,null,null,null,null,null,null,null,null,null,null,null,null,null,null,null,null,null,null,null,null,null,null,null,null,null,null,null,null,null,null,null,null,null,null,null,null,null,null,null,null,null,null,null,null,{"$f":"VALUE(MID(F10,8,1))","v":2}]
[null,null,{"$f":"Setup!D11&\" \"&Setup!F11","v":"Địa chỉ: Tầng 6, Tòa nhà Sannam, Duy Tân, Cầu Giấy, Hà Nội"},null,null,"BẢNG CHẤM CÔNG"]
[null,null,null,null,null,{"$f":"\"Tháng 2 năm \"&year","v":"Tháng 2 năm 2021"}]
[null,null,null,null,null,null,{"$f":"F13+1","v":"2021-02-02"},{"$f":"G11+1","v":"2021-02-03"},{"$f":"H11+1","v":"2021-02-04"},"2021-02-05","2021-02-06","2021-02-07","2021-02-08","2021-02-09","2021-02-10","2021-02-11","2021-02-12","2021-02-13","2021-02-14","2021-02-15","2021-02-16","2021-02-17","2021-02-18","2021-02-19","2021-02-20","2021-02-21","2021-02-22","2021-02-23","2021-02-24","2021-02-25","2021-02-26","2021-02-27","2021-02-28","2021-03-01","2021-03-02","2021-03-03"]
[null,null,"SỐ TT","HỌ VÀ TÊN","CHỨC VỤ","NGÀY TRONG THÁNG/ THỨ TRONG TUẦN",null,null,null,null,null,null,null,null,null,null,null,null,null,null,null,null,null,null,null,null,null,null,null,null,null,null,null,null,null,null,"TỔNG",null,null,null,null,null,"GHI CHÚ"]
[null,null,null,null,null,{"$f":"DATE(year,m.feb,1)","v":"2021-02-01"},{"$f":"IF(MONTH(G11)>m.feb,\"\",G11)","v":"2021-02-02"},"2021-02-03","2021-02-04","2021-02-05","2021-02-06","2021-02-07","2021-02-08","2021-02-09","2021-02-10","2021-02-11","2021-02-12","2021-02-13","2021-02-14","2021-02-15","2021-02-16","2021-02-17","2021-02-18","2021-02-19","2021-02-20","2021-02-21","2021-02-22","2021-02-23","2021-02-24","2021-02-25","2021-02-26","2021-02-27","2021-02-28","","","",{"$f":"macong1","v":"x"},{"$f":"macong2","v":"x2"},{"$f":"macong3","v":"NC"},{"$f":"macong4","v":"NO"},{"$f":"macong5","v":"00:00:00"},"Tổng"]
[null,null,null,null,null,{"$f":"IF(F13=\"\",\"\",CHOOSE(WEEKDAY(F13),\"C.Nhật\",\"T.Hai\",\"T.Ba\",\"T.Tư\",\"T.Năm\",\"T.Sáu\",\"T.Bảy\"))","v":"T.Hai"},{"$f":"IF(G13=\"\",\"\",CHOOSE(WEEKDAY(G13),\"C.Nhật\",\"T.Hai\",\"T.Ba\",\"T.Tư\",\"T.Năm\",\"T.Sáu\",\"T.Bảy\"))","v":"T.Ba"},"T.Tư","T.Năm","T.Sáu","T.Bảy","C.Nhật","T.Hai","T.Ba","T.Tư","T.Năm","T.Sáu","T.Bảy","C.Nhật","T.Hai","T.Ba","T.Tư","T.Năm","T.Sáu","T.Bảy","C.Nhật","T.Hai","T.Ba","T.Tư","T.Năm","T.Sáu","T.Bảy","C.Nhật",{"$f":"IF(AH13=\"\",\"\",CHOOSE(WEEKDAY(AH13),\"C.Nhật\",\"T.Hai\",\"T.Ba\",\"T.Tư\",\"T.Năm\",\"T.Sáu\",\"T.Bảy\"))","v":""},{"$f":"IF(AI13=\"\",\"\",CHOOSE(WEEKDAY(AI13),\"C.Nhật\",\"T.Hai\",\"T.Ba\",\"T.Tư\",\"T.Năm\",\"T.Sáu\",\"T.Bảy\"))","v":""},""]
[null,null,{"$f":"SUBTOTAL(3,$D$15:D15)","v":1},{"$f":"'Danh muc nhan vien'!E12","v":"Trần Văn Tám"},{"$f":"IFERROR(VLOOKUP(D15,'Danh muc nhan vien'!$E$12:$BY$42,2,0),\"\")","v":"Giám Đốc"},null,null,null,null,null,null,null,null,null,null,null,null,null,null,null,null,null,null,null,null,null,null,null,null,null,null,null,null,null,null,null,{"$f":"COUNTIF($F15:$AJ15,AK$13)","v":0},{"$f":"COUNTIF($F15:$AJ15,AL$13)","v":0},0,0,0,{"$f":"AK15*1+AL15*0.5+AM15*1","v":0},{"$f":"IF(E15=\"\",\"\",IF(OR(VLOOKUP(D15,DSNV,5,0)<1,VLOOKUP(D15,DSNV,5,0)>eomonth2),\"\",\"Đã nghỉ\"))","v":""},null,null,null,null,null,null,null,null,null,null,{"$f":"IF(AND(VLOOKUP(D15,DSNV,5,0)>1,$F$13>VLOOKUP(D15,DSNV,5,0)),\"\",IF(SUM(AK15:AP15)<$E$6,\"x\",\"\"))","v":"x"}]
[null,null,{"$f":"SUBTOTAL(3,$D$15:D16)","v":2},{"$f":"'Danh muc nhan vien'!E13","v":"Đặng Văn Thành"},{"$f":"IFERROR(VLOOKUP(D16,'Danh muc nhan vien'!$E$12:$BY$42,2,0),\"\")","v":"Phó GĐ"},null,null,null,null,null,null,null,null,null,null,null,null,null,null,null,null,null,null,null,null,null,null,null,null,null,null,null,null,null,null,null,{"$f":"COUNTIF($F16:$AJ16,AK$13)","v":0},0,0,0,0,{"$f":"AK16*1+AL16*0.5+AM16*1","v":0},"",null,null,null,null,null,null,null,null,null,null,"x"]
[null,null,{"$f":"SUBTOTAL(3,$D$15:D17)","v":3},{"$f":"'Danh muc nhan vien'!E14","v":"Đặng Thành Tâm"},{"$f":"IFERROR(VLOOKUP(D17,'Danh muc nhan vien'!$E$12:$BY$42,2,0),\"\")","v":"KTT"},null,null,null,null,null,null,null,null,null,null,null,null,null,null,null,null,null,null,null,null,null,null,null,null,null,null,null,null,null,null,null,0,0,0,0,0,0,"",null,null,null,null,null,null,null,null,null,null,"x"]
[null,null,{"$f":"SUBTOTAL(3,$D$15:D18)","v":4},{"$f":"'Danh muc nhan vien'!E15","v":"Đoàn Văn Cường"},{"$f":"IFERROR(VLOOKUP(D18,'Danh muc nhan vien'!$E$12:$BY$42,2,0),\"\")","v":"TP Kinh Doanh"},null,null,null,null,null,null,null,null,null,null,null,null,null,null,null,null,null,null,null,null,null,null,null,null,null,null,null,null,null,null,null,0,0,0,0,0,0,"",null,null,null,null,null,null,null,null,null,null,"x"]
[null,null,{"$f":"SUBTOTAL(3,$D$15:D19)","v":5},{"$f":"'Danh muc nhan vien'!E16","v":"Hồ Phương Lanh"},{"$f":"IFERROR(VLOOKUP(D19,'Danh muc nhan vien'!$E$12:$BY$42,2,0),\"\")","v":"KT Tổng hợp"},null,null,null,null,null,null,null,null,null,null,null,null,null,null,null,null,null,null,null,null,null,null,null,null,null,null,null,null,null,null,null,0,0,0,0,0,0,"",null,null,null,null,null,null,null,null,null,null,"x"]
[null,null,{"$f":"SUBTOTAL(3,$D$15:D20)","v":6},{"$f":"'Danh muc nhan vien'!E17","v":"Huỳnh Tùng Lâm"},{"$f":"IFERROR(VLOOKUP(D20,'Danh muc nhan vien'!$E$12:$BY$42,2,0),\"\")","v":"KT Viên"},null,null,null,null,null,null,null,null,null,null,null,null,null,null,null,null,null,null,null,null,null,null,null,null,null,null,null,null,null,null,null,0,0,0,0,0,0,"Đã nghỉ",null,null,null,null,null,null,null,null,null,null,""]
[null,null,{"$f":"SUBTOTAL(3,$D$15:D21)","v":7},{"$f":"'Danh muc nhan vien'!E18","v":"Lê Đại Tài"},{"$f":"IFERROR(VLOOKUP(D21,'Danh muc nhan vien'!$E$12:$BY$42,2,0),\"\")","v":"KT Viên"},null,null,null,null,null,null,null,null,null,null,null,null,null,null,null,null,null,null,null,null,null,null,null,null,null,null,null,null,null,null,null,0,0,0,0,0,0,"",null,null,null,null,null,null,null,null,null,null,"x"]
[null,null,{"$f":"SUBTOTAL(3,$D$15:D22)","v":8},{"$f":"'Danh muc nhan vien'!E19","v":"Lâm Thị Cành"},{"$f":"IFERROR(VLOOKUP(D22,'Danh muc nhan vien'!$E$12:$BY$42,2,0),\"\")","v":"Nhân sự"},null,null,null,null,null,null,null,null,null,null,null,null,null,null,null,null,null,null,null,null,null,null,null,null,null,null,null,null,null,null,null,0,0,0,0,0,0,"",null,null,null,null,null,null,null,null,null,null,"x"]
[null,null,{"$f":"SUBTOTAL(3,$D$15:D23)","v":9},{"$f":"'Danh muc nhan vien'!E20","v":"Lê Đức Chinh"},{"$f":"IFERROR(VLOOKUP(D23,'Danh muc nhan vien'!$E$12:$BY$42,2,0),\"\")","v":"Hành chính"},null,null,null,null,null,null,null,null,null,null,null,null,null,null,null,null,null,null,null,null,null,null,null,null,null,null,null,null,null,null,null,0,0,0,0,0,0,"Đã nghỉ",null,null,null,null,null,null,null,null,null,null,""]
[null,null,{"$f":"SUBTOTAL(3,$D$15:D24)","v":10},{"$f":"'Danh muc nhan vien'!E21","v":"Lê Văn Liêm"},{"$f":"IFERROR(VLOOKUP(D24,'Danh muc nhan vien'!$E$12:$BY$42,2,0),\"\")","v":"Marketing"},null,null,null,null,null,null,null,null,null,null,null,null,null,null,null,null,null,null,null,null,null,null,null,null,null,null,null,null,null,null,null,0,0,0,0,0,0,"",null,null,null,null,null,null,null,null,null,null,"x"]
[null,null,{"$f":"SUBTOTAL(3,$D$15:D25)","v":11},{"$f":"'Danh muc nhan vien'!E22","v":"Nguyễn Chí Thanh"},{"$f":"IFERROR(VLOOKUP(D25,'Danh muc nhan vien'!$E$12:$BY$42,2,0),\"\")","v":"NV Kinh Doanh"},null,null,null,null,null,null,null,null,null,null,null,null,null,null,null,null,null,null,null,null,null,null,null,null,null,null,null,null,null,null,null,0,0,0,0,0,0,"",null,null,null,null,null,null,null,null,null,null,"x"]
[null,null,{"$f":"SUBTOTAL(3,$D$15:D26)","v":12},{"$f":"'Danh muc nhan vien'!E23","v":"Nguyễn Hoàng Tính"},{"$f":"IFERROR(VLOOKUP(D26,'Danh muc nhan vien'!$E$12:$BY$42,2,0),\"\")","v":"NV Kinh Doanh"},null,null,null,null,null,null,null,null,null,null,null,null,null,null,null,null,null,null,null,null,null,null,null,null,null,null,null,null,null,null,null,0,0,0,0,0,0,"Đã nghỉ",null,null,null,null,null,null,null,null,null,null,""]
[null,null,{"$f":"SUBTOTAL(3,$D$15:D27)","v":13},{"$f":"'Danh muc nhan vien'!E24","v":"Nguyễn Văn Hân"},{"$f":"IFERROR(VLOOKUP(D27,'Danh muc nhan vien'!$E$12:$BY$42,2,0),\"\")","v":"NV Kinh Doanh"},null,null,null,null,null,null,null,null,null,null,null,null,null,null,null,null,null,null,null,null,null,null,null,null,null,null,null,null,null,null,null,0,0,0,0,0,0,"",null,null,null,null,null,null,null,null,null,null,"x"]
[null,null,{"$f":"SUBTOTAL(3,$D$15:D28)","v":14},{"$f":"'Danh muc nhan vien'!E25","v":"Phạm Hoài An"},{"$f":"IFERROR(VLOOKUP(D28,'Danh muc nhan vien'!$E$12:$BY$42,2,0),\"\")","v":"NV Kinh Doanh"},null,null,null,null,null,null,null,null,null,null,null,null,null,null,null,null,null,null,null,null,null,null,null,null,null,null,null,null,null,null,null,0,0,0,0,0,0,"",null,null,null,null,null,null,null,null,null,null,"x"]
[null,null,{"$f":"SUBTOTAL(3,$D$15:D29)","v":15},{"$f":"'Danh muc nhan vien'!E26","v":0},{"$f":"IFERROR(VLOOKUP(D29,'Danh muc nhan vien'!$E$12:$BY$42,2,0),\"\")","v":""},null,null,null,null,null,null,null,null,null,null,null,null,null,null,null,null,null,null,null,null,null,null,null,null,null,null,null,null,null,null,null,0,0,0,0,0,0,"",null,null,null,null,null,null,null,null,null,null,{"$error":"#N/A"}]
[null,null,{"$f":"SUBTOTAL(3,$D$15:D30)","v":16},{"$f":"'Danh muc nhan vien'!E27","v":0},{"$f":"IFERROR(VLOOKUP(D30,'Danh muc nhan vien'!$E$12:$BY$42,2,0),\"\")","v":""},null,null,null,null,null,null,null,null,null,null,null,null,null,null,null,null,null,null,null,null,null,null,null,null,null,null,null,null,null,null,null,0,0,0,0,0,0,"",null,null,null,null,null,null,null,null,null,null,{"$error":"#N/A"}]
[null,null,{"$f":"SUBTOTAL(3,$D$15:D31)","v":17},{"$f":"'Danh muc nhan vien'!E28","v":0},{"$f":"IFERROR(VLOOKUP(D31,'Danh muc nhan vien'!$E$12:$BY$42,2,0),\"\")","v":""},null,null,null,null,null,null,null,null,null,null,null,null,null,null,null,null,null,null,null,null,null,null,null,null,null,null,null,null,null,null,null,0,0,0,0,0,0,"",null,null,null,null,null,null,null,null,null,null,{"$error":"#N/A"}]
[null,null,{"$f":"SUBTOTAL(3,$D$15:D32)","v":18},{"$f":"'Danh muc nhan vien'!E29","v":0},{"$f":"IFERROR(VLOOKUP(D32,'Danh muc nhan vien'!$E$12:$BY$42,2,0),\"\")","v":""},null,null,null,null,null,null,null,null,null,null,null,null,null,null,null,null,null,null,null,null,null,null,null,null,null,null,null,null,null,null,null,{"$f":"COUNTIF($F32:$AJ32,AK$13)","v":0},0,0,0,0,0,"",null,null,null,null,null,null,null,null,null,null,{"$error":"#N/A"}]
[null,null,{"$f":"SUBTOTAL(3,$D$15:D33)","v":19},{"$f":"'Danh muc nhan vien'!E30","v":0},{"$f":"IFERROR(VLOOKUP(D33,'Danh muc nhan vien'!$E$12:$BY$42,2,0),\"\")","v":""},null,null,null,null,null,null,null,null,null,null,null,null,null,null,null,null,null,null,null,null,null,null,null,null,null,null,null,null,null,null,null,0,0,0,0,0,0,"",null,null,null,null,null,null,null,null,null,null,{"$error":"#N/A"}]
[null,null,{"$f":"SUBTOTAL(3,$D$15:D34)","v":20},{"$f":"'Danh muc nhan vien'!E31","v":0},{"$f":"IFERROR(VLOOKUP(D34,'Danh muc nhan vien'!$E$12:$BY$42,2,0),\"\")","v":""},null,null,null,null,null,null,null,null,null,null,null,null,null,null,null,null,null,null,null,null,null,null,null,null,null,null,null,null,null,null,null,0,0,0,0,0,0,"",null,null,null,null,null,null,null,null,null,null,{"$error":"#N/A"}]
[null,null,{"$f":"SUBTOTAL(3,$D$15:D35)","v":21},{"$f":"'Danh muc nhan vien'!E32","v":0},{"$f":"IFERROR(VLOOKUP(D35,'Danh muc nhan vien'!$E$12:$BY$42,2,0),\"\")","v":""},null,null,null,null,null,null,null,null,null,null,null,null,null,null,null,null,null,null,null,null,null,null,null,null,null,null,null,null,null,null,null,0,0,0,0,0,0,"",null,null,null,null,null,null,null,null,null,null,{"$error":"#N/A"}]
[null,null,{"$f":"SUBTOTAL(3,$D$15:D36)","v":22},{"$f":"'Danh muc nhan vien'!E33","v":0},{"$f":"IFERROR(VLOOKUP(D36,'Danh muc nhan vien'!$E$12:$BY$42,2,0),\"\")","v":""},null,null,null,null,null,null,null,null,null,null,null,null,null,null,null,null,null,null,null,null,null,null,null,null,null,null,null,null,null,null,null,0,0,0,0,0,0,"",null,null,null,null,null,null,null,null,null,null,{"$error":"#N/A"}]
[null,null,{"$f":"SUBTOTAL(3,$D$15:D37)","v":23},{"$f":"'Danh muc nhan vien'!E34","v":0},{"$f":"IFERROR(VLOOKUP(D37,'Danh muc nhan vien'!$E$12:$BY$42,2,0),\"\")","v":""},null,null,null,null,null,null,null,null,null,null,null,null,null,null,null,null,null,null,null,null,null,null,null,null,null,null,null,null,null,null,null,0,0,0,0,0,0,"",null,null,null,null,null,null,null,null,null,null,{"$error":"#N/A"}]
[null,null,{"$f":"SUBTOTAL(3,$D$15:D38)","v":24},{"$f":"'Danh muc nhan vien'!E35","v":0},{"$f":"IFERROR(VLOOKUP(D38,'Danh muc nhan vien'!$E$12:$BY$42,2,0),\"\")","v":""},null,null,null,null,null,null,null,null,null,null,null,null,null,null,null,null,null,null,null,null,null,null,null,null,null,null,null,null,null,null,null,0,0,0,0,0,0,"",null,null,null,null,null,null,null,null,null,null,{"$error":"#N/A"}]
[null,null,{"$f":"SUBTOTAL(3,$D$15:D39)","v":25},{"$f":"'Danh muc nhan vien'!E36","v":0},{"$f":"IFERROR(VLOOKUP(D39,'Danh muc nhan vien'!$E$12:$BY$42,2,0),\"\")","v":""},null,null,null,null,null,null,null,null,null,null,null,null,null,null,null,null,null,null,null,null,null,null,null,null,null,null,null,null,null,null,null,0,0,0,0,0,0,"",null,null,null,null,null,null,null,null,null,null,{"$error":"#N/A"}]
[null,null,{"$f":"SUBTOTAL(3,$D$15:D40)","v":26},{"$f":"'Danh muc nhan vien'!E37","v":0},{"$f":"IFERROR(VLOOKUP(D40,'Danh muc nhan vien'!$E$12:$BY$42,2,0),\"\")","v":""},null,null,null,null,null,null,null,null,null,null,null,null,null,null,null,null,null,null,null,null,null,null,null,null,null,null,null,null,null,null,null,0,0,0,0,0,0,"",null,null,null,null,null,null,null,null,null,null,{"$error":"#N/A"}]
[null,null,{"$f":"SUBTOTAL(3,$D$15:D41)","v":27},{"$f":"'Danh muc nhan vien'!E38","v":0},{"$f":"IFERROR(VLOOKUP(D41,'Danh muc nhan vien'!$E$12:$BY$42,2,0),\"\")","v":""},null,null,null,null,null,null,null,null,null,null,null,null,null,null,null,null,null,null,null,null,null,null,null,null,null,null,null,null,null,null,null,0,0,0,0,0,0,"",null,null,null,null,null,null,null,null,null,null,{"$error":"#N/A"}]
[null,null,{"$f":"SUBTOTAL(3,$D$15:D42)","v":28},{"$f":"'Danh muc nhan vien'!E39","v":0},{"$f":"IFERROR(VLOOKUP(D42,'Danh muc nhan vien'!$E$12:$BY$42,2,0),\"\")","v":""},null,null,null,null,null,null,null,null,null,null,null,null,null,null,null,null,null,null,null,null,null,null,null,null,null,null,null,null,null,null,null,0,0,0,0,0,0,"",null,null,null,null,null,null,null,null,null,null,{"$error":"#N/A"}]
[null,null,{"$f":"SUBTOTAL(3,$D$15:D43)","v":29},{"$f":"'Danh muc nhan vien'!E40","v":0},{"$f":"IFERROR(VLOOKUP(D43,'Danh muc nhan vien'!$E$12:$BY$42,2,0),\"\")","v":""},null,null,null,null,null,null,null,null,null,null,null,null,null,null,null,null,null,null,null,null,null,null,null,null,null,null,null,null,null,null,null,0,0,0,0,0,0,"",null,null,null,null,null,null,null,null,null,null,{"$error":"#N/A"}]
[null,null,{"$f":"SUBTOTAL(3,$D$15:D44)","v":30},{"$f":"'Danh muc nhan vien'!E41","v":0},{"$f":"IFERROR(VLOOKUP(D44,'Danh muc nhan vien'!$E$12:$BY$42,2,0),\"\")","v":""},null,null,null,null,null,null,null,null,null,null,null,null,null,null,null,null,null,null,null,null,null,null,null,null,null,null,null,null,null,null,null,0,0,0,0,0,0,"",null,null,null,null,null,null,null,null,null,null,{"$error":"#N/A"}]
[]
[null,null,".",".",".",null,null,null,null,null,null,null,null,null,null,null,null,null,null,null,null,null,null,null,null,null,null,null,null,null,null,null,null,null,null,null,".",".",".",".",".",".","."]
[]
[null,null,null,null,null,null,null,null,null,null,null,null,null,null,null,null,null,null,null,null,null,null,null,null,null,null,null,null,null,null,null,null,null,{"$f":"\"Ngày …….. Tháng …….. Năm \"&year","v":"Ngày …….. Tháng …….. Năm 2021"}]
[null,null,null,"NGƯỜI CHẤM CÔNG",null,null,null,null,null,null,null,null,null,null,null,null,null,null,null,"PHỤ TRÁCH BỘ PHẬN",null,null,null,null,null,null,null,null,null,null,null,null,null,"THỦ TRƯỞNG ĐƠN VỊ"]
[null,null,null,"(Ký tên)",null,null,null,null,null,null,null,null,null,null,null,null,null,null,null,"(Ký tên)",null,null,null,null,null,null,null,null,null,null,null,null,null,"(Ký tên)"]
[]
[]
[]
[]
[null,null,null,{"$f":"Chamcong","v":"Vũ Trình B"},null,null,null,null,null,null,null,null,null,null,null,null,null,null,null,{"$f":"phutrach","v":"Nguyễn Linh A"},null,null,null,null,null,null,null,null,null,null,null,null,null,{"$f":"Giamdoc","v":"Mr. Trường"}]

{"sheet":"T3","index":5,"n_rows":55,"n_cols":88,"rows_kept":55,"cut":false,"hidden":false,"merged":[[9,5,9,35],[4,53,4,61],[5,2,5,3],[5,7,5,9],[5,10,5,12],[8,5,8,35],[5,37,5,41],[8,2,9,4],[54,33,54,42],[11,2,13,2],[11,3,13,3],[11,4,13,4],[11,5,11,35],[11,36,11,41],[11,42,13,42],[12,36,13,36],[12,37,13,37],[12,38,13,38],[12,39,13,39],[12,40,13,40],[12,41,13,41],[47,33,47,42],[48,33,48,42],[49,33,49,42]]}
[]
[]
[]
[]
[]
[null,null,"Số ngày làm việc:",null,{"$f":"VLOOKUP(m.mar,ngaycong,2,0)","v":26},null,null,"<<",null,null,">>",null,null,null,null,null,null,null,null,null,null,null,null,null,null,null,null,null,null,null,null,null,null,null,null,null,false,{"$f":"DATEVALUE(\"1/3/\"&year)","v":"2021-01-03"}]
[]
[null,null,{"$f":"Setup!F10","v":"Công ty TNHH Webkynang Việt Nam"},null,null,null,null,null,null,null,null,null,null,null,null,null,null,null,null,null,null,null,null,null,null,null,null,null,null,null,null,null,null,null,null,null,null,null,null,null,null,null,null,null,null,null,null,null,null,null,null,null,null,null,null,null,null,null,null,null,null,null,null,null,null,null,null,null,null,null,null,null,null,null,null,null,null,null,null,null,null,null,null,null,null,null,null,{"$f":"VALUE(MID(F10,8,1))","v":3}]
[null,null,{"$f":"Setup!D11&\" \"&Setup!F11","v":"Địa chỉ: Tầng 6, Tòa nhà Sannam, Duy Tân, Cầu Giấy, Hà Nội"},null,null,"BẢNG CHẤM CÔNG"]
[null,null,null,null,null,{"$f":"\"Tháng 3 năm \"&year","v":"Tháng 3 năm 2021"}]
[null,null,null,null,null,null,{"$f":"F13+1","v":"2021-03-02"},{"$f":"G11+1","v":"2021-03-03"},{"$f":"H11+1","v":"2021-03-04"},"2021-03-05","2021-03-06","2021-03-07","2021-03-08","2021-03-09","2021-03-10","2021-03-11","2021-03-12","2021-03-13","2021-03-14","2021-03-15","2021-03-16","2021-03-17","2021-03-18","2021-03-19","2021-03-20","2021-03-21","2021-03-22","2021-03-23","2021-03-24","2021-03-25","2021-03-26","2021-03-27","2021-03-28","2021-03-29","2021-03-30","2021-03-31"]
[null,null,"SỐ TT","HỌ VÀ TÊN","CHỨC VỤ","NGÀY TRONG THÁNG/ THỨ TRONG TUẦN",null,null,null,null,null,null,null,null,null,null,null,null,null,null,null,null,null,null,null,null,null,null,null,null,null,null,null,null,null,null,"TỔNG",null,null,null,null,null,"GHI CHÚ"]
[null,null,null,null,null,{"$f":"DATE(year,m.mar,1)","v":"2021-03-01"},{"$f":"IF(MONTH(G11)>m.mar,\"\",G11)","v":"2021-03-02"},"2021-03-03","2021-03-04","2021-03-05","2021-03-06","2021-03-07","2021-03-08","2021-03-09","2021-03-10","2021-03-11","2021-03-12","2021-03-13","2021-03-14","2021-03-15","2021-03-16","2021-03-17","2021-03-18","2021-03-19","2021-03-20","2021-03-21","2021-03-22","2021-03-23","2021-03-24","2021-03-25","2021-03-26","2021-03-27","2021-03-28","2021-03-29","2021-03-30","2021-03-31",{"$f":"macong1","v":"x"},{"$f":"macong2","v":"x2"},{"$f":"macong3","v":"NC"},{"$f":"macong4","v":"NO"},{"$f":"macong5","v":"00:00:00"},"Tổng"]
[null,null,null,null,null,{"$f":"IF(F13=\"\",\"\",CHOOSE(WEEKDAY(F13),\"C.Nhật\",\"T.Hai\",\"T.Ba\",\"T.Tư\",\"T.Năm\",\"T.Sáu\",\"T.Bảy\"))","v":"T.Hai"},{"$f":"IF(G13=\"\",\"\",CHOOSE(WEEKDAY(G13),\"C.Nhật\",\"T.Hai\",\"T.Ba\",\"T.Tư\",\"T.Năm\",\"T.Sáu\",\"T.Bảy\"))","v":"T.Ba"},"T.Tư","T.Năm","T.Sáu","T.Bảy","C.Nhật","T.Hai","T.Ba","T.Tư","T.Năm","T.Sáu","T.Bảy","C.Nhật","T.Hai","T.Ba","T.Tư","T.Năm","T.Sáu","T.Bảy","C.Nhật","T.Hai","T.Ba","T.Tư","T.Năm","T.Sáu","T.Bảy","C.Nhật",{"$f":"IF(AH13=\"\",\"\",CHOOSE(WEEKDAY(AH13),\"C.Nhật\",\"T.Hai\",\"T.Ba\",\"T.Tư\",\"T.Năm\",\"T.Sáu\",\"T.Bảy\"))","v":"T.Hai"},{"$f":"IF(AI13=\"\",\"\",CHOOSE(WEEKDAY(AI13),\"C.Nhật\",\"T.Hai\",\"T.Ba\",\"T.Tư\",\"T.Năm\",\"T.Sáu\",\"T.Bảy\"))","v":"T.Ba"},"T.Tư"]
[null,null,{"$f":"SUBTOTAL(3,$D$15:D15)","v":1},{"$f":"'Danh muc nhan vien'!E12","v":"Trần Văn Tám"},{"$f":"IFERROR(VLOOKUP(D15,'Danh muc nhan vien'!$E$12:$BY$42,2,0),\"\")","v":"Giám Đốc"},null,null,null,null,null,null,null,null,null,null,null,null,null,null,null,null,null,null,null,null,null,null,null,null,null,null,null,null,null,null,null,{"$f":"COUNTIF($F15:$AJ15,AK$13)","v":0},{"$f":"COUNTIF($F15:$AJ15,AL$13)","v":0},0,0,0,{"$f":"AK15*1+AL15*0.5+AM15*1","v":0},{"$f":"IF(E15=\"\",\"\",IF(OR(VLOOKUP(D15,DSNV,5,0)<1,VLOOKUP(D15,DSNV,5,0)>eomonth3),\"\",\"Đã nghỉ\"))","v":""},null,null,null,null,null,null,null,null,null,null,{"$f":"IF(AND(VLOOKUP(D15,DSNV,5,0)>1,$F$13>VLOOKUP(D15,DSNV,5,0)),\"\",IF(SUM(AK15:AP15)<$E$6,\"x\",\"\"))","v":"x"}]
[null,null,{"$f":"SUBTOTAL(3,$D$15:D16)","v":2},{"$f":"'Danh muc nhan vien'!E13","v":"Đặng Văn Thành"},{"$f":"IFERROR(VLOOKUP(D16,'Danh muc nhan vien'!$E$12:$BY$42,2,0),\"\")","v":"Phó GĐ"},null,null,null,null,null,null,null,null,null,null,null,null,null,null,null,null,null,null,null,null,null,null,null,null,null,null,null,null,null,null,null,{"$f":"COUNTIF($F16:$AJ16,AK$13)","v":0},0,0,0,0,{"$f":"AK16*1+AL16*0.5+AM16*1","v":0},"",null,null,null,null,null,null,null,null,null,null,"x"]
[null,null,{"$f":"SUBTOTAL(3,$D$15:D17)","v":3},{"$f":"'Danh muc nhan vien'!E14","v":"Đặng Thành Tâm"},{"$f":"IFERROR(VLOOKUP(D17,'Danh muc nhan vien'!$E$12:$BY$42,2,0),\"\")","v":"KTT"},null,null,null,null,null,null,null,null,null,null,null,null,null,null,null,null,null,null,null,null,null,null,null,null,null,null,null,null,null,null,null,0,0,0,0,0,0,"",null,null,null,null,null,null,null,null,null,null,"x"]
[null,null,{"$f":"SUBTOTAL(3,$D$15:D18)","v":4},{"$f":"'Danh muc nhan vien'!E15","v":"Đoàn Văn Cường"},{"$f":"IFERROR(VLOOKUP(D18,'Danh muc nhan vien'!$E$12:$BY$42,2,0),\"\")","v":"TP Kinh Doanh"},null,null,null,null,null,null,null,null,null,null,null,null,null,null,null,null,null,null,null,null,null,null,null,null,null,null,null,null,null,null,null,0,0,0,0,0,0,"",null,null,null,null,null,null,null,null,null,null,"x"]
[null,null,{"$f":"SUBTOTAL(3,$D$15:D19)","v":5},{"$f":"'Danh muc nhan vien'!E16","v":"Hồ Phương Lanh"},{"$f":"IFERROR(VLOOKUP(D19,'Danh muc nhan vien'!$E$12:$BY$42,2,0),\"\")","v":"KT Tổng hợp"},null,null,null,null,null,null,null,null,null,null,null,null,null,null,null,null,null,null,null,null,null,null,null,null,null,null,null,null,null,null,null,0,0,0,0,0,0,"",null,null,null,null,null,null,null,null,null,null,"x"]
[null,null,{"$f":"SUBTOTAL(3,$D$15:D20)","v":6},{"$f":"'Danh muc nhan vien'!E17","v":"Huỳnh Tùng Lâm"},{"$f":"IFERROR(VLOOKUP(D20,'Danh muc nhan vien'!$E$12:$BY$42,2,0),\"\")","v":"KT Viên"},null,null,null,null,null,null,null,null,null,null,null,null,null,null,null,null,null,null,null,null,null,null,null,null,null,null,null,null,null,null,null,0,0,0,0,0,0,"Đã nghỉ",null,null,null,null,null,null,null,null,null,null,""]
[null,null,{"$f":"SUBTOTAL(3,$D$15:D21)","v":7},{"$f":"'Danh muc nhan vien'!E18","v":"Lê Đại Tài"},{"$f":"IFERROR(VLOOKUP(D21,'Danh muc nhan vien'!$E$12:$BY$42,2,0),\"\")","v":"KT Viên"},null,null,null,null,null,null,null,null,null,null,null,null,null,null,null,null,null,null,null,null,null,null,null,null,null,null,null,null,null,null,null,0,0,0,0,0,0,"",null,null,null,null,null,null,null,null,null,null,"x"]
[null,null,{"$f":"SUBTOTAL(3,$D$15:D22)","v":8},{"$f":"'Danh muc nhan vien'!E19","v":"Lâm Thị Cành"},{"$f":"IFERROR(VLOOKUP(D22,'Danh muc nhan vien'!$E$12:$BY$42,2,0),\"\")","v":"Nhân sự"},null,null,null,null,null,null,null,null,null,null,null,null,null,null,null,null,null,null,null,null,null,null,null,null,null,null,null,null,null,null,null,0,0,0,0,0,0,"",null,null,null,null,null,null,null,null,null,null,"x"]
[null,null,{"$f":"SUBTOTAL(3,$D$15:D23)","v":9},{"$f":"'Danh muc nhan vien'!E20","v":"Lê Đức Chinh"},{"$f":"IFERROR(VLOOKUP(D23,'Danh muc nhan vien'!$E$12:$BY$42,2,0),\"\")","v":"Hành chính"},null,null,null,null,null,null,null,null,null,null,null,null,null,null,null,null,null,null,null,null,null,null,null,null,null,null,null,null,null,null,null,0,0,0,0,0,0,"Đã nghỉ",null,null,null,null,null,null,null,null,null,null,""]
[null,null,{"$f":"SUBTOTAL(3,$D$15:D24)","v":10},{"$f":"'Danh muc nhan vien'!E21","v":"Lê Văn Liêm"},{"$f":"IFERROR(VLOOKUP(D24,'Danh muc nhan vien'!$E$12:$BY$42,2,0),\"\")","v":"Marketing"},null,null,null,null,null,null,null,null,null,null,null,null,null,null,null,null,null,null,null,null,null,null,null,null,null,null,null,null,null,null,null,0,0,0,0,0,0,"",null,null,null,null,null,null,null,null,null,null,"x"]
[null,null,{"$f":"SUBTOTAL(3,$D$15:D25)","v":11},{"$f":"'Danh muc nhan vien'!E22","v":"Nguyễn Chí Thanh"},{"$f":"IFERROR(VLOOKUP(D25,'Danh muc nhan vien'!$E$12:$BY$42,2,0),\"\")","v":"NV Kinh Doanh"},null,null,null,null,null,null,null,null,null,null,null,null,null,null,null,null,null,null,null,null,null,null,null,null,null,null,null,null,null,null,null,0,0,0,0,0,0,"",null,null,null,null,null,null,null,null,null,null,"x"]
[null,null,{"$f":"SUBTOTAL(3,$D$15:D26)","v":12},{"$f":"'Danh muc nhan vien'!E23","v":"Nguyễn Hoàng Tính"},{"$f":"IFERROR(VLOOKUP(D26,'Danh muc nhan vien'!$E$12:$BY$42,2,0),\"\")","v":"NV Kinh Doanh"},null,null,null,null,null,null,null,null,null,null,null,null,null,null,null,null,null,null,null,null,null,null,null,null,null,null,null,null,null,null,null,0,0,0,0,0,0,"Đã nghỉ",null,null,null,null,null,null,null,null,null,null,""]
[null,null,{"$f":"SUBTOTAL(3,$D$15:D27)","v":13},{"$f":"'Danh muc nhan vien'!E24","v":"Nguyễn Văn Hân"},{"$f":"IFERROR(VLOOKUP(D27,'Danh muc nhan vien'!$E$12:$BY$42,2,0),\"\")","v":"NV Kinh Doanh"},null,null,null,null,null,null,null,null,null,null,null,null,null,null,null,null,null,null,null,null,null,null,null,null,null,null,null,null,null,null,null,0,0,0,0,0,0,"",null,null,null,null,null,null,null,null,null,null,"x"]
[null,null,{"$f":"SUBTOTAL(3,$D$15:D28)","v":14},{"$f":"'Danh muc nhan vien'!E25","v":"Phạm Hoài An"},{"$f":"IFERROR(VLOOKUP(D28,'Danh muc nhan vien'!$E$12:$BY$42,2,0),\"\")","v":"NV Kinh Doanh"},null,null,null,null,null,null,null,null,null,null,null,null,null,null,null,null,null,null,null,null,null,null,null,null,null,null,null,null,null,null,null,0,0,0,0,0,0,"",null,null,null,null,null,null,null,null,null,null,"x"]
[null,null,{"$f":"SUBTOTAL(3,$D$15:D29)","v":15},{"$f":"'Danh muc nhan vien'!E26","v":0},{"$f":"IFERROR(VLOOKUP(D29,'Danh muc nhan vien'!$E$12:$BY$42,2,0),\"\")","v":""},null,null,null,null,null,null,null,null,null,null,null,null,null,null,null,null,null,null,null,null,null,null,null,null,null,null,null,null,null,null,null,0,0,0,0,0,0,"",null,null,null,null,null,null,null,null,null,null,{"$error":"#N/A"}]
[null,null,{"$f":"SUBTOTAL(3,$D$15:D30)","v":16},{"$f":"'Danh muc nhan vien'!E27","v":0},{"$f":"IFERROR(VLOOKUP(D30,'Danh muc nhan vien'!$E$12:$BY$42,2,0),\"\")","v":""},null,null,null,null,null,null,null,null,null,null,null,null,null,null,null,null,null,null,null,null,null,null,null,null,null,null,null,null,null,null,null,0,0,0,0,0,0,"",null,null,null,null,null,null,null,null,null,null,{"$error":"#N/A"}]
[null,null,{"$f":"SUBTOTAL(3,$D$15:D31)","v":17},{"$f":"'Danh muc nhan vien'!E28","v":0},{"$f":"IFERROR(VLOOKUP(D31,'Danh muc nhan vien'!$E$12:$BY$42,2,0),\"\")","v":""},null,null,null,null,null,null,null,null,null,null,null,null,null,null,null,null,null,null,null,null,null,null,null,null,null,null,null,null,null,null,null,0,0,0,0,0,0,"",null,null,null,null,null,null,null,null,null,null,{"$error":"#N/A"}]
[null,null,{"$f":"SUBTOTAL(3,$D$15:D32)","v":18},{"$f":"'Danh muc nhan vien'!E29","v":0},{"$f":"IFERROR(VLOOKUP(D32,'Danh muc nhan vien'!$E$12:$BY$42,2,0),\"\")","v":""},null,null,null,null,null,null,null,null,null,null,null,null,null,null,null,null,null,null,null,null,null,null,null,null,null,null,null,null,null,null,null,{"$f":"COUNTIF($F32:$AJ32,AK$13)","v":0},0,0,0,0,0,"",null,null,null,null,null,null,null,null,null,null,{"$error":"#N/A"}]
[null,null,{"$f":"SUBTOTAL(3,$D$15:D33)","v":19},{"$f":"'Danh muc nhan vien'!E30","v":0},{"$f":"IFERROR(VLOOKUP(D33,'Danh muc nhan vien'!$E$12:$BY$42,2,0),\"\")","v":""},null,null,null,null,null,null,null,null,null,null,null,null,null,null,null,null,null,null,null,null,null,null,null,null,null,null,null,null,null,null,null,0,0,0,0,0,0,"",null,null,null,null,null,null,null,null,null,null,{"$error":"#N/A"}]
[null,null,{"$f":"SUBTOTAL(3,$D$15:D34)","v":20},{"$f":"'Danh muc nhan vien'!E31","v":0},{"$f":"IFERROR(VLOOKUP(D34,'Danh muc nhan vien'!$E$12:$BY$42,2,0),\"\")","v":""},null,null,null,null,null,null,null,null,null,null,null,null,null,null,null,null,null,null,null,null,null,null,null,null,null,null,null,null,null,null,null,0,0,0,0,0,0,"",null,null,null,null,null,null,null,null,null,null,{"$error":"#N/A"}]
[null,null,{"$f":"SUBTOTAL(3,$D$15:D35)","v":21},{"$f":"'Danh muc nhan vien'!E32","v":0},{"$f":"IFERROR(VLOOKUP(D35,'Danh muc nhan vien'!$E$12:$BY$42,2,0),\"\")","v":""},null,null,null,null,null,null,null,null,null,null,null,null,null,null,null,null,null,null,null,null,null,null,null,null,null,null,null,null,null,null,null,0,0,0,0,0,0,"",null,null,null,null,null,null,null,null,null,null,{"$error":"#N/A"}]
[null,null,{"$f":"SUBTOTAL(3,$D$15:D36)","v":22},{"$f":"'Danh muc nhan vien'!E33","v":0},{"$f":"IFERROR(VLOOKUP(D36,'Danh muc nhan vien'!$E$12:$BY$42,2,0),\"\")","v":""},null,null,null,null,null,null,null,null,null,null,null,null,null,null,null,null,null,null,null,null,null,null,null,null,null,null,null,null,null,null,null,0,0,0,0,0,0,"",null,null,null,null,null,null,null,null,null,null,{"$error":"#N/A"}]
[null,null,{"$f":"SUBTOTAL(3,$D$15:D37)","v":23},{"$f":"'Danh muc nhan vien'!E34","v":0},{"$f":"IFERROR(VLOOKUP(D37,'Danh muc nhan vien'!$E$12:$BY$42,2,0),\"\")","v":""},null,null,null,null,null,null,null,null,null,null,null,null,null,null,null,null,null,null,null,null,null,null,null,null,null,null,null,null,null,null,null,0,0,0,0,0,0,"",null,null,null,null,null,null,null,null,null,null,{"$error":"#N/A"}]
[null,null,{"$f":"SUBTOTAL(3,$D$15:D38)","v":24},{"$f":"'Danh muc nhan vien'!E35","v":0},{"$f":"IFERROR(VLOOKUP(D38,'Danh muc nhan vien'!$E$12:$BY$42,2,0),\"\")","v":""},null,null,null,null,null,null,null,null,null,null,null,null,null,null,null,null,null,null,null,null,null,null,null,null,null,null,null,null,null,null,null,0,0,0,0,0,0,"",null,null,null,null,null,null,null,null,null,null,{"$error":"#N/A"}]
[null,null,{"$f":"SUBTOTAL(3,$D$15:D39)","v":25},{"$f":"'Danh muc nhan vien'!E36","v":0},{"$f":"IFERROR(VLOOKUP(D39,'Danh muc nhan vien'!$E$12:$BY$42,2,0),\"\")","v":""},null,null,null,null,null,null,null,null,null,null,null,null,null,null,null,null,null,null,null,null,null,null,null,null,null,null,null,null,null,null,null,0,0,0,0,0,0,"",null,null,null,null,null,null,null,null,null,null,{"$error":"#N/A"}]
[null,null,{"$f":"SUBTOTAL(3,$D$15:D40)","v":26},{"$f":"'Danh muc nhan vien'!E37","v":0},{"$f":"IFERROR(VLOOKUP(D40,'Danh muc nhan vien'!$E$12:$BY$42,2,0),\"\")","v":""},null,null,null,null,null,null,null,null,null,null,null,null,null,null,null,null,null,null,null,null,null,null,null,null,null,null,null,null,null,null,null,0,0,0,0,0,0,"",null,null,null,null,null,null,null,null,null,null,{"$error":"#N/A"}]
[null,null,{"$f":"SUBTOTAL(3,$D$15:D41)","v":27},{"$f":"'Danh muc nhan vien'!E38","v":0},{"$f":"IFERROR(VLOOKUP(D41,'Danh muc nhan vien'!$E$12:$BY$42,2,0),\"\")","v":""},null,null,null,null,null,null,null,null,null,null,null,null,null,null,null,null,null,null,null,null,null,null,null,null,null,null,null,null,null,null,null,0,0,0,0,0,0,"",null,null,null,null,null,null,null,null,null,null,{"$error":"#N/A"}]
[null,null,{"$f":"SUBTOTAL(3,$D$15:D42)","v":28},{"$f":"'Danh muc nhan vien'!E39","v":0},{"$f":"IFERROR(VLOOKUP(D42,'Danh muc nhan vien'!$E$12:$BY$42,2,0),\"\")","v":""},null,null,null,null,null,null,null,null,null,null,null,null,null,null,null,null,null,null,null,null,null,null,null,null,null,null,null,null,null,null,null,0,0,0,0,0,0,"",null,null,null,null,null,null,null,null,null,null,{"$error":"#N/A"}]
[null,null,{"$f":"SUBTOTAL(3,$D$15:D43)","v":29},{"$f":"'Danh muc nhan vien'!E40","v":0},{"$f":"IFERROR(VLOOKUP(D43,'Danh muc nhan vien'!$E$12:$BY$42,2,0),\"\")","v":""},null,null,null,null,null,null,null,null,null,null,null,null,null,null,null,null,null,null,null,null,null,null,null,null,null,null,null,null,null,null,null,0,0,0,0,0,0,"",null,null,null,null,null,null,null,null,null,null,{"$error":"#N/A"}]
[null,null,{"$f":"SUBTOTAL(3,$D$15:D44)","v":30},{"$f":"'Danh muc nhan vien'!E41","v":0},{"$f":"IFERROR(VLOOKUP(D44,'Danh muc nhan vien'!$E$12:$BY$42,2,0),\"\")","v":""},null,null,null,null,null,null,null,null,null,null,null,null,null,null,null,null,null,null,null,null,null,null,null,null,null,null,null,null,null,null,null,0,0,0,0,0,0,"",null,null,null,null,null,null,null,null,null,null,{"$error":"#N/A"}]
[]
[null,null,".",".",".",null,null,null,null,null,null,null,null,null,null,null,null,null,null,null,null,null,null,null,null,null,null,null,null,null,null,null,null,null,null,null,".",".",".",".",".",".","."]
[]
[null,null,null,null,null,null,null,null,null,null,null,null,null,null,null,null,null,null,null,null,null,null,null,null,null,null,null,null,null,null,null,null,null,{"$f":"\"Ngày …….. Tháng …….. Năm \"&year","v":"Ngày …….. Tháng …….. Năm 2021"}]
[null,null,null,"NGƯỜI CHẤM CÔNG",null,null,null,null,null,null,null,null,null,null,null,null,null,null,null,"PHỤ TRÁCH BỘ PHẬN",null,null,null,null,null,null,null,null,null,null,null,null,null,"THỦ TRƯỞNG ĐƠN VỊ"]
[null,null,null,"(Ký tên)",null,null,null,null,null,null,null,null,null,null,null,null,null,null,null,"(Ký tên)",null,null,null,null,null,null,null,null,null,null,null,null,null,"(Ký tên)"]
[]
[]
[]
[]
[null,null,null,{"$f":"Chamcong","v":"Vũ Trình B"},null,null,null,null,null,null,null,null,null,null,null,null,null,null,null,{"$f":"phutrach","v":"Nguyễn Linh A"},null,null,null,null,null,null,null,null,null,null,null,null,null,{"$f":"Giamdoc","v":"Mr. Trường"}]

{"sheet":"T4","index":6,"n_rows":55,"n_cols":88,"rows_kept":55,"cut":false,"hidden":false,"merged":[[9,5,9,35],[4,53,4,61],[5,2,5,3],[5,7,5,9],[5,10,5,12],[8,5,8,35],[5,37,5,41],[8,2,9,4],[54,33,54,42],[11,2,13,2],[11,3,13,3],[11,4,13,4],[11,5,11,35],[11,36,11,41],[11,42,13,42],[12,36,13,36],[12,37,13,37],[12,38,13,38],[12,39,13,39],[12,40,13,40],[12,41,13,41],[47,33,47,42],[48,33,48,42],[49,33,49,42]]}
[]
[]
[]
[]
[]
[null,null,"Số ngày làm việc:",null,{"$f":"VLOOKUP(m.apr,ngaycong,2,0)","v":26},null,null,"<<",null,null,">>",null,null,null,null,null,null,null,null,null,null,null,null,null,null,null,null,null,null,null,null,null,null,null,null,null,false,{"$f":"DATEVALUE(\"1/4/\"&year)","v":"2021-01-04"}]
[]
[null,null,{"$f":"Setup!F10","v":"Công ty TNHH Webkynang Việt Nam"},null,null,null,null,null,null,null,null,null,null,null,null,null,null,null,null,null,null,null,null,null,null,null,null,null,null,null,null,null,null,null,null,null,null,null,null,null,null,null,null,null,null,null,null,null,null,null,null,null,null,null,null,null,null,null,null,null,null,null,null,null,null,null,null,null,null,null,null,null,null,null,null,null,null,null,null,null,null,null,null,null,null,null,null,{"$f":"VALUE(MID(F10,8,1))","v":4}]
[null,null,{"$f":"Setup!D11&\" \"&Setup!F11","v":"Địa chỉ: Tầng 6, Tòa nhà Sannam, Duy Tân, Cầu Giấy, Hà Nội"},null,null,"BẢNG CHẤM CÔNG"]
[null,null,null,null,null,{"$f":"\"Tháng 4 năm \"&year","v":"Tháng 4 năm 2021"}]
[null,null,null,null,null,null,{"$f":"F13+1","v":"2021-04-02"},{"$f":"G11+1","v":"2021-04-03"},{"$f":"H11+1","v":"2021-04-04"},"2021-04-05","2021-04-06","2021-04-07","2021-04-08","2021-04-09","2021-04-10","2021-04-11","2021-04-12","2021-04-13","2021-04-14","2021-04-15","2021-04-16","2021-04-17","2021-04-18","2021-04-19","2021-04-20","2021-04-21","2021-04-22","2021-04-23","2021-04-24","2021-04-25","2021-04-26","2021-04-27","2021-04-28","2021-04-29","2021-04-30","2021-05-01"]
[null,null,"SỐ TT","HỌ VÀ TÊN","CHỨC VỤ","NGÀY TRONG THÁNG/ THỨ TRONG TUẦN",null,null,null,null,null,null,null,null,null,null,null,null,null,null,null,null,null,null,null,null,null,null,null,null,null,null,null,null,null,null,"TỔNG",null,null,null,null,null,"GHI CHÚ"]
[null,null,null,null,null,{"$f":"DATE(year,m.apr,1)","v":"2021-04-01"},{"$f":"IF(MONTH(G11)>m.apr,\"\",G11)","v":"2021-04-02"},"2021-04-03","2021-04-04","2021-04-05","2021-04-06","2021-04-07","2021-04-08","2021-04-09","2021-04-10","2021-04-11","2021-04-12","2021-04-13","2021-04-14","2021-04-15","2021-04-16","2021-04-17","2021-04-18","2021-04-19","2021-04-20","2021-04-21","2021-04-22","2021-04-23","2021-04-24","2021-04-25","2021-04-26","2021-04-27","2021-04-28","2021-04-29","2021-04-30","",{"$f":"macong1","v":"x"},{"$f":"macong2","v":"x2"},{"$f":"macong3","v":"NC"},{"$f":"macong4","v":"NO"},{"$f":"macong5","v":"00:00:00"},"Tổng"]
[null,null,null,null,null,{"$f":"IF(F13=\"\",\"\",CHOOSE(WEEKDAY(F13),\"C.Nhật\",\"T.Hai\",\"T.Ba\",\"T.Tư\",\"T.Năm\",\"T.Sáu\",\"T.Bảy\"))","v":"T.Năm"},{"$f":"IF(G13=\"\",\"\",CHOOSE(WEEKDAY(G13),\"C.Nhật\",\"T.Hai\",\"T.Ba\",\"T.Tư\",\"T.Năm\",\"T.Sáu\",\"T.Bảy\"))","v":"T.Sáu"},"T.Bảy","C.Nhật","T.Hai","T.Ba","T.Tư","T.Năm","T.Sáu","T.Bảy","C.Nhật","T.Hai","T.Ba","T.Tư","T.Năm","T.Sáu","T.Bảy","C.Nhật","T.Hai","T.Ba","T.Tư","T.Năm","T.Sáu","T.Bảy","C.Nhật","T.Hai","T.Ba","T.Tư",{"$f":"IF(AH13=\"\",\"\",CHOOSE(WEEKDAY(AH13),\"C.Nhật\",\"T.Hai\",\"T.Ba\",\"T.Tư\",\"T.Năm\",\"T.Sáu\",\"T.Bảy\"))","v":"T.Năm"},{"$f":"IF(AI13=\"\",\"\",CHOOSE(WEEKDAY(AI13),\"C.Nhật\",\"T.Hai\",\"T.Ba\",\"T.Tư\",\"T.Năm\",\"T.Sáu\",\"T.Bảy\"))","v":"T.Sáu"},""]
[null,null,{"$f":"SUBTOTAL(3,$D$15:D15)","v":1},{"$f":"'Danh muc nhan vien'!E12","v":"Trần Văn Tám"},{"$f":"IFERROR(VLOOKUP(D15,'Danh muc nhan vien'!$E$12:$BY$42,2,0),\"\")","v":"Giám Đốc"},null,null,null,null,null,null,null,null,null,null,null,null,null,null,null,null,null,null,null,null,null,null,null,null,null,null,null,null,null,null,null,{"$f":"COUNTIF($F15:$AJ15,AK$13)","v":0},{"$f":"COUNTIF($F15:$AJ15,AL$13)","v":0},0,0,0,{"$f":"AK15*1+AL15*0.5+AM15*1","v":0},{"$f":"IF(E15=\"\",\"\",IF(OR(VLOOKUP(D15,DSNV,5,0)<1,VLOOKUP(D15,DSNV,5,0)>eomonth4),\"\",\"Đã nghỉ\"))","v":""},null,null,null,null,null,null,null,null,null,null,{"$f":"IF(AND(VLOOKUP(D15,DSNV,5,0)>1,$F$13>VLOOKUP(D15,DSNV,5,0)),\"\",IF(SUM(AK15:AP15)<$E$6,\"x\",\"\"))","v":"x"}]
[null,null,{"$f":"SUBTOTAL(3,$D$15:D16)","v":2},{"$f":"'Danh muc nhan vien'!E13","v":"Đặng Văn Thành"},{"$f":"IFERROR(VLOOKUP(D16,'Danh muc nhan vien'!$E$12:$BY$42,2,0),\"\")","v":"Phó GĐ"},null,null,null,null,null,null,null,null,null,null,null,null,null,null,null,null,null,null,null,null,null,null,null,null,null,null,null,null,null,null,null,{"$f":"COUNTIF($F16:$AJ16,AK$13)","v":0},0,0,0,0,{"$f":"AK16*1+AL16*0.5+AM16*1","v":0},"",null,null,null,null,null,null,null,null,null,null,"x"]
[null,null,{"$f":"SUBTOTAL(3,$D$15:D17)","v":3},{"$f":"'Danh muc nhan vien'!E14","v":"Đặng Thành Tâm"},{"$f":"IFERROR(VLOOKUP(D17,'Danh muc nhan vien'!$E$12:$BY$42,2,0),\"\")","v":"KTT"},null,null,null,null,null,null,null,null,null,null,null,null,null,null,null,null,null,null,null,null,null,null,null,null,null,null,null,null,null,null,null,0,0,0,0,0,0,"",null,null,null,null,null,null,null,null,null,null,"x"]
[null,null,{"$f":"SUBTOTAL(3,$D$15:D18)","v":4},{"$f":"'Danh muc nhan vien'!E15","v":"Đoàn Văn Cường"},{"$f":"IFERROR(VLOOKUP(D18,'Danh muc nhan vien'!$E$12:$BY$42,2,0),\"\")","v":"TP Kinh Doanh"},null,null,null,null,null,null,null,null,null,null,null,null,null,null,null,null,null,null,null,null,null,null,null,null,null,null,null,null,null,null,null,0,0,0,0,0,0,"",null,null,null,null,null,null,null,null,null,null,"x"]
[null,null,{"$f":"SUBTOTAL(3,$D$15:D19)","v":5},{"$f":"'Danh muc nhan vien'!E16","v":"Hồ Phương Lanh"},{"$f":"IFERROR(VLOOKUP(D19,'Danh muc nhan vien'!$E$12:$BY$42,2,0),\"\")","v":"KT Tổng hợp"},null,null,null,null,null,null,null,null,null,null,null,null,null,null,null,null,null,null,null,null,null,null,null,null,null,null,null,null,null,null,null,0,0,0,0,0,0,"",null,null,null,null,null,null,null,null,null,null,"x"]
[null,null,{"$f":"SUBTOTAL(3,$D$15:D20)","v":6},{"$f":"'Danh muc nhan vien'!E17","v":"Huỳnh Tùng Lâm"},{"$f":"IFERROR(VLOOKUP(D20,'Danh muc nhan vien'!$E$12:$BY$42,2,0),\"\")","v":"KT Viên"},null,null,null,null,null,null,null,null,null,null,null,null,null,null,null,null,null,null,null,null,null,null,null,null,null,null,null,null,null,null,null,0,0,0,0,0,0,"Đã nghỉ",null,null,null,null,null,null,null,null,null,null,""]
[null,null,{"$f":"SUBTOTAL(3,$D$15:D21)","v":7},{"$f":"'Danh muc nhan vien'!E18","v":"Lê Đại Tài"},{"$f":"IFERROR(VLOOKUP(D21,'Danh muc nhan vien'!$E$12:$BY$42,2,0),\"\")","v":"KT Viên"},null,null,null,null,null,null,null,null,null,null,null,null,null,null,null,null,null,null,null,null,null,null,null,null,null,null,null,null,null,null,null,0,0,0,0,0,0,"",null,null,null,null,null,null,null,null,null,null,"x"]
[null,null,{"$f":"SUBTOTAL(3,$D$15:D22)","v":8},{"$f":"'Danh muc nhan vien'!E19","v":"Lâm Thị Cành"},{"$f":"IFERROR(VLOOKUP(D22,'Danh muc nhan vien'!$E$12:$BY$42,2,0),\"\")","v":"Nhân sự"},null,null,null,null,null,null,null,null,null,null,null,null,null,null,null,null,null,null,null,null,null,null,null,null,null,null,null,null,null,null,null,0,0,0,0,0,0,"",null,null,null,null,null,null,null,null,null,null,"x"]
[null,null,{"$f":"SUBTOTAL(3,$D$15:D23)","v":9},{"$f":"'Danh muc nhan vien'!E20","v":"Lê Đức Chinh"},{"$f":"IFERROR(VLOOKUP(D23,'Danh muc nhan vien'!$E$12:$BY$42,2,0),\"\")","v":"Hành chính"},null,null,null,null,null,null,null,null,null,null,null,null,null,null,null,null,null,null,null,null,null,null,null,null,null,null,null,null,null,null,null,0,0,0,0,0,0,"Đã nghỉ",null,null,null,null,null,null,null,null,null,null,""]
[null,null,{"$f":"SUBTOTAL(3,$D$15:D24)","v":10},{"$f":"'Danh muc nhan vien'!E21","v":"Lê Văn Liêm"},{"$f":"IFERROR(VLOOKUP(D24,'Danh muc nhan vien'!$E$12:$BY$42,2,0),\"\")","v":"Marketing"},null,null,null,null,null,null,null,null,null,null,null,null,null,null,null,null,null,null,null,null,null,null,null,null,null,null,null,null,null,null,null,0,0,0,0,0,0,"",null,null,null,null,null,null,null,null,null,null,"x"]
[null,null,{"$f":"SUBTOTAL(3,$D$15:D25)","v":11},{"$f":"'Danh muc nhan vien'!E22","v":"Nguyễn Chí Thanh"},{"$f":"IFERROR(VLOOKUP(D25,'Danh muc nhan vien'!$E$12:$BY$42,2,0),\"\")","v":"NV Kinh Doanh"},null,null,null,null,null,null,null,null,null,null,null,null,null,null,null,null,null,null,null,null,null,null,null,null,null,null,null,null,null,null,null,0,0,0,0,0,0,"",null,null,null,null,null,null,null,null,null,null,"x"]
[null,null,{"$f":"SUBTOTAL(3,$D$15:D26)","v":12},{"$f":"'Danh muc nhan vien'!E23","v":"Nguyễn Hoàng Tính"},{"$f":"IFERROR(VLOOKUP(D26,'Danh muc nhan vien'!$E$12:$BY$42,2,0),\"\")","v":"NV Kinh Doanh"},null,null,null,null,null,null,null,null,null,null,null,null,null,null,null,null,null,null,null,null,null,null,null,null,null,null,null,null,null,null,null,0,0,0,0,0,0,"Đã nghỉ",null,null,null,null,null,null,null,null,null,null,""]
[null,null,{"$f":"SUBTOTAL(3,$D$15:D27)","v":13},{"$f":"'Danh muc nhan vien'!E24","v":"Nguyễn Văn Hân"},{"$f":"IFERROR(VLOOKUP(D27,'Danh muc nhan vien'!$E$12:$BY$42,2,0),\"\")","v":"NV Kinh Doanh"},null,null,null,null,null,null,null,null,null,null,null,null,null,null,null,null,null,null,null,null,null,null,null,null,null,null,null,null,null,null,null,0,0,0,0,0,0,"",null,null,null,null,null,null,null,null,null,null,"x"]
[null,null,{"$f":"SUBTOTAL(3,$D$15:D28)","v":14},{"$f":"'Danh muc nhan vien'!E25","v":"Phạm Hoài An"},{"$f":"IFERROR(VLOOKUP(D28,'Danh muc nhan vien'!$E$12:$BY$42,2,0),\"\")","v":"NV Kinh Doanh"},null,null,null,null,null,null,null,null,null,null,null,null,null,null,null,null,null,null,null,null,null,null,null,null,null,null,null,null,null,null,null,0,0,0,0,0,0,"",null,null,null,null,null,null,null,null,null,null,"x"]
[null,null,{"$f":"SUBTOTAL(3,$D$15:D29)","v":15},{"$f":"'Danh muc nhan vien'!E26","v":0},{"$f":"IFERROR(VLOOKUP(D29,'Danh muc nhan vien'!$E$12:$BY$42,2,0),\"\")","v":""},null,null,null,null,null,null,null,null,null,null,null,null,null,null,null,null,null,null,null,null,null,null,null,null,null,null,null,null,null,null,null,0,0,0,0,0,0,"",null,null,null,null,null,null,null,null,null,null,{"$error":"#N/A"}]
[null,null,{"$f":"SUBTOTAL(3,$D$15:D30)","v":16},{"$f":"'Danh muc nhan vien'!E27","v":0},{"$f":"IFERROR(VLOOKUP(D30,'Danh muc nhan vien'!$E$12:$BY$42,2,0),\"\")","v":""},null,null,null,null,null,null,null,null,null,null,null,null,null,null,null,null,null,null,null,null,null,null,null,null,null,null,null,null,null,null,null,0,0,0,0,0,0,"",null,null,null,null,null,null,null,null,null,null,{"$error":"#N/A"}]
[null,null,{"$f":"SUBTOTAL(3,$D$15:D31)","v":17},{"$f":"'Danh muc nhan vien'!E28","v":0},{"$f":"IFERROR(VLOOKUP(D31,'Danh muc nhan vien'!$E$12:$BY$42,2,0),\"\")","v":""},null,null,null,null,null,null,null,null,null,null,null,null,null,null,null,null,null,null,null,null,null,null,null,null,null,null,null,null,null,null,null,0,0,0,0,0,0,"",null,null,null,null,null,null,null,null,null,null,{"$error":"#N/A"}]
[null,null,{"$f":"SUBTOTAL(3,$D$15:D32)","v":18},{"$f":"'Danh muc nhan vien'!E29","v":0},{"$f":"IFERROR(VLOOKUP(D32,'Danh muc nhan vien'!$E$12:$BY$42,2,0),\"\")","v":""},null,null,null,null,null,null,null,null,null,null,null,null,null,null,null,null,null,null,null,null,null,null,null,null,null,null,null,null,null,null,null,{"$f":"COUNTIF($F32:$AJ32,AK$13)","v":0},0,0,0,0,0,"",null,null,null,null,null,null,null,null,null,null,{"$error":"#N/A"}]
[null,null,{"$f":"SUBTOTAL(3,$D$15:D33)","v":19},{"$f":"'Danh muc nhan vien'!E30","v":0},{"$f":"IFERROR(VLOOKUP(D33,'Danh muc nhan vien'!$E$12:$BY$42,2,0),\"\")","v":""},null,null,null,null,null,null,null,null,null,null,null,null,null,null,null,null,null,null,null,null,null,null,null,null,null,null,null,null,null,null,null,0,0,0,0,0,0,"",null,null,null,null,null,null,null,null,null,null,{"$error":"#N/A"}]
[null,null,{"$f":"SUBTOTAL(3,$D$15:D34)","v":20},{"$f":"'Danh muc nhan vien'!E31","v":0},{"$f":"IFERROR(VLOOKUP(D34,'Danh muc nhan vien'!$E$12:$BY$42,2,0),\"\")","v":""},null,null,null,null,null,null,null,null,null,null,null,null,null,null,null,null,null,null,null,null,null,null,null,null,null,null,null,null,null,null,null,0,0,0,0,0,0,"",null,null,null,null,null,null,null,null,null,null,{"$error":"#N/A"}]
[null,null,{"$f":"SUBTOTAL(3,$D$15:D35)","v":21},{"$f":"'Danh muc nhan vien'!E32","v":0},{"$f":"IFERROR(VLOOKUP(D35,'Danh muc nhan vien'!$E$12:$BY$42,2,0),\"\")","v":""},null,null,null,null,null,null,null,null,null,null,null,null,null,null,null,null,null,null,null,null,null,null,null,null,null,null,null,null,null,null,null,0,0,0,0,0,0,"",null,null,null,null,null,null,null,null,null,null,{"$error":"#N/A"}]
[null,null,{"$f":"SUBTOTAL(3,$D$15:D36)","v":22},{"$f":"'Danh muc nhan vien'!E33","v":0},{"$f":"IFERROR(VLOOKUP(D36,'Danh muc nhan vien'!$E$12:$BY$42,2,0),\"\")","v":""},null,null,null,null,null,null,null,null,null,null,null,null,null,null,null,null,null,null,null,null,null,null,null,null,null,null,null,null,null,null,null,0,0,0,0,0,0,"",null,null,null,null,null,null,null,null,null,null,{"$error":"#N/A"}]
[null,null,{"$f":"SUBTOTAL(3,$D$15:D37)","v":23},{"$f":"'Danh muc nhan vien'!E34","v":0},{"$f":"IFERROR(VLOOKUP(D37,'Danh muc nhan vien'!$E$12:$BY$42,2,0),\"\")","v":""},null,null,null,null,null,null,null,null,null,null,null,null,null,null,null,null,null,null,null,null,null,null,null,null,null,null,null,null,null,null,null,0,0,0,0,0,0,"",null,null,null,null,null,null,null,null,null,null,{"$error":"#N/A"}]
[null,null,{"$f":"SUBTOTAL(3,$D$15:D38)","v":24},{"$f":"'Danh muc nhan vien'!E35","v":0},{"$f":"IFERROR(VLOOKUP(D38,'Danh muc nhan vien'!$E$12:$BY$42,2,0),\"\")","v":""},null,null,null,null,null,null,null,null,null,null,null,null,null,null,null,null,null,null,null,null,null,null,null,null,null,null,null,null,null,null,null,0,0,0,0,0,0,"",null,null,null,null,null,null,null,null,null,null,{"$error":"#N/A"}]
[null,null,{"$f":"SUBTOTAL(3,$D$15:D39)","v":25},{"$f":"'Danh muc nhan vien'!E36","v":0},{"$f":"IFERROR(VLOOKUP(D39,'Danh muc nhan vien'!$E$12:$BY$42,2,0),\"\")","v":""},null,null,null,null,null,null,null,null,null,null,null,null,null,null,null,null,null,null,null,null,null,null,null,null,null,null,null,null,null,null,null,0,0,0,0,0,0,"",null,null,null,null,null,null,null,null,null,null,{"$error":"#N/A"}]
[null,null,{"$f":"SUBTOTAL(3,$D$15:D40)","v":26},{"$f":"'Danh muc nhan vien'!E37","v":0},{"$f":"IFERROR(VLOOKUP(D40,'Danh muc nhan vien'!$E$12:$BY$42,2,0),\"\")","v":""},null,null,null,null,null,null,null,null,null,null,null,null,null,null,null,null,null,null,null,null,null,null,null,null,null,null,null,null,null,null,null,0,0,0,0,0,0,"",null,null,null,null,null,null,null,null,null,null,{"$error":"#N/A"}]
[null,null,{"$f":"SUBTOTAL(3,$D$15:D41)","v":27},{"$f":"'Danh muc nhan vien'!E38","v":0},{"$f":"IFERROR(VLOOKUP(D41,'Danh muc nhan vien'!$E$12:$BY$42,2,0),\"\")","v":""},null,null,null,null,null,null,null,null,null,null,null,null,null,null,null,null,null,null,null,null,null,null,null,null,null,null,null,null,null,null,null,0,0,0,0,0,0,"",null,null,null,null,null,null,null,null,null,null,{"$error":"#N/A"}]
[null,null,{"$f":"SUBTOTAL(3,$D$15:D42)","v":28},{"$f":"'Danh muc nhan vien'!E39","v":0},{"$f":"IFERROR(VLOOKUP(D42,'Danh muc nhan vien'!$E$12:$BY$42,2,0),\"\")","v":""},null,null,null,null,null,null,null,null,null,null,null,null,null,null,null,null,null,null,null,null,null,null,null,null,null,null,null,null,null,null,null,0,0,0,0,0,0,"",null,null,null,null,null,null,null,null,null,null,{"$error":"#N/A"}]
[null,null,{"$f":"SUBTOTAL(3,$D$15:D43)","v":29},{"$f":"'Danh muc nhan vien'!E40","v":0},{"$f":"IFERROR(VLOOKUP(D43,'Danh muc nhan vien'!$E$12:$BY$42,2,0),\"\")","v":""},null,null,null,null,null,null,null,null,null,null,null,null,null,null,null,null,null,null,null,null,null,null,null,null,null,null,null,null,null,null,null,0,0,0,0,0,0,"",null,null,null,null,null,null,null,null,null,null,{"$error":"#N/A"}]
[null,null,{"$f":"SUBTOTAL(3,$D$15:D44)","v":30},{"$f":"'Danh muc nhan vien'!E41","v":0},{"$f":"IFERROR(VLOOKUP(D44,'Danh muc nhan vien'!$E$12:$BY$42,2,0),\"\")","v":""},null,null,null,null,null,null,null,null,null,null,null,null,null,null,null,null,null,null,null,null,null,null,null,null,null,null,null,null,null,null,null,0,0,0,0,0,0,"",null,null,null,null,null,null,null,null,null,null,{"$error":"#N/A"}]
[]
[null,null,".",".",".",".",".",".",".",".",".",".",".",".",".",".",".",".",".",".",".",".",".",".",".",".",".",".",".",".",".",".",".",".",".",".",".",".",".",".",".",".","."]
[]
[null,null,null,null,null,null,null,null,null,null,null,null,null,null,null,null,null,null,null,null,null,null,null,null,null,null,null,null,null,null,null,null,null,{"$f":"\"Ngày …….. Tháng …….. Năm \"&year","v":"Ngày …….. Tháng …….. Năm 2021"}]
[null,null,null,"NGƯỜI CHẤM CÔNG",null,null,null,null,null,null,null,null,null,null,null,null,null,null,null,"PHỤ TRÁCH BỘ PHẬN",null,null,null,null,null,null,null,null,null,null,null,null,null,"THỦ TRƯỞNG ĐƠN VỊ"]
[null,null,null,"(Ký tên)",null,null,null,null,null,null,null,null,null,null,null,null,null,null,null,"(Ký tên)",null,null,null,null,null,null,null,null,null,null,null,null,null,"(Ký tên)"]
[]
[]
[]
[]
[null,null,null,{"$f":"Chamcong","v":"Vũ Trình B"},null,null,null,null,null,null,null,null,null,null,null,null,null,null,null,{"$f":"phutrach","v":"Nguyễn Linh A"},null,null,null,null,null,null,null,null,null,null,null,null,null,{"$f":"Giamdoc","v":"Mr. Trường"}]

{"sheet":"T5","index":7,"n_rows":55,"n_cols":88,"rows_kept":55,"cut":false,"hidden":false,"merged":[[9,5,9,35],[4,53,4,61],[5,2,5,3],[5,7,5,9],[5,10,5,12],[8,5,8,35],[5,30,5,34],[8,2,9,4],[54,33,54,42],[11,2,13,2],[11,3,13,3],[11,4,13,4],[11,5,11,35],[11,36,11,41],[11,42,13,42],[12,36,13,36],[12,37,13,37],[12,38,13,38],[12,39,13,39],[12,40,13,40],[12,41,13,41],[47,33,47,42],[48,33,48,42],[49,33,49,42]]}
[]
[]
[]
[]
[]
[null,null,"Số ngày làm việc:",null,{"$f":"VLOOKUP(m.may,ngaycong,2,0)","v":26},null,null,"<<",null,null,">>",null,null,null,null,null,null,null,null,null,null,null,null,null,null,null,null,null,null,null,{"$f":"DATEVALUE(\"1/5/\"&year)","v":"2021-01-05"},null,null,null,null,null,false]
[]
[null,null,{"$f":"Setup!F10","v":"Công ty TNHH Webkynang Việt Nam"},null,null,null,null,null,null,null,null,null,null,null,null,null,null,null,null,null,null,null,null,null,null,null,null,null,null,null,null,null,null,null,null,null,null,null,null,null,null,null,null,null,null,null,null,null,null,null,null,null,null,null,null,null,null,null,null,null,null,null,null,null,null,null,null,null,null,null,null,null,null,null,null,null,null,null,null,null,null,null,null,null,null,null,null,{"$f":"VALUE(MID(F10,8,1))","v":5}]
[null,null,{"$f":"Setup!D11&\" \"&Setup!F11","v":"Địa chỉ: Tầng 6, Tòa nhà Sannam, Duy Tân, Cầu Giấy, Hà Nội"},null,null,"BẢNG CHẤM CÔNG"]
[null,null,null,null,null,{"$f":"\"Tháng 5 năm \"&year","v":"Tháng 5 năm 2021"}]
[null,null,null,null,null,null,{"$f":"F13+1","v":"2021-05-02"},{"$f":"G11+1","v":"2021-05-03"},{"$f":"H11+1","v":"2021-05-04"},"2021-05-05","2021-05-06","2021-05-07","2021-05-08","2021-05-09","2021-05-10","2021-05-11","2021-05-12","2021-05-13","2021-05-14","2021-05-15","2021-05-16","2021-05-17","2021-05-18","2021-05-19","2021-05-20","2021-05-21","2021-05-22","2021-05-23","2021-05-24","2021-05-25","2021-05-26","2021-05-27","2021-05-28","2021-05-29","2021-05-30","2021-05-31"]
[null,null,"SỐ TT","HỌ VÀ TÊN","CHỨC VỤ","NGÀY TRONG THÁNG/ THỨ TRONG TUẦN",null,null,null,null,null,null,null,null,null,null,null,null,null,null,null,null,null,null,null,null,null,null,null,null,null,null,null,null,null,null,"TỔNG",null,null,null,null,null,"GHI CHÚ"]
[null,null,null,null,null,{"$f":"DATE(year,m.may,1)","v":"2021-05-01"},{"$f":"IF(MONTH(G11)>m.may,\"\",G11)","v":"2021-05-02"},"2021-05-03","2021-05-04","2021-05-05","2021-05-06","2021-05-07","2021-05-08","2021-05-09","2021-05-10","2021-05-11","2021-05-12","2021-05-13","2021-05-14","2021-05-15","2021-05-16","2021-05-17","2021-05-18","2021-05-19","2021-05-20","2021-05-21","2021-05-22","2021-05-23","2021-05-24","2021-05-25","2021-05-26","2021-05-27","2021-05-28","2021-05-29","2021-05-30","2021-05-31",{"$f":"macong1","v":"x"},{"$f":"macong2","v":"x2"},{"$f":"macong3","v":"NC"},{"$f":"macong4","v":"NO"},{"$f":"macong5","v":"00:00:00"},"Tổng"]
[null,null,null,null,null,{"$f":"IF(F13=\"\",\"\",CHOOSE(WEEKDAY(F13),\"C.Nhật\",\"T.Hai\",\"T.Ba\",\"T.Tư\",\"T.Năm\",\"T.Sáu\",\"T.Bảy\"))","v":"T.Bảy"},{"$f":"IF(G13=\"\",\"\",CHOOSE(WEEKDAY(G13),\"C.Nhật\",\"T.Hai\",\"T.Ba\",\"T.Tư\",\"T.Năm\",\"T.Sáu\",\"T.Bảy\"))","v":"C.Nhật"},"T.Hai","T.Ba","T.Tư","T.Năm","T.Sáu","T.Bảy","C.Nhật","T.Hai","T.Ba","T.Tư","T.Năm","T.Sáu","T.Bảy","C.Nhật","T.Hai","T.Ba","T.Tư","T.Năm","T.Sáu","T.Bảy","C.Nhật","T.Hai","T.Ba","T.Tư","T.Năm","T.Sáu",{"$f":"IF(AH13=\"\",\"\",CHOOSE(WEEKDAY(AH13),\"C.Nhật\",\"T.Hai\",\"T.Ba\",\"T.Tư\",\"T.Năm\",\"T.Sáu\",\"T.Bảy\"))","v":"T.Bảy"},{"$f":"IF(AI13=\"\",\"\",CHOOSE(WEEKDAY(AI13),\"C.Nhật\",\"T.Hai\",\"T.Ba\",\"T.Tư\",\"T.Năm\",\"T.Sáu\",\"T.Bảy\"))","v":"C.Nhật"},"T.Hai"]
[null,null,{"$f":"SUBTOTAL(3,$D$15:D15)","v":1},{"$f":"'Danh muc nhan vien'!E12","v":"Trần Văn Tám"},{"$f":"IFERROR(VLOOKUP(D15,'Danh muc nhan vien'!$E$12:$BY$42,2,0),\"\")","v":"Giám Đốc"},null,null,null,null,null,null,null,null,null,null,null,null,null,null,null,null,null,null,null,null,null,null,null,null,null,null,null,null,null,null,null,{"$f":"COUNTIF($F15:$AJ15,AK$13)","v":0},{"$f":"COUNTIF($F15:$AJ15,AL$13)","v":0},0,0,0,{"$f":"AK15*1+AL15*0.5+AM15*1","v":0},{"$f":"IF(E15=\"\",\"\",IF(OR(VLOOKUP(D15,DSNV,5,0)<1,VLOOKUP(D15,DSNV,5,0)>eomonth5),\"\",\"Đã nghỉ\"))","v":""},null,null,null,null,null,null,null,null,null,null,{"$f":"IF(AND(VLOOKUP(D15,DSNV,5,0)>1,$F$13>VLOOKUP(D15,DSNV,5,0)),\"\",IF(SUM(AK15:AP15)<$E$6,\"x\",\"\"))","v":"x"}]
[null,null,{"$f":"SUBTOTAL(3,$D$15:D16)","v":2},{"$f":"'Danh muc nhan vien'!E13","v":"Đặng Văn Thành"},{"$f":"IFERROR(VLOOKUP(D16,'Danh muc nhan vien'!$E$12:$BY$42,2,0),\"\")","v":"Phó GĐ"},null,null,null,null,null,null,null,null,null,null,null,null,null,null,null,null,null,null,null,null,null,null,null,null,null,null,null,null,null,null,null,{"$f":"COUNTIF($F16:$AJ16,AK$13)","v":0},0,0,0,0,{"$f":"AK16*1+AL16*0.5+AM16*1","v":0},"",null,null,null,null,null,null,null,null,null,null,"x"]
[null,null,{"$f":"SUBTOTAL(3,$D$15:D17)","v":3},{"$f":"'Danh muc nhan vien'!E14","v":"Đặng Thành Tâm"},{"$f":"IFERROR(VLOOKUP(D17,'Danh muc nhan vien'!$E$12:$BY$42,2,0),\"\")","v":"KTT"},null,null,null,null,null,null,null,null,null,null,null,null,null,null,null,null,null,null,null,null,null,null,null,null,null,null,null,null,null,null,null,0,0,0,0,0,0,"",null,null,null,null,null,null,null,null,null,null,"x"]
[null,null,{"$f":"SUBTOTAL(3,$D$15:D18)","v":4},{"$f":"'Danh muc nhan vien'!E15","v":"Đoàn Văn Cường"},{"$f":"IFERROR(VLOOKUP(D18,'Danh muc nhan vien'!$E$12:$BY$42,2,0),\"\")","v":"TP Kinh Doanh"},null,null,null,null,null,null,null,null,null,null,null,null,null,null,null,null,null,null,null,null,null,null,null,null,null,null,null,null,null,null,null,0,0,0,0,0,0,"",null,null,null,null,null,null,null,null,null,null,"x"]
[null,null,{"$f":"SUBTOTAL(3,$D$15:D19)","v":5},{"$f":"'Danh muc nhan vien'!E16","v":"Hồ Phương Lanh"},{"$f":"IFERROR(VLOOKUP(D19,'Danh muc nhan vien'!$E$12:$BY$42,2,0),\"\")","v":"KT Tổng hợp"},null,null,null,null,null,null,null,null,null,null,null,null,null,null,null,null,null,null,null,null,null,null,null,null,null,null,null,null,null,null,null,0,0,0,0,0,0,"",null,null,null,null,null,null,null,null,null,null,"x"]
[null,null,{"$f":"SUBTOTAL(3,$D$15:D20)","v":6},{"$f":"'Danh muc nhan vien'!E17","v":"Huỳnh Tùng Lâm"},{"$f":"IFERROR(VLOOKUP(D20,'Danh muc nhan vien'!$E$12:$BY$42,2,0),\"\")","v":"KT Viên"},null,null,null,null,null,null,null,null,null,null,null,null,null,null,null,null,null,null,null,null,null,null,null,null,null,null,null,null,null,null,null,0,0,0,0,0,0,"Đã nghỉ",null,null,null,null,null,null,null,null,null,null,""]
[null,null,{"$f":"SUBTOTAL(3,$D$15:D21)","v":7},{"$f":"'Danh muc nhan vien'!E18","v":"Lê Đại Tài"},{"$f":"IFERROR(VLOOKUP(D21,'Danh muc nhan vien'!$E$12:$BY$42,2,0),\"\")","v":"KT Viên"},null,null,null,null,null,null,null,null,null,null,null,null,null,null,null,null,null,null,null,null,null,null,null,null,null,null,null,null,null,null,null,0,0,0,0,0,0,"",null,null,null,null,null,null,null,null,null,null,"x"]
[null,null,{"$f":"SUBTOTAL(3,$D$15:D22)","v":8},{"$f":"'Danh muc nhan vien'!E19","v":"Lâm Thị Cành"},{"$f":"IFERROR(VLOOKUP(D22,'Danh muc nhan vien'!$E$12:$BY$42,2,0),\"\")","v":"Nhân sự"},null,null,null,null,null,null,null,null,null,null,null,null,null,null,null,null,null,null,null,null,null,null,null,null,null,null,null,null,null,null,null,0,0,0,0,0,0,"",null,null,null,null,null,null,null,null,null,null,"x"]
[null,null,{"$f":"SUBTOTAL(3,$D$15:D23)","v":9},{"$f":"'Danh muc nhan vien'!E20","v":"Lê Đức Chinh"},{"$f":"IFERROR(VLOOKUP(D23,'Danh muc nhan vien'!$E$12:$BY$42,2,0),\"\")","v":"Hành chính"},null,null,null,null,null,null,null,null,null,null,null,null,null,null,null,null,null,null,null,null,null,null,null,null,null,null,null,null,null,null,null,0,0,0,0,0,0,"Đã nghỉ",null,null,null,null,null,null,null,null,null,null,""]
[null,null,{"$f":"SUBTOTAL(3,$D$15:D24)","v":10},{"$f":"'Danh muc nhan vien'!E21","v":"Lê Văn Liêm"},{"$f":"IFERROR(VLOOKUP(D24,'Danh muc nhan vien'!$E$12:$BY$42,2,0),\"\")","v":"Marketing"},null,null,null,null,null,null,null,null,null,null,null,null,null,null,null,null,null,null,null,null,null,null,null,null,null,null,null,null,null,null,null,0,0,0,0,0,0,"",null,null,null,null,null,null,null,null,null,null,"x"]
[null,null,{"$f":"SUBTOTAL(3,$D$15:D25)","v":11},{"$f":"'Danh muc nhan vien'!E22","v":"Nguyễn Chí Thanh"},{"$f":"IFERROR(VLOOKUP(D25,'Danh muc nhan vien'!$E$12:$BY$42,2,0),\"\")","v":"NV Kinh Doanh"},null,null,null,null,null,null,null,null,null,null,null,null,null,null,null,null,null,null,null,null,null,null,null,null,null,null,null,null,null,null,null,0,0,0,0,0,0,"",null,null,null,null,null,null,null,null,null,null,"x"]
[null,null,{"$f":"SUBTOTAL(3,$D$15:D26)","v":12},{"$f":"'Danh muc nhan vien'!E23","v":"Nguyễn Hoàng Tính"},{"$f":"IFERROR(VLOOKUP(D26,'Danh muc nhan vien'!$E$12:$BY$42,2,0),\"\")","v":"NV Kinh Doanh"},null,null,null,null,null,null,null,null,null,null,null,null,null,null,null,null,null,null,null,null,null,null,null,null,null,null,null,null,null,null,null,0,0,0,0,0,0,"Đã nghỉ",null,null,null,null,null,null,null,null,null,null,""]
[null,null,{"$f":"SUBTOTAL(3,$D$15:D27)","v":13},{"$f":"'Danh muc nhan vien'!E24","v":"Nguyễn Văn Hân"},{"$f":"IFERROR(VLOOKUP(D27,'Danh muc nhan vien'!$E$12:$BY$42,2,0),\"\")","v":"NV Kinh Doanh"},null,null,null,null,null,null,null,null,null,null,null,null,null,null,null,null,null,null,null,null,null,null,null,null,null,null,null,null,null,null,null,0,0,0,0,0,0,"",null,null,null,null,null,null,null,null,null,null,"x"]
[null,null,{"$f":"SUBTOTAL(3,$D$15:D28)","v":14},{"$f":"'Danh muc nhan vien'!E25","v":"Phạm Hoài An"},{"$f":"IFERROR(VLOOKUP(D28,'Danh muc nhan vien'!$E$12:$BY$42,2,0),\"\")","v":"NV Kinh Doanh"},null,null,null,null,null,null,null,null,null,null,null,null,null,null,null,null,null,null,null,null,null,null,null,null,null,null,null,null,null,null,null,0,0,0,0,0,0,"",null,null,null,null,null,null,null,null,null,null,"x"]
[null,null,{"$f":"SUBTOTAL(3,$D$15:D29)","v":15},{"$f":"'Danh muc nhan vien'!E26","v":0},{"$f":"IFERROR(VLOOKUP(D29,'Danh muc nhan vien'!$E$12:$BY$42,2,0),\"\")","v":""},null,null,null,null,null,null,null,null,null,null,null,null,null,null,null,null,null,null,null,null,null,null,null,null,null,null,null,null,null,null,null,0,0,0,0,0,0,"",null,null,null,null,null,null,null,null,null,null,{"$error":"#N/A"}]
[null,null,{"$f":"SUBTOTAL(3,$D$15:D30)","v":16},{"$f":"'Danh muc nhan vien'!E27","v":0},{"$f":"IFERROR(VLOOKUP(D30,'Danh muc nhan vien'!$E$12:$BY$42,2,0),\"\")","v":""},null,null,null,null,null,null,null,null,null,null,null,null,null,null,null,null,null,null,null,null,null,null,null,null,null,null,null,null,null,null,null,0,0,0,0,0,0,"",null,null,null,null,null,null,null,null,null,null,{"$error":"#N/A"}]
[null,null,{"$f":"SUBTOTAL(3,$D$15:D31)","v":17},{"$f":"'Danh muc nhan vien'!E28","v":0},{"$f":"IFERROR(VLOOKUP(D31,'Danh muc nhan vien'!$E$12:$BY$42,2,0),\"\")","v":""},null,null,null,null,null,null,null,null,null,null,null,null,null,null,null,null,null,null,null,null,null,null,null,null,null,null,null,null,null,null,null,0,0,0,0,0,0,"",null,null,null,null,null,null,null,null,null,null,{"$error":"#N/A"}]
[null,null,{"$f":"SUBTOTAL(3,$D$15:D32)","v":18},{"$f":"'Danh muc nhan vien'!E29","v":0},{"$f":"IFERROR(VLOOKUP(D32,'Danh muc nhan vien'!$E$12:$BY$42,2,0),\"\")","v":""},null,null,null,null,null,null,null,null,null,null,null,null,null,null,null,null,null,null,null,null,null,null,null,null,null,null,null,null,null,null,null,{"$f":"COUNTIF($F32:$AJ32,AK$13)","v":0},0,0,0,0,0,"",null,null,null,null,null,null,null,null,null,null,{"$error":"#N/A"}]
[null,null,{"$f":"SUBTOTAL(3,$D$15:D33)","v":19},{"$f":"'Danh muc nhan vien'!E30","v":0},{"$f":"IFERROR(VLOOKUP(D33,'Danh muc nhan vien'!$E$12:$BY$42,2,0),\"\")","v":""},null,null,null,null,null,null,null,null,null,null,null,null,null,null,null,null,null,null,null,null,null,null,null,null,null,null,null,null,null,null,null,0,0,0,0,0,0,"",null,null,null,null,null,null,null,null,null,null,{"$error":"#N/A"}]
[null,null,{"$f":"SUBTOTAL(3,$D$15:D34)","v":20},{"$f":"'Danh muc nhan vien'!E31","v":0},{"$f":"IFERROR(VLOOKUP(D34,'Danh muc nhan vien'!$E$12:$BY$42,2,0),\"\")","v":""},null,null,null,null,null,null,null,null,null,null,null,null,null,null,null,null,null,null,null,null,null,null,null,null,null,null,null,null,null,null,null,0,0,0,0,0,0,"",null,null,null,null,null,null,null,null,null,null,{"$error":"#N/A"}]
[null,null,{"$f":"SUBTOTAL(3,$D$15:D35)","v":21},{"$f":"'Danh muc nhan vien'!E32","v":0},{"$f":"IFERROR(VLOOKUP(D35,'Danh muc nhan vien'!$E$12:$BY$42,2,0),\"\")","v":""},null,null,null,null,null,null,null,null,null,null,null,null,null,null,null,null,null,null,null,null,null,null,null,null,null,null,null,null,null,null,null,0,0,0,0,0,0,"",null,null,null,null,null,null,null,null,null,null,{"$error":"#N/A"}]
[null,null,{"$f":"SUBTOTAL(3,$D$15:D36)","v":22},{"$f":"'Danh muc nhan vien'!E33","v":0},{"$f":"IFERROR(VLOOKUP(D36,'Danh muc nhan vien'!$E$12:$BY$42,2,0),\"\")","v":""},null,null,null,null,null,null,null,null,null,null,null,null,null,null,null,null,null,null,null,null,null,null,null,null,null,null,null,null,null,null,null,0,0,0,0,0,0,"",null,null,null,null,null,null,null,null,null,null,{"$error":"#N/A"}]
[null,null,{"$f":"SUBTOTAL(3,$D$15:D37)","v":23},{"$f":"'Danh muc nhan vien'!E34","v":0},{"$f":"IFERROR(VLOOKUP(D37,'Danh muc nhan vien'!$E$12:$BY$42,2,0),\"\")","v":""},null,null,null,null,null,null,null,null,null,null,null,null,null,null,null,null,null,null,null,null,null,null,null,null,null,null,null,null,null,null,null,0,0,0,0,0,0,"",null,null,null,null,null,null,null,null,null,null,{"$error":"#N/A"}]
[null,null,{"$f":"SUBTOTAL(3,$D$15:D38)","v":24},{"$f":"'Danh muc nhan vien'!E35","v":0},{"$f":"IFERROR(VLOOKUP(D38,'Danh muc nhan vien'!$E$12:$BY$42,2,0),\"\")","v":""},null,null,null,null,null,null,null,null,null,null,null,null,null,null,null,null,null,null,null,null,null,null,null,null,null,null,null,null,null,null,null,0,0,0,0,0,0,"",null,null,null,null,null,null,null,null,null,null,{"$error":"#N/A"}]
[null,null,{"$f":"SUBTOTAL(3,$D$15:D39)","v":25},{"$f":"'Danh muc nhan vien'!E36","v":0},{"$f":"IFERROR(VLOOKUP(D39,'Danh muc nhan vien'!$E$12:$BY$42,2,0),\"\")","v":""},null,null,null,null,null,null,null,null,null,null,null,null,null,null,null,null,null,null,null,null,null,null,null,null,null,null,null,null,null,null,null,0,0,0,0,0,0,"",null,null,null,null,null,null,null,null,null,null,{"$error":"#N/A"}]
[null,null,{"$f":"SUBTOTAL(3,$D$15:D40)","v":26},{"$f":"'Danh muc nhan vien'!E37","v":0},{"$f":"IFERROR(VLOOKUP(D40,'Danh muc nhan vien'!$E$12:$BY$42,2,0),\"\")","v":""},null,null,null,null,null,null,null,null,null,null,null,null,null,null,null,null,null,null,null,null,null,null,null,null,null,null,null,null,null,null,null,0,0,0,0,0,0,"",null,null,null,null,null,null,null,null,null,null,{"$error":"#N/A"}]
[null,null,{"$f":"SUBTOTAL(3,$D$15:D41)","v":27},{"$f":"'Danh muc nhan vien'!E38","v":0},{"$f":"IFERROR(VLOOKUP(D41,'Danh muc nhan vien'!$E$12:$BY$42,2,0),\"\")","v":""},null,null,null,null,null,null,null,null,null,null,null,null,null,null,null,null,null,null,null,null,null,null,null,null,null,null,null,null,null,null,null,0,0,0,0,0,0,"",null,null,null,null,null,null,null,null,null,null,{"$error":"#N/A"}]
[null,null,{"$f":"SUBTOTAL(3,$D$15:D42)","v":28},{"$f":"'Danh muc nhan vien'!E39","v":0},{"$f":"IFERROR(VLOOKUP(D42,'Danh muc nhan vien'!$E$12:$BY$42,2,0),\"\")","v":""},null,null,null,null,null,null,null,null,null,null,null,null,null,null,null,null,null,null,null,null,null,null,null,null,null,null,null,null,null,null,null,0,0,0,0,0,0,"",null,null,null,null,null,null,null,null,null,null,{"$error":"#N/A"}]
[null,null,{"$f":"SUBTOTAL(3,$D$15:D43)","v":29},{"$f":"'Danh muc nhan vien'!E40","v":0},{"$f":"IFERROR(VLOOKUP(D43,'Danh muc nhan vien'!$E$12:$BY$42,2,0),\"\")","v":""},null,null,null,null,null,null,null,null,null,null,null,null,null,null,null,null,null,null,null,null,null,null,null,null,null,null,null,null,null,null,null,0,0,0,0,0,0,"",null,null,null,null,null,null,null,null,null,null,{"$error":"#N/A"}]
[null,null,{"$f":"SUBTOTAL(3,$D$15:D44)","v":30},{"$f":"'Danh muc nhan vien'!E41","v":0},{"$f":"IFERROR(VLOOKUP(D44,'Danh muc nhan vien'!$E$12:$BY$42,2,0),\"\")","v":""},null,null,null,null,null,null,null,null,null,null,null,null,null,null,null,null,null,null,null,null,null,null,null,null,null,null,null,null,null,null,null,0,0,0,0,0,0,"",null,null,null,null,null,null,null,null,null,null,{"$error":"#N/A"}]
[]
[null,null,".",".",".",".",".",".",".",".",".",".",".",".",".",".",".",".",".",".",".",".",".",".",".",".",".",".",".",".",".",".",".",".",".",".",".",".",".",".",".",".","."]
[]
[null,null,null,null,null,null,null,null,null,null,null,null,null,null,null,null,null,null,null,null,null,null,null,null,null,null,null,null,null,null,null,null,null,{"$f":"\"Ngày …….. Tháng …….. Năm \"&year","v":"Ngày …….. Tháng …….. Năm 2021"}]
[null,null,null,"NGƯỜI CHẤM CÔNG",null,null,null,null,null,null,null,null,null,null,null,null,null,null,null,"PHỤ TRÁCH BỘ PHẬN",null,null,null,null,null,null,null,null,null,null,null,null,null,"THỦ TRƯỞNG ĐƠN VỊ"]
[null,null,null,"(Ký tên)",null,null,null,null,null,null,null,null,null,null,null,null,null,null,null,"(Ký tên)",null,null,null,null,null,null,null,null,null,null,null,null,null,"(Ký tên)"]
[]
[]
[]
[]
[null,null,null,{"$f":"Chamcong","v":"Vũ Trình B"},null,null,null,null,null,null,null,null,null,null,null,null,null,null,null,{"$f":"phutrach","v":"Nguyễn Linh A"},null,null,null,null,null,null,null,null,null,null,null,null,null,{"$f":"Giamdoc","v":"Mr. Trường"}]

{"sheet":"T6","index":8,"n_rows":55,"n_cols":88,"rows_kept":55,"cut":false,"hidden":false,"merged":[[9,5,9,35],[4,53,4,61],[5,2,5,3],[5,7,5,9],[5,10,5,12],[8,5,8,35],[5,30,5,34],[8,2,9,4],[54,33,54,42],[11,2,13,2],[11,3,13,3],[11,4,13,4],[11,5,11,35],[11,36,11,41],[11,42,13,42],[12,36,13,36],[12,37,13,37],[12,38,13,38],[12,39,13,39],[12,40,13,40],[12,41,13,41],[47,33,47,42],[48,33,48,42],[49,33,49,42]]}
[]
[]
[]
[]
[]
[null,null,"Số ngày làm việc:",null,{"$f":"VLOOKUP(m.jun,ngaycong,2,0)","v":26},null,null,"<<",null,null,">>",null,null,null,null,null,null,null,null,null,null,null,null,null,null,null,null,null,null,null,{"$f":"DATEVALUE(\"1/6/\"&year)","v":"2021-01-06"}]
[]
[null,null,{"$f":"Setup!F10","v":"Công ty TNHH Webkynang Việt Nam"},null,null,null,null,null,null,null,null,null,null,null,null,null,null,null,null,null,null,null,null,null,null,null,null,null,null,null,null,null,null,null,null,null,null,null,null,null,null,null,null,null,null,null,null,null,null,null,null,null,null,null,null,null,null,null,null,null,null,null,null,null,null,null,null,null,null,null,null,null,null,null,null,null,null,null,null,null,null,null,null,null,null,null,null,{"$f":"VALUE(MID(F10,8,1))","v":6}]
[null,null,{"$f":"Setup!D11&\" \"&Setup!F11","v":"Địa chỉ: Tầng 6, Tòa nhà Sannam, Duy Tân, Cầu Giấy, Hà Nội"},null,null,"BẢNG CHẤM CÔNG"]
[null,null,null,null,null,{"$f":"\"Tháng 6 năm \"&year","v":"Tháng 6 năm 2021"}]
[null,null,null,null,null,null,{"$f":"F13+1","v":"2021-06-02"},{"$f":"G11+1","v":"2021-06-03"},{"$f":"H11+1","v":"2021-06-04"},"2021-06-05","2021-06-06","2021-06-07","2021-06-08","2021-06-09","2021-06-10","2021-06-11","2021-06-12","2021-06-13","2021-06-14","2021-06-15","2021-06-16","2021-06-17","2021-06-18","2021-06-19","2021-06-20","2021-06-21","2021-06-22","2021-06-23","2021-06-24","2021-06-25","2021-06-26","2021-06-27","2021-06-28","2021-06-29","2021-06-30","2021-07-01"]
[null,null,"SỐ TT","HỌ VÀ TÊN","CHỨC VỤ","NGÀY TRONG THÁNG/ THỨ TRONG TUẦN",null,null,null,null,null,null,null,null,null,null,null,null,null,null,null,null,null,null,null,null,null,null,null,null,null,null,null,null,null,null,"TỔNG",null,null,null,null,null,"GHI CHÚ"]
[null,null,null,null,null,{"$f":"DATE(year,m.jun,1)","v":"2021-06-01"},{"$f":"IF(MONTH(G11)>m.jun,\"\",G11)","v":"2021-06-02"},"2021-06-03","2021-06-04","2021-06-05","2021-06-06","2021-06-07","2021-06-08","2021-06-09","2021-06-10","2021-06-11","2021-06-12","2021-06-13","2021-06-14","2021-06-15","2021-06-16","2021-06-17","2021-06-18","2021-06-19","2021-06-20","2021-06-21","2021-06-22","2021-06-23","2021-06-24","2021-06-25","2021-06-26","2021-06-27","2021-06-28","2021-06-29","2021-06-30","",{"$f":"macong1","v":"x"},{"$f":"macong2","v":"x2"},{"$f":"macong3","v":"NC"},{"$f":"macong4","v":"NO"},{"$f":"macong5","v":"00:00:00"},"Tổng"]
[null,null,null,null,null,{"$f":"IF(F13=\"\",\"\",CHOOSE(WEEKDAY(F13),\"C.Nhật\",\"T.Hai\",\"T.Ba\",\"T.Tư\",\"T.Năm\",\"T.Sáu\",\"T.Bảy\"))","v":"T.Ba"},{"$f":"IF(G13=\"\",\"\",CHOOSE(WEEKDAY(G13),\"C.Nhật\",\"T.Hai\",\"T.Ba\",\"T.Tư\",\"T.Năm\",\"T.Sáu\",\"T.Bảy\"))","v":"T.Tư"},"T.Năm","T.Sáu","T.Bảy","C.Nhật","T.Hai","T.Ba","T.Tư","T.Năm","T.Sáu","T.Bảy","C.Nhật","T.Hai","T.Ba","T.Tư","T.Năm","T.Sáu","T.Bảy","C.Nhật","T.Hai","T.Ba","T.Tư","T.Năm","T.Sáu","T.Bảy","C.Nhật","T.Hai",{"$f":"IF(AH13=\"\",\"\",CHOOSE(WEEKDAY(AH13),\"C.Nhật\",\"T.Hai\",\"T.Ba\",\"T.Tư\",\"T.Năm\",\"T.Sáu\",\"T.Bảy\"))","v":"T.Ba"},{"$f":"IF(AI13=\"\",\"\",CHOOSE(WEEKDAY(AI13),\"C.Nhật\",\"T.Hai\",\"T.Ba\",\"T.Tư\",\"T.Năm\",\"T.Sáu\",\"T.Bảy\"))","v":"T.Tư"},""]
[null,null,{"$f":"SUBTOTAL(3,$D$15:D15)","v":1},{"$f":"'Danh muc nhan vien'!E12","v":"Trần Văn Tám"},{"$f":"IFERROR(VLOOKUP(D15,'Danh muc nhan vien'!$E$12:$BY$42,2,0),\"\")","v":"Giám Đốc"},null,null,null,null,null,null,null,null,null,null,null,null,null,null,null,null,null,null,null,null,null,null,null,null,null,null,null,null,null,null,null,{"$f":"COUNTIF($F15:$AJ15,AK$13)","v":0},{"$f":"COUNTIF($F15:$AJ15,AL$13)","v":0},0,0,0,{"$f":"AK15*1+AL15*0.5+AM15*1","v":0},{"$f":"IF(E15=\"\",\"\",IF(OR(VLOOKUP(D15,DSNV,5,0)<1,VLOOKUP(D15,DSNV,5,0)>eomonth6),\"\",\"Đã nghỉ\"))","v":""},null,null,null,null,null,null,null,null,null,null,{"$f":"IF(AND(VLOOKUP(D15,DSNV,5,0)>1,$F$13>VLOOKUP(D15,DSNV,5,0)),\"\",IF(SUM(AK15:AP15)<$E$6,\"x\",\"\"))","v":"x"}]
[null,null,{"$f":"SUBTOTAL(3,$D$15:D16)","v":2},{"$f":"'Danh muc nhan vien'!E13","v":"Đặng Văn Thành"},{"$f":"IFERROR(VLOOKUP(D16,'Danh muc nhan vien'!$E$12:$BY$42,2,0),\"\")","v":"Phó GĐ"},null,null,null,null,null,null,null,null,null,null,null,null,null,null,null,null,null,null,null,null,null,null,null,null,null,null,null,null,null,null,null,{"$f":"COUNTIF($F16:$AJ16,AK$13)","v":0},0,0,0,0,{"$f":"AK16*1+AL16*0.5+AM16*1","v":0},"",null,null,null,null,null,null,null,null,null,null,"x"]
[null,null,{"$f":"SUBTOTAL(3,$D$15:D17)","v":3},{"$f":"'Danh muc nhan vien'!E14","v":"Đặng Thành Tâm"},{"$f":"IFERROR(VLOOKUP(D17,'Danh muc nhan vien'!$E$12:$BY$42,2,0),\"\")","v":"KTT"},null,null,null,null,null,null,null,null,null,null,null,null,null,null,null,null,null,null,null,null,null,null,null,null,null,null,null,null,null,null,null,0,0,0,0,0,0,"",null,null,null,null,null,null,null,null,null,null,"x"]
[null,null,{"$f":"SUBTOTAL(3,$D$15:D18)","v":4},{"$f":"'Danh muc nhan vien'!E15","v":"Đoàn Văn Cường"},{"$f":"IFERROR(VLOOKUP(D18,'Danh muc nhan vien'!$E$12:$BY$42,2,0),\"\")","v":"TP Kinh Doanh"},null,null,null,null,null,null,null,null,null,null,null,null,null,null,null,null,null,null,null,null,null,null,null,null,null,null,null,null,null,null,null,0,0,0,0,0,0,"",null,null,null,null,null,null,null,null,null,null,"x"]
[null,null,{"$f":"SUBTOTAL(3,$D$15:D19)","v":5},{"$f":"'Danh muc nhan vien'!E16","v":"Hồ Phương Lanh"},{"$f":"IFERROR(VLOOKUP(D19,'Danh muc nhan vien'!$E$12:$BY$42,2,0),\"\")","v":"KT Tổng hợp"},null,null,null,null,null,null,null,null,null,null,null,null,null,null,null,null,null,null,null,null,null,null,null,null,null,null,null,null,null,null,null,0,0,0,0,0,0,"",null,null,null,null,null,null,null,null,null,null,"x"]
[null,null,{"$f":"SUBTOTAL(3,$D$15:D20)","v":6},{"$f":"'Danh muc nhan vien'!E17","v":"Huỳnh Tùng Lâm"},{"$f":"IFERROR(VLOOKUP(D20,'Danh muc nhan vien'!$E$12:$BY$42,2,0),\"\")","v":"KT Viên"},null,null,null,null,null,null,null,null,null,null,null,null,null,null,null,null,null,null,null,null,null,null,null,null,null,null,null,null,null,null,null,0,0,0,0,0,0,"Đã nghỉ",null,null,null,null,null,null,null,null,null,null,""]
[null,null,{"$f":"SUBTOTAL(3,$D$15:D21)","v":7},{"$f":"'Danh muc nhan vien'!E18","v":"Lê Đại Tài"},{"$f":"IFERROR(VLOOKUP(D21,'Danh muc nhan vien'!$E$12:$BY$42,2,0),\"\")","v":"KT Viên"},null,null,null,null,null,null,null,null,null,null,null,null,null,null,null,null,null,null,null,null,null,null,null,null,null,null,null,null,null,null,null,0,0,0,0,0,0,"",null,null,null,null,null,null,null,null,null,null,"x"]
[null,null,{"$f":"SUBTOTAL(3,$D$15:D22)","v":8},{"$f":"'Danh muc nhan vien'!E19","v":"Lâm Thị Cành"},{"$f":"IFERROR(VLOOKUP(D22,'Danh muc nhan vien'!$E$12:$BY$42,2,0),\"\")","v":"Nhân sự"},null,null,null,null,null,null,null,null,null,null,null,null,null,null,null,null,null,null,null,null,null,null,null,null,null,null,null,null,null,null,null,0,0,0,0,0,0,"",null,null,null,null,null,null,null,null,null,null,"x"]
[null,null,{"$f":"SUBTOTAL(3,$D$15:D23)","v":9},{"$f":"'Danh muc nhan vien'!E20","v":"Lê Đức Chinh"},{"$f":"IFERROR(VLOOKUP(D23,'Danh muc nhan vien'!$E$12:$BY$42,2,0),\"\")","v":"Hành chính"},null,null,null,null,null,null,null,null,null,null,null,null,null,null,null,null,null,null,null,null,null,null,null,null,null,null,null,null,null,null,null,0,0,0,0,0,0,"Đã nghỉ",null,null,null,null,null,null,null,null,null,null,""]
[null,null,{"$f":"SUBTOTAL(3,$D$15:D24)","v":10},{"$f":"'Danh muc nhan vien'!E21","v":"Lê Văn Liêm"},{"$f":"IFERROR(VLOOKUP(D24,'Danh muc nhan vien'!$E$12:$BY$42,2,0),\"\")","v":"Marketing"},null,null,null,null,null,null,null,null,null,null,null,null,null,null,null,null,null,null,null,null,null,null,null,null,null,null,null,null,null,null,null,0,0,0,0,0,0,"",null,null,null,null,null,null,null,null,null,null,"x"]
[null,null,{"$f":"SUBTOTAL(3,$D$15:D25)","v":11},{"$f":"'Danh muc nhan vien'!E22","v":"Nguyễn Chí Thanh"},{"$f":"IFERROR(VLOOKUP(D25,'Danh muc nhan vien'!$E$12:$BY$42,2,0),\"\")","v":"NV Kinh Doanh"},null,null,null,null,null,null,null,null,null,null,null,null,null,null,null,null,null,null,null,null,null,null,null,null,null,null,null,null,null,null,null,0,0,0,0,0,0,"",null,null,null,null,null,null,null,null,null,null,"x"]
[null,null,{"$f":"SUBTOTAL(3,$D$15:D26)","v":12},{"$f":"'Danh muc nhan vien'!E23","v":"Nguyễn Hoàng Tính"},{"$f":"IFERROR(VLOOKUP(D26,'Danh muc nhan vien'!$E$12:$BY$42,2,0),\"\")","v":"NV Kinh Doanh"},null,null,null,null,null,null,null,null,null,null,null,null,null,null,null,null,null,null,null,null,null,null,null,null,null,null,null,null,null,null,null,0,0,0,0,0,0,"Đã nghỉ",null,null,null,null,null,null,null,null,null,null,""]
[null,null,{"$f":"SUBTOTAL(3,$D$15:D27)","v":13},{"$f":"'Danh muc nhan vien'!E24","v":"Nguyễn Văn Hân"},{"$f":"IFERROR(VLOOKUP(D27,'Danh muc nhan vien'!$E$12:$BY$42,2,0),\"\")","v":"NV Kinh Doanh"},null,null,null,null,null,null,null,null,null,null,null,null,null,null,null,null,null,null,null,null,null,null,null,null,null,null,null,null,null,null,null,0,0,0,0,0,0,"",null,null,null,null,null,null,null,null,null,null,"x"]
[null,null,{"$f":"SUBTOTAL(3,$D$15:D28)","v":14},{"$f":"'Danh muc nhan vien'!E25","v":"Phạm Hoài An"},{"$f":"IFERROR(VLOOKUP(D28,'Danh muc nhan vien'!$E$12:$BY$42,2,0),\"\")","v":"NV Kinh Doanh"},null,null,null,null,null,null,null,null,null,null,null,null,null,null,null,null,null,null,null,null,null,null,null,null,null,null,null,null,null,null,null,0,0,0,0,0,0,"",null,null,null,null,null,null,null,null,null,null,"x"]
[null,null,{"$f":"SUBTOTAL(3,$D$15:D29)","v":15},{"$f":"'Danh muc nhan vien'!E26","v":0},{"$f":"IFERROR(VLOOKUP(D29,'Danh muc nhan vien'!$E$12:$BY$42,2,0),\"\")","v":""},null,null,null,null,null,null,null,null,null,null,null,null,null,null,null,null,null,null,null,null,null,null,null,null,null,null,null,null,null,null,null,0,0,0,0,0,0,"",null,null,null,null,null,null,null,null,null,null,{"$error":"#N/A"}]
[null,null,{"$f":"SUBTOTAL(3,$D$15:D30)","v":16},{"$f":"'Danh muc nhan vien'!E27","v":0},{"$f":"IFERROR(VLOOKUP(D30,'Danh muc nhan vien'!$E$12:$BY$42,2,0),\"\")","v":""},null,null,null,null,null,null,null,null,null,null,null,null,null,null,null,null,null,null,null,null,null,null,null,null,null,null,null,null,null,null,null,0,0,0,0,0,0,"",null,null,null,null,null,null,null,null,null,null,{"$error":"#N/A"}]
[null,null,{"$f":"SUBTOTAL(3,$D$15:D31)","v":17},{"$f":"'Danh muc nhan vien'!E28","v":0},{"$f":"IFERROR(VLOOKUP(D31,'Danh muc nhan vien'!$E$12:$BY$42,2,0),\"\")","v":""},null,null,null,null,null,null,null,null,null,null,null,null,null,null,null,null,null,null,null,null,null,null,null,null,null,null,null,null,null,null,null,0,0,0,0,0,0,"",null,null,null,null,null,null,null,null,null,null,{"$error":"#N/A"}]
[null,null,{"$f":"SUBTOTAL(3,$D$15:D32)","v":18},{"$f":"'Danh muc nhan vien'!E29","v":0},{"$f":"IFERROR(VLOOKUP(D32,'Danh muc nhan vien'!$E$12:$BY$42,2,0),\"\")","v":""},null,null,null,null,null,null,null,null,null,null,null,null,null,null,null,null,null,null,null,null,null,null,null,null,null,null,null,null,null,null,null,{"$f":"COUNTIF($F32:$AJ32,AK$13)","v":0},0,0,0,0,0,"",null,null,null,null,null,null,null,null,null,null,{"$error":"#N/A"}]
[null,null,{"$f":"SUBTOTAL(3,$D$15:D33)","v":19},{"$f":"'Danh muc nhan vien'!E30","v":0},{"$f":"IFERROR(VLOOKUP(D33,'Danh muc nhan vien'!$E$12:$BY$42,2,0),\"\")","v":""},null,null,null,null,null,null,null,null,null,null,null,null,null,null,null,null,null,null,null,null,null,null,null,null,null,null,null,null,null,null,null,0,0,0,0,0,0,"",null,null,null,null,null,null,null,null,null,null,{"$error":"#N/A"}]
[null,null,{"$f":"SUBTOTAL(3,$D$15:D34)","v":20},{"$f":"'Danh muc nhan vien'!E31","v":0},{"$f":"IFERROR(VLOOKUP(D34,'Danh muc nhan vien'!$E$12:$BY$42,2,0),\"\")","v":""},null,null,null,null,null,null,null,null,null,null,null,null,null,null,null,null,null,null,null,null,null,null,null,null,null,null,null,null,null,null,null,0,0,0,0,0,0,"",null,null,null,null,null,null,null,null,null,null,{"$error":"#N/A"}]
[null,null,{"$f":"SUBTOTAL(3,$D$15:D35)","v":21},{"$f":"'Danh muc nhan vien'!E32","v":0},{"$f":"IFERROR(VLOOKUP(D35,'Danh muc nhan vien'!$E$12:$BY$42,2,0),\"\")","v":""},null,null,null,null,null,null,null,null,null,null,null,null,null,null,null,null,null,null,null,null,null,null,null,null,null,null,null,null,null,null,null,0,0,0,0,0,0,"",null,null,null,null,null,null,null,null,null,null,{"$error":"#N/A"}]
[null,null,{"$f":"SUBTOTAL(3,$D$15:D36)","v":22},{"$f":"'Danh muc nhan vien'!E33","v":0},{"$f":"IFERROR(VLOOKUP(D36,'Danh muc nhan vien'!$E$12:$BY$42,2,0),\"\")","v":""},null,null,null,null,null,null,null,null,null,null,null,null,null,null,null,null,null,null,null,null,null,null,null,null,null,null,null,null,null,null,null,0,0,0,0,0,0,"",null,null,null,null,null,null,null,null,null,null,{"$error":"#N/A"}]
[null,null,{"$f":"SUBTOTAL(3,$D$15:D37)","v":23},{"$f":"'Danh muc nhan vien'!E34","v":0},{"$f":"IFERROR(VLOOKUP(D37,'Danh muc nhan vien'!$E$12:$BY$42,2,0),\"\")","v":""},null,null,null,null,null,null,null,null,null,null,null,null,null,null,null,null,null,null,null,null,null,null,null,null,null,null,null,null,null,null,null,0,0,0,0,0,0,"",null,null,null,null,null,null,null,null,null,null,{"$error":"#N/A"}]
[null,null,{"$f":"SUBTOTAL(3,$D$15:D38)","v":24},{"$f":"'Danh muc nhan vien'!E35","v":0},{"$f":"IFERROR(VLOOKUP(D38,'Danh muc nhan vien'!$E$12:$BY$42,2,0),\"\")","v":""},null,null,null,null,null,null,null,null,null,null,null,null,null,null,null,null,null,null,null,null,null,null,null,null,null,null,null,null,null,null,null,0,0,0,0,0,0,"",null,null,null,null,null,null,null,null,null,null,{"$error":"#N/A"}]
[null,null,{"$f":"SUBTOTAL(3,$D$15:D39)","v":25},{"$f":"'Danh muc nhan vien'!E36","v":0},{"$f":"IFERROR(VLOOKUP(D39,'Danh muc nhan vien'!$E$12:$BY$42,2,0),\"\")","v":""},null,null,null,null,null,null,null,null,null,null,null,null,null,null,null,null,null,null,null,null,null,null,null,null,null,null,null,null,null,null,null,0,0,0,0,0,0,"",null,null,null,null,null,null,null,null,null,null,{"$error":"#N/A"}]
[null,null,{"$f":"SUBTOTAL(3,$D$15:D40)","v":26},{"$f":"'Danh muc nhan vien'!E37","v":0},{"$f":"IFERROR(VLOOKUP(D40,'Danh muc nhan vien'!$E$12:$BY$42,2,0),\"\")","v":""},null,null,null,null,null,null,null,null,null,null,null,null,null,null,null,null,null,null,null,null,null,null,null,null,null,null,null,null,null,null,null,0,0,0,0,0,0,"",null,null,null,null,null,null,null,null,null,null,{"$error":"#N/A"}]
[null,null,{"$f":"SUBTOTAL(3,$D$15:D41)","v":27},{"$f":"'Danh muc nhan vien'!E38","v":0},{"$f":"IFERROR(VLOOKUP(D41,'Danh muc nhan vien'!$E$12:$BY$42,2,0),\"\")","v":""},null,null,null,null,null,null,null,null,null,null,null,null,null,null,null,null,null,null,null,null,null,null,null,null,null,null,null,null,null,null,null,0,0,0,0,0,0,"",null,null,null,null,null,null,null,null,null,null,{"$error":"#N/A"}]
[null,null,{"$f":"SUBTOTAL(3,$D$15:D42)","v":28},{"$f":"'Danh muc nhan vien'!E39","v":0},{"$f":"IFERROR(VLOOKUP(D42,'Danh muc nhan vien'!$E$12:$BY$42,2,0),\"\")","v":""},null,null,null,null,null,null,null,null,null,null,null,null,null,null,null,null,null,null,null,null,null,null,null,null,null,null,null,null,null,null,null,0,0,0,0,0,0,"",null,null,null,null,null,null,null,null,null,null,{"$error":"#N/A"}]
[null,null,{"$f":"SUBTOTAL(3,$D$15:D43)","v":29},{"$f":"'Danh muc nhan vien'!E40","v":0},{"$f":"IFERROR(VLOOKUP(D43,'Danh muc nhan vien'!$E$12:$BY$42,2,0),\"\")","v":""},null,null,null,null,null,null,null,null,null,null,null,null,null,null,null,null,null,null,null,null,null,null,null,null,null,null,null,null,null,null,null,0,0,0,0,0,0,"",null,null,null,null,null,null,null,null,null,null,{"$error":"#N/A"}]
[null,null,{"$f":"SUBTOTAL(3,$D$15:D44)","v":30},{"$f":"'Danh muc nhan vien'!E41","v":0},{"$f":"IFERROR(VLOOKUP(D44,'Danh muc nhan vien'!$E$12:$BY$42,2,0),\"\")","v":""},null,null,null,null,null,null,null,null,null,null,null,null,null,null,null,null,null,null,null,null,null,null,null,null,null,null,null,null,null,null,null,0,0,0,0,0,0,"",null,null,null,null,null,null,null,null,null,null,{"$error":"#N/A"}]
[]
[null,null,".",".",".",".",".",".",".",".",".",".",".",".",".",".",".",".",".",".",".",".",".",".",".",".",".",".",".",".",".",".",".",".",".",".",".",".",".",".",".",".","."]
[]
[null,null,null,null,null,null,null,null,null,null,null,null,null,null,null,null,null,null,null,null,null,null,null,null,null,null,null,null,null,null,null,null,null,{"$f":"\"Ngày …….. Tháng …….. Năm \"&year","v":"Ngày …….. Tháng …….. Năm 2021"}]
[null,null,null,"NGƯỜI CHẤM CÔNG",null,null,null,null,null,null,null,null,null,null,null,null,null,null,null,"PHỤ TRÁCH BỘ PHẬN",null,null,null,null,null,null,null,null,null,null,null,null,null,"THỦ TRƯỞNG ĐƠN VỊ"]
[null,null,null,"(Ký tên)",null,null,null,null,null,null,null,null,null,null,null,null,null,null,null,"(Ký tên)",null,null,null,null,null,null,null,null,null,null,null,null,null,"(Ký tên)"]
[]
[]
[]
[]
[null,null,null,{"$f":"Chamcong","v":"Vũ Trình B"},null,null,null,null,null,null,null,null,null,null,null,null,null,null,null,{"$f":"phutrach","v":"Nguyễn Linh A"},null,null,null,null,null,null,null,null,null,null,null,null,null,{"$f":"Giamdoc","v":"Mr. Trường"}]

{"sheet":"T7","index":9,"n_rows":55,"n_cols":88,"rows_kept":55,"cut":false,"hidden":false,"merged":[[9,5,9,35],[4,53,4,61],[5,2,5,3],[5,7,5,9],[5,10,5,12],[8,5,8,35],[5,30,5,34],[8,2,9,4],[54,33,54,42],[11,2,13,2],[11,3,13,3],[11,4,13,4],[11,5,11,35],[11,36,11,41],[11,42,13,42],[12,36,13,36],[12,37,13,37],[12,38,13,38],[12,39,13,39],[12,40,13,40],[12,41,13,41],[47,33,47,42],[48,33,48,42],[49,33,49,42]]}
[]
[]
[]
[]
[]
[null,null,"Số ngày làm việc:",null,{"$f":"VLOOKUP(m.jul,ngaycong,2,0)","v":26},null,null,"<<",null,null,">>",null,null,null,null,null,null,null,null,null,null,null,null,null,null,null,null,null,null,null,{"$f":"DATEVALUE(\"1/7/\"&year)","v":"2021-01-07"}]
[]
[null,null,{"$f":"Setup!F10","v":"Công ty TNHH Webkynang Việt Nam"},null,null,null,null,null,null,null,null,null,null,null,null,null,null,null,null,null,null,null,null,null,null,null,null,null,null,null,null,null,null,null,null,null,null,null,null,null,null,null,null,null,null,null,null,null,null,null,null,null,null,null,null,null,null,null,null,null,null,null,null,null,null,null,null,null,null,null,null,null,null,null,null,null,null,null,null,null,null,null,null,null,null,null,null,{"$f":"VALUE(MID(F10,8,1))","v":7}]
[null,null,{"$f":"Setup!D11&\" \"&Setup!F11","v":"Địa chỉ: Tầng 6, Tòa nhà Sannam, Duy Tân, Cầu Giấy, Hà Nội"},null,null,"BẢNG CHẤM CÔNG"]
[null,null,null,null,null,{"$f":"\"Tháng 7 năm \"&year","v":"Tháng 7 năm 2021"}]
[null,null,null,null,null,null,{"$f":"F13+1","v":"2021-07-02"},{"$f":"G11+1","v":"2021-07-03"},{"$f":"H11+1","v":"2021-07-04"},"2021-07-05","2021-07-06","2021-07-07","2021-07-08","2021-07-09","2021-07-10","2021-07-11","2021-07-12","2021-07-13","2021-07-14","2021-07-15","2021-07-16","2021-07-17","2021-07-18","2021-07-19","2021-07-20","2021-07-21","2021-07-22","2021-07-23","2021-07-24","2021-07-25","2021-07-26","2021-07-27","2021-07-28","2021-07-29","2021-07-30","2021-07-31"]
[null,null,"SỐ TT","HỌ VÀ TÊN","CHỨC VỤ","NGÀY TRONG THÁNG/ THỨ TRONG TUẦN",null,null,null,null,null,null,null,null,null,null,null,null,null,null,null,null,null,null,null,null,null,null,null,null,null,null,null,null,null,null,"TỔNG",null,null,null,null,null,"GHI CHÚ"]
[null,null,null,null,null,{"$f":"DATE(year,m.jul,1)","v":"2021-07-01"},{"$f":"IF(MONTH(G11)>m.jul,\"\",G11)","v":"2021-07-02"},"2021-07-03","2021-07-04","2021-07-05","2021-07-06","2021-07-07","2021-07-08","2021-07-09","2021-07-10","2021-07-11","2021-07-12","2021-07-13","2021-07-14","2021-07-15","2021-07-16","2021-07-17","2021-07-18","2021-07-19","2021-07-20","2021-07-21","2021-07-22","2021-07-23","2021-07-24","2021-07-25","2021-07-26","2021-07-27","2021-07-28","2021-07-29","2021-07-30","2021-07-31",{"$f":"macong1","v":"x"},{"$f":"macong2","v":"x2"},{"$f":"macong3","v":"NC"},{"$f":"macong4","v":"NO"},{"$f":"macong5","v":"00:00:00"},"Tổng"]
[null,null,null,null,null,{"$f":"IF(F13=\"\",\"\",CHOOSE(WEEKDAY(F13),\"C.Nhật\",\"T.Hai\",\"T.Ba\",\"T.Tư\",\"T.Năm\",\"T.Sáu\",\"T.Bảy\"))","v":"T.Năm"},{"$f":"IF(G13=\"\",\"\",CHOOSE(WEEKDAY(G13),\"C.Nhật\",\"T.Hai\",\"T.Ba\",\"T.Tư\",\"T.Năm\",\"T.Sáu\",\"T.Bảy\"))","v":"T.Sáu"},"T.Bảy","C.Nhật","T.Hai","T.Ba","T.Tư","T.Năm","T.Sáu","T.Bảy","C.Nhật","T.Hai","T.Ba","T.Tư","T.Năm","T.Sáu","T.Bảy","C.Nhật","T.Hai","T.Ba","T.Tư","T.Năm","T.Sáu","T.Bảy","C.Nhật","T.Hai","T.Ba","T.Tư",{"$f":"IF(AH13=\"\",\"\",CHOOSE(WEEKDAY(AH13),\"C.Nhật\",\"T.Hai\",\"T.Ba\",\"T.Tư\",\"T.Năm\",\"T.Sáu\",\"T.Bảy\"))","v":"T.Năm"},{"$f":"IF(AI13=\"\",\"\",CHOOSE(WEEKDAY(AI13),\"C.Nhật\",\"T.Hai\",\"T.Ba\",\"T.Tư\",\"T.Năm\",\"T.Sáu\",\"T.Bảy\"))","v":"T.Sáu"},"T.Bảy"]
[null,null,{"$f":"SUBTOTAL(3,$D$15:D15)","v":1},{"$f":"'Danh muc nhan vien'!E12","v":"Trần Văn Tám"},{"$f":"IFERROR(VLOOKUP(D15,'Danh muc nhan vien'!$E$12:$BY$42,2,0),\"\")","v":"Giám Đốc"},null,null,null,null,null,null,null,null,null,null,null,null,null,null,null,null,null,null,null,null,null,null,null,null,null,null,null,null,null,null,null,{"$f":"COUNTIF($F15:$AJ15,AK$13)","v":0},{"$f":"COUNTIF($F15:$AJ15,AL$13)","v":0},0,0,0,{"$f":"AK15*1+AL15*0.5+AM15*1","v":0},{"$f":"IF(E15=\"\",\"\",IF(OR(VLOOKUP(D15,DSNV,5,0)<1,VLOOKUP(D15,DSNV,5,0)>eomonth7),\"\",\"Đã nghỉ\"))","v":""},null,null,null,null,null,null,null,null,null,null,{"$f":"IF(AND(VLOOKUP(D15,DSNV,5,0)>1,$F$13>VLOOKUP(D15,DSNV,5,0)),\"\",IF(SUM(AK15:AP15)<$E$6,\"x\",\"\"))","v":"x"}]
[null,null,{"$f":"SUBTOTAL(3,$D$15:D16)","v":2},{"$f":"'Danh muc nhan vien'!E13","v":"Đặng Văn Thành"},{"$f":"IFERROR(VLOOKUP(D16,'Danh muc nhan vien'!$E$12:$BY$42,2,0),\"\")","v":"Phó GĐ"},null,null,null,null,null,null,null,null,null,null,null,null,null,null,null,null,null,null,null,null,null,null,null,null,null,null,null,null,null,null,null,{"$f":"COUNTIF($F16:$AJ16,AK$13)","v":0},0,0,0,0,{"$f":"AK16*1+AL16*0.5+AM16*1","v":0},"",null,null,null,null,null,null,null,null,null,null,"x"]
[null,null,{"$f":"SUBTOTAL(3,$D$15:D17)","v":3},{"$f":"'Danh muc nhan vien'!E14","v":"Đặng Thành Tâm"},{"$f":"IFERROR(VLOOKUP(D17,'Danh muc nhan vien'!$E$12:$BY$42,2,0),\"\")","v":"KTT"},null,null,null,null,null,null,null,null,null,null,null,null,null,null,null,null,null,null,null,null,null,null,null,null,null,null,null,null,null,null,null,0,0,0,0,0,0,"",null,null,null,null,null,null,null,null,null,null,"x"]
[null,null,{"$f":"SUBTOTAL(3,$D$15:D18)","v":4},{"$f":"'Danh muc nhan vien'!E15","v":"Đoàn Văn Cường"},{"$f":"IFERROR(VLOOKUP(D18,'Danh muc nhan vien'!$E$12:$BY$42,2,0),\"\")","v":"TP Kinh Doanh"},null,null,null,null,null,null,null,null,null,null,null,null,null,null,null,null,null,null,null,null,null,null,null,null,null,null,null,null,null,null,null,0,0,0,0,0,0,"",null,null,null,null,null,null,null,null,null,null,"x"]
[null,null,{"$f":"SUBTOTAL(3,$D$15:D19)","v":5},{"$f":"'Danh muc nhan vien'!E16","v":"Hồ Phương Lanh"},{"$f":"IFERROR(VLOOKUP(D19,'Danh muc nhan vien'!$E$12:$BY$42,2,0),\"\")","v":"KT Tổng hợp"},null,null,null,null,null,null,null,null,null,null,null,null,null,null,null,null,null,null,null,null,null,null,null,null,null,null,null,null,null,null,null,0,0,0,0,0,0,"",null,null,null,null,null,null,null,null,null,null,"x"]
[null,null,{"$f":"SUBTOTAL(3,$D$15:D20)","v":6},{"$f":"'Danh muc nhan vien'!E17","v":"Huỳnh Tùng Lâm"},{"$f":"IFERROR(VLOOKUP(D20,'Danh muc nhan vien'!$E$12:$BY$42,2,0),\"\")","v":"KT Viên"},null,null,null,null,null,null,null,null,null,null,null,null,null,null,null,null,null,null,null,null,null,null,null,null,null,null,null,null,null,null,null,0,0,0,0,0,0,"Đã nghỉ",null,null,null,null,null,null,null,null,null,null,""]
[null,null,{"$f":"SUBTOTAL(3,$D$15:D21)","v":7},{"$f":"'Danh muc nhan vien'!E18","v":"Lê Đại Tài"},{"$f":"IFERROR(VLOOKUP(D21,'Danh muc nhan vien'!$E$12:$BY$42,2,0),\"\")","v":"KT Viên"},null,null,null,null,null,null,null,null,null,null,null,null,null,null,null,null,null,null,null,null,null,null,null,null,null,null,null,null,null,null,null,0,0,0,0,0,0,"",null,null,null,null,null,null,null,null,null,null,"x"]
[null,null,{"$f":"SUBTOTAL(3,$D$15:D22)","v":8},{"$f":"'Danh muc nhan vien'!E19","v":"Lâm Thị Cành"},{"$f":"IFERROR(VLOOKUP(D22,'Danh muc nhan vien'!$E$12:$BY$42,2,0),\"\")","v":"Nhân sự"},null,null,null,null,null,null,null,null,null,null,null,null,null,null,null,null,null,null,null,null,null,null,null,null,null,null,null,null,null,null,null,0,0,0,0,0,0,"",null,null,null,null,null,null,null,null,null,null,"x"]
[null,null,{"$f":"SUBTOTAL(3,$D$15:D23)","v":9},{"$f":"'Danh muc nhan vien'!E20","v":"Lê Đức Chinh"},{"$f":"IFERROR(VLOOKUP(D23,'Danh muc nhan vien'!$E$12:$BY$42,2,0),\"\")","v":"Hành chính"},null,null,null,null,null,null,null,null,null,null,null,null,null,null,null,null,null,null,null,null,null,null,null,null,null,null,null,null,null,null,null,0,0,0,0,0,0,"Đã nghỉ",null,null,null,null,null,null,null,null,null,null,""]
[null,null,{"$f":"SUBTOTAL(3,$D$15:D24)","v":10},{"$f":"'Danh muc nhan vien'!E21","v":"Lê Văn Liêm"},{"$f":"IFERROR(VLOOKUP(D24,'Danh muc nhan vien'!$E$12:$BY$42,2,0),\"\")","v":"Marketing"},null,null,null,null,null,null,null,null,null,null,null,null,null,null,null,null,null,null,null,null,null,null,null,null,null,null,null,null,null,null,null,0,0,0,0,0,0,"",null,null,null,null,null,null,null,null,null,null,"x"]
[null,null,{"$f":"SUBTOTAL(3,$D$15:D25)","v":11},{"$f":"'Danh muc nhan vien'!E22","v":"Nguyễn Chí Thanh"},{"$f":"IFERROR(VLOOKUP(D25,'Danh muc nhan vien'!$E$12:$BY$42,2,0),\"\")","v":"NV Kinh Doanh"},null,null,null,null,null,null,null,null,null,null,null,null,null,null,null,null,null,null,null,null,null,null,null,null,null,null,null,null,null,null,null,0,0,0,0,0,0,"",null,null,null,null,null,null,null,null,null,null,"x"]
[null,null,{"$f":"SUBTOTAL(3,$D$15:D26)","v":12},{"$f":"'Danh muc nhan vien'!E23","v":"Nguyễn Hoàng Tính"},{"$f":"IFERROR(VLOOKUP(D26,'Danh muc nhan vien'!$E$12:$BY$42,2,0),\"\")","v":"NV Kinh Doanh"},null,null,null,null,null,null,null,null,null,null,null,null,null,null,null,null,null,null,null,null,null,null,null,null,null,null,null,null,null,null,null,0,0,0,0,0,0,"Đã nghỉ",null,null,null,null,null,null,null,null,null,null,""]
[null,null,{"$f":"SUBTOTAL(3,$D$15:D27)","v":13},{"$f":"'Danh muc nhan vien'!E24","v":"Nguyễn Văn Hân"},{"$f":"IFERROR(VLOOKUP(D27,'Danh muc nhan vien'!$E$12:$BY$42,2,0),\"\")","v":"NV Kinh Doanh"},null,null,null,null,null,null,null,null,null,null,null,null,null,null,null,null,null,null,null,null,null,null,null,null,null,null,null,null,null,null,null,0,0,0,0,0,0,"",null,null,null,null,null,null,null,null,null,null,"x"]
[null,null,{"$f":"SUBTOTAL(3,$D$15:D28)","v":14},{"$f":"'Danh muc nhan vien'!E25","v":"Phạm Hoài An"},{"$f":"IFERROR(VLOOKUP(D28,'Danh muc nhan vien'!$E$12:$BY$42,2,0),\"\")","v":"NV Kinh Doanh"},null,null,null,null,null,null,null,null,null,null,null,null,null,null,null,null,null,null,null,null,null,null,null,null,null,null,null,null,null,null,null,0,0,0,0,0,0,"",null,null,null,null,null,null,null,null,null,null,"x"]
[null,null,{"$f":"SUBTOTAL(3,$D$15:D29)","v":15},{"$f":"'Danh muc nhan vien'!E26","v":0},{"$f":"IFERROR(VLOOKUP(D29,'Danh muc nhan vien'!$E$12:$BY$42,2,0),\"\")","v":""},null,null,null,null,null,null,null,null,null,null,null,null,null,null,null,null,null,null,null,null,null,null,null,null,null,null,null,null,null,null,null,0,0,0,0,0,0,"",null,null,null,null,null,null,null,null,null,null,{"$error":"#N/A"}]
[null,null,{"$f":"SUBTOTAL(3,$D$15:D30)","v":16},{"$f":"'Danh muc nhan vien'!E27","v":0},{"$f":"IFERROR(VLOOKUP(D30,'Danh muc nhan vien'!$E$12:$BY$42,2,0),\"\")","v":""},null,null,null,null,null,null,null,null,null,null,null,null,null,null,null,null,null,null,null,null,null,null,null,null,null,null,null,null,null,null,null,0,0,0,0,0,0,"",null,null,null,null,null,null,null,null,null,null,{"$error":"#N/A"}]
[null,null,{"$f":"SUBTOTAL(3,$D$15:D31)","v":17},{"$f":"'Danh muc nhan vien'!E28","v":0},{"$f":"IFERROR(VLOOKUP(D31,'Danh muc nhan vien'!$E$12:$BY$42,2,0),\"\")","v":""},null,null,null,null,null,null,null,null,null,null,null,null,null,null,null,null,null,null,null,null,null,null,null,null,null,null,null,null,null,null,null,0,0,0,0,0,0,"",null,null,null,null,null,null,null,null,null,null,{"$error":"#N/A"}]
[null,null,{"$f":"SUBTOTAL(3,$D$15:D32)","v":18},{"$f":"'Danh muc nhan vien'!E29","v":0},{"$f":"IFERROR(VLOOKUP(D32,'Danh muc nhan vien'!$E$12:$BY$42,2,0),\"\")","v":""},null,null,null,null,null,null,null,null,null,null,null,null,null,null,null,null,null,null,null,null,null,null,null,null,null,null,null,null,null,null,null,{"$f":"COUNTIF($F32:$AJ32,AK$13)","v":0},0,0,0,0,0,"",null,null,null,null,null,null,null,null,null,null,{"$error":"#N/A"}]
[null,null,{"$f":"SUBTOTAL(3,$D$15:D33)","v":19},{"$f":"'Danh muc nhan vien'!E30","v":0},{"$f":"IFERROR(VLOOKUP(D33,'Danh muc nhan vien'!$E$12:$BY$42,2,0),\"\")","v":""},null,null,null,null,null,null,null,null,null,null,null,null,null,null,null,null,null,null,null,null,null,null,null,null,null,null,null,null,null,null,null,0,0,0,0,0,0,"",null,null,null,null,null,null,null,null,null,null,{"$error":"#N/A"}]
[null,null,{"$f":"SUBTOTAL(3,$D$15:D34)","v":20},{"$f":"'Danh muc nhan vien'!E31","v":0},{"$f":"IFERROR(VLOOKUP(D34,'Danh muc nhan vien'!$E$12:$BY$42,2,0),\"\")","v":""},null,null,null,null,null,null,null,null,null,null,null,null,null,null,null,null,null,null,null,null,null,null,null,null,null,null,null,null,null,null,null,0,0,0,0,0,0,"",null,null,null,null,null,null,null,null,null,null,{"$error":"#N/A"}]
[null,null,{"$f":"SUBTOTAL(3,$D$15:D35)","v":21},{"$f":"'Danh muc nhan vien'!E32","v":0},{"$f":"IFERROR(VLOOKUP(D35,'Danh muc nhan vien'!$E$12:$BY$42,2,0),\"\")","v":""},null,null,null,null,null,null,null,null,null,null,null,null,null,null,null,null,null,null,null,null,null,null,null,null,null,null,null,null,null,null,null,0,0,0,0,0,0,"",null,null,null,null,null,null,null,null,null,null,{"$error":"#N/A"}]
[null,null,{"$f":"SUBTOTAL(3,$D$15:D36)","v":22},{"$f":"'Danh muc nhan vien'!E33","v":0},{"$f":"IFERROR(VLOOKUP(D36,'Danh muc nhan vien'!$E$12:$BY$42,2,0),\"\")","v":""},null,null,null,null,null,null,null,null,null,null,null,null,null,null,null,null,null,null,null,null,null,null,null,null,null,null,null,null,null,null,null,0,0,0,0,0,0,"",null,null,null,null,null,null,null,null,null,null,{"$error":"#N/A"}]
[null,null,{"$f":"SUBTOTAL(3,$D$15:D37)","v":23},{"$f":"'Danh muc nhan vien'!E34","v":0},{"$f":"IFERROR(VLOOKUP(D37,'Danh muc nhan vien'!$E$12:$BY$42,2,0),\"\")","v":""},null,null,null,null,null,null,null,null,null,null,null,null,null,null,null,null,null,null,null,null,null,null,null,null,null,null,null,null,null,null,null,0,0,0,0,0,0,"",null,null,null,null,null,null,null,null,null,null,{"$error":"#N/A"}]
[null,null,{"$f":"SUBTOTAL(3,$D$15:D38)","v":24},{"$f":"'Danh muc nhan vien'!E35","v":0},{"$f":"IFERROR(VLOOKUP(D38,'Danh muc nhan vien'!$E$12:$BY$42,2,0),\"\")","v":""},null,null,null,null,null,null,null,null,null,null,null,null,null,null,null,null,null,null,null,null,null,null,null,null,null,null,null,null,null,null,null,0,0,0,0,0,0,"",null,null,null,null,null,null,null,null,null,null,{"$error":"#N/A"}]
[null,null,{"$f":"SUBTOTAL(3,$D$15:D39)","v":25},{"$f":"'Danh muc nhan vien'!E36","v":0},{"$f":"IFERROR(VLOOKUP(D39,'Danh muc nhan vien'!$E$12:$BY$42,2,0),\"\")","v":""},null,null,null,null,null,null,null,null,null,null,null,null,null,null,null,null,null,null,null,null,null,null,null,null,null,null,null,null,null,null,null,0,0,0,0,0,0,"",null,null,null,null,null,null,null,null,null,null,{"$error":"#N/A"}]
[null,null,{"$f":"SUBTOTAL(3,$D$15:D40)","v":26},{"$f":"'Danh muc nhan vien'!E37","v":0},{"$f":"IFERROR(VLOOKUP(D40,'Danh muc nhan vien'!$E$12:$BY$42,2,0),\"\")","v":""},null,null,null,null,null,null,null,null,null,null,null,null,null,null,null,null,null,null,null,null,null,null,null,null,null,null,null,null,null,null,null,0,0,0,0,0,0,"",null,null,null,null,null,null,null,null,null,null,{"$error":"#N/A"}]
[null,null,{"$f":"SUBTOTAL(3,$D$15:D41)","v":27},{"$f":"'Danh muc nhan vien'!E38","v":0},{"$f":"IFERROR(VLOOKUP(D41,'Danh muc nhan vien'!$E$12:$BY$42,2,0),\"\")","v":""},null,null,null,null,null,null,null,null,null,null,null,null,null,null,null,null,null,null,null,null,null,null,null,null,null,null,null,null,null,null,null,0,0,0,0,0,0,"",null,null,null,null,null,null,null,null,null,null,{"$error":"#N/A"}]
[null,null,{"$f":"SUBTOTAL(3,$D$15:D42)","v":28},{"$f":"'Danh muc nhan vien'!E39","v":0},{"$f":"IFERROR(VLOOKUP(D42,'Danh muc nhan vien'!$E$12:$BY$42,2,0),\"\")","v":""},null,null,null,null,null,null,null,null,null,null,null,null,null,null,null,null,null,null,null,null,null,null,null,null,null,null,null,null,null,null,null,0,0,0,0,0,0,"",null,null,null,null,null,null,null,null,null,null,{"$error":"#N/A"}]
[null,null,{"$f":"SUBTOTAL(3,$D$15:D43)","v":29},{"$f":"'Danh muc nhan vien'!E40","v":0},{"$f":"IFERROR(VLOOKUP(D43,'Danh muc nhan vien'!$E$12:$BY$42,2,0),\"\")","v":""},null,null,null,null,null,null,null,null,null,null,null,null,null,null,null,null,null,null,null,null,null,null,null,null,null,null,null,null,null,null,null,0,0,0,0,0,0,"",null,null,null,null,null,null,null,null,null,null,{"$error":"#N/A"}]
[null,null,{"$f":"SUBTOTAL(3,$D$15:D44)","v":30},{"$f":"'Danh muc nhan vien'!E41","v":0},{"$f":"IFERROR(VLOOKUP(D44,'Danh muc nhan vien'!$E$12:$BY$42,2,0),\"\")","v":""},null,null,null,null,null,null,null,null,null,null,null,null,null,null,null,null,null,null,null,null,null,null,null,null,null,null,null,null,null,null,null,0,0,0,0,0,0,"",null,null,null,null,null,null,null,null,null,null,{"$error":"#N/A"}]
[]
[null,null,".",".",".",".",".",".",".",".",".",".",".",".",".",".",".",".",".",".",".",".",".",".",".",".",".",".",".",".",".",".",".",".",".",".",".",".",".",".",".",".","."]
[]
[null,null,null,null,null,null,null,null,null,null,null,null,null,null,null,null,null,null,null,null,null,null,null,null,null,null,null,null,null,null,null,null,null,{"$f":"\"Ngày …….. Tháng …….. Năm \"&year","v":"Ngày …….. Tháng …….. Năm 2021"}]
[null,null,null,"NGƯỜI CHẤM CÔNG",null,null,null,null,null,null,null,null,null,null,null,null,null,null,null,"PHỤ TRÁCH BỘ PHẬN",null,null,null,null,null,null,null,null,null,null,null,null,null,"THỦ TRƯỞNG ĐƠN VỊ"]
[null,null,null,"(Ký tên)",null,null,null,null,null,null,null,null,null,null,null,null,null,null,null,"(Ký tên)",null,null,null,null,null,null,null,null,null,null,null,null,null,"(Ký tên)"]
[]
[]
[]
[]
[null,null,null,{"$f":"Chamcong","v":"Vũ Trình B"},null,null,null,null,null,null,null,null,null,null,null,null,null,null,null,{"$f":"phutrach","v":"Nguyễn Linh A"},null,null,null,null,null,null,null,null,null,null,null,null,null,{"$f":"Giamdoc","v":"Mr. Trường"}]

{"sheet":"T8","index":10,"n_rows":55,"n_cols":88,"rows_kept":55,"cut":false,"hidden":false,"merged":[[9,5,9,35],[4,53,4,61],[5,2,5,3],[5,7,5,9],[5,10,5,12],[8,5,8,35],[5,30,5,34],[8,2,9,4],[54,33,54,42],[11,2,13,2],[11,3,13,3],[11,4,13,4],[11,5,11,35],[11,36,11,41],[11,42,13,42],[12,36,13,36],[12,37,13,37],[12,38,13,38],[12,39,13,39],[12,40,13,40],[12,41,13,41],[47,33,47,42],[48,33,48,42],[49,33,49,42]]}
[]
[]
[]
[]
[]
[null,null,"Số ngày làm việc:",null,{"$f":"VLOOKUP(m.aug,ngaycong,2,0)","v":26},null,null,"<<",null,null,">>",null,null,null,null,null,null,null,null,null,null,null,null,null,null,null,null,null,null,null,{"$f":"DATEVALUE(\"1/8/\"&year)","v":"2021-01-08"}]
[]
[null,null,{"$f":"Setup!F10","v":"Công ty TNHH Webkynang Việt Nam"},null,null,null,null,null,null,null,null,null,null,null,null,null,null,null,null,null,null,null,null,null,null,null,null,null,null,null,null,null,null,null,null,null,null,null,null,null,null,null,null,null,null,null,null,null,null,null,null,null,null,null,null,null,null,null,null,null,null,null,null,null,null,null,null,null,null,null,null,null,null,null,null,null,null,null,null,null,null,null,null,null,null,null,null,{"$f":"VALUE(MID(F10,8,1))","v":8}]
[null,null,{"$f":"Setup!D11&\" \"&Setup!F11","v":"Địa chỉ: Tầng 6, Tòa nhà Sannam, Duy Tân, Cầu Giấy, Hà Nội"},null,null,"BẢNG CHẤM CÔNG"]
[null,null,null,null,null,{"$f":"\"Tháng 8 năm \"&year","v":"Tháng 8 năm 2021"}]
[null,null,null,null,null,null,{"$f":"F13+1","v":"2021-08-02"},{"$f":"G11+1","v":"2021-08-03"},{"$f":"H11+1","v":"2021-08-04"},"2021-08-05","2021-08-06","2021-08-07","2021-08-08","2021-08-09","2021-08-10","2021-08-11","2021-08-12","2021-08-13","2021-08-14","2021-08-15","2021-08-16","2021-08-17","2021-08-18","2021-08-19","2021-08-20","2021-08-21","2021-08-22","2021-08-23","2021-08-24","2021-08-25","2021-08-26","2021-08-27","2021-08-28","2021-08-29","2021-08-30","2021-08-31"]
[null,null,"SỐ TT","HỌ VÀ TÊN","CHỨC VỤ","NGÀY TRONG THÁNG/ THỨ TRONG TUẦN",null,null,null,null,null,null,null,null,null,null,null,null,null,null,null,null,null,null,null,null,null,null,null,null,null,null,null,null,null,null,"TỔNG",null,null,null,null,null,"GHI CHÚ"]
[null,null,null,null,null,{"$f":"DATE(year,m.aug,1)","v":"2021-08-01"},{"$f":"IF(MONTH(G11)>m.aug,\"\",G11)","v":"2021-08-02"},"2021-08-03","2021-08-04","2021-08-05","2021-08-06","2021-08-07","2021-08-08","2021-08-09","2021-08-10","2021-08-11","2021-08-12","2021-08-13","2021-08-14","2021-08-15","2021-08-16","2021-08-17","2021-08-18","2021-08-19","2021-08-20","2021-08-21","2021-08-22","2021-08-23","2021-08-24","2021-08-25","2021-08-26","2021-08-27","2021-08-28","2021-08-29","2021-08-30","2021-08-31",{"$f":"macong1","v":"x"},{"$f":"macong2","v":"x2"},{"$f":"macong3","v":"NC"},{"$f":"macong4","v":"NO"},{"$f":"macong5","v":"00:00:00"},"Tổng"]
[null,null,null,null,null,{"$f":"IF(F13=\"\",\"\",CHOOSE(WEEKDAY(F13),\"C.Nhật\",\"T.Hai\",\"T.Ba\",\"T.Tư\",\"T.Năm\",\"T.Sáu\",\"T.Bảy\"))","v":"C.Nhật"},{"$f":"IF(G13=\"\",\"\",CHOOSE(WEEKDAY(G13),\"C.Nhật\",\"T.Hai\",\"T.Ba\",\"T.Tư\",\"T.Năm\",\"T.Sáu\",\"T.Bảy\"))","v":"T.Hai"},"T.Ba","T.Tư","T.Năm","T.Sáu","T.Bảy","C.Nhật","T.Hai","T.Ba","T.Tư","T.Năm","T.Sáu","T.Bảy","C.Nhật","T.Hai","T.Ba","T.Tư","T.Năm","T.Sáu","T.Bảy","C.Nhật","T.Hai","T.Ba","T.Tư","T.Năm","T.Sáu","T.Bảy",{"$f":"IF(AH13=\"\",\"\",CHOOSE(WEEKDAY(AH13),\"C.Nhật\",\"T.Hai\",\"T.Ba\",\"T.Tư\",\"T.Năm\",\"T.Sáu\",\"T.Bảy\"))","v":"C.Nhật"},{"$f":"IF(AI13=\"\",\"\",CHOOSE(WEEKDAY(AI13),\"C.Nhật\",\"T.Hai\",\"T.Ba\",\"T.Tư\",\"T.Năm\",\"T.Sáu\",\"T.Bảy\"))","v":"T.Hai"},"T.Ba"]
[null,null,{"$f":"SUBTOTAL(3,$D$15:D15)","v":1},{"$f":"'Danh muc nhan vien'!E12","v":"Trần Văn Tám"},{"$f":"IFERROR(VLOOKUP(D15,'Danh muc nhan vien'!$E$12:$BY$42,2,0),\"\")","v":"Giám Đốc"},null,null,null,null,null,null,null,null,null,null,null,null,null,null,null,null,null,null,null,null,null,null,null,null,null,null,null,null,null,null,null,{"$f":"COUNTIF($F15:$AJ15,AK$13)","v":0},{"$f":"COUNTIF($F15:$AJ15,AL$13)","v":0},0,0,0,{"$f":"AK15*1+AL15*0.5+AM15*1","v":0},{"$f":"IF(E15=\"\",\"\",IF(OR(VLOOKUP(D15,DSNV,5,0)<1,VLOOKUP(D15,DSNV,5,0)>eomonth8),\"\",\"Đã nghỉ\"))","v":""},null,null,null,null,null,null,null,null,null,null,{"$f":"IF(AND(VLOOKUP(D15,DSNV,5,0)>1,$F$13>VLOOKUP(D15,DSNV,5,0)),\"\",IF(SUM(AK15:AP15)<$E$6,\"x\",\"\"))","v":"x"}]
[null,null,{"$f":"SUBTOTAL(3,$D$15:D16)","v":2},{"$f":"'Danh muc nhan vien'!E13","v":"Đặng Văn Thành"},{"$f":"IFERROR(VLOOKUP(D16,'Danh muc nhan vien'!$E$12:$BY$42,2,0),\"\")","v":"Phó GĐ"},null,null,null,null,null,null,null,null,null,null,null,null,null,null,null,null,null,null,null,null,null,null,null,null,null,null,null,null,null,null,null,{"$f":"COUNTIF($F16:$AJ16,AK$13)","v":0},0,0,0,0,{"$f":"AK16*1+AL16*0.5+AM16*1","v":0},"",null,null,null,null,null,null,null,null,null,null,"x"]
[null,null,{"$f":"SUBTOTAL(3,$D$15:D17)","v":3},{"$f":"'Danh muc nhan vien'!E14","v":"Đặng Thành Tâm"},{"$f":"IFERROR(VLOOKUP(D17,'Danh muc nhan vien'!$E$12:$BY$42,2,0),\"\")","v":"KTT"},null,null,null,null,null,null,null,null,null,null,null,null,null,null,null,null,null,null,null,null,null,null,null,null,null,null,null,null,null,null,null,0,0,0,0,0,0,"",null,null,null,null,null,null,null,null,null,null,"x"]
[null,null,{"$f":"SUBTOTAL(3,$D$15:D18)","v":4},{"$f":"'Danh muc nhan vien'!E15","v":"Đoàn Văn Cường"},{"$f":"IFERROR(VLOOKUP(D18,'Danh muc nhan vien'!$E$12:$BY$42,2,0),\"\")","v":"TP Kinh Doanh"},null,null,null,null,null,null,null,null,null,null,null,null,null,null,null,null,null,null,null,null,null,null,null,null,null,null,null,null,null,null,null,0,0,0,0,0,0,"",null,null,null,null,null,null,null,null,null,null,"x"]
[null,null,{"$f":"SUBTOTAL(3,$D$15:D19)","v":5},{"$f":"'Danh muc nhan vien'!E16","v":"Hồ Phương Lanh"},{"$f":"IFERROR(VLOOKUP(D19,'Danh muc nhan vien'!$E$12:$BY$42,2,0),\"\")","v":"KT Tổng hợp"},null,null,null,null,null,null,null,null,null,null,null,null,null,null,null,null,null,null,null,null,null,null,null,null,null,null,null,null,null,null,null,0,0,0,0,0,0,"",null,null,null,null,null,null,null,null,null,null,"x"]
[null,null,{"$f":"SUBTOTAL(3,$D$15:D20)","v":6},{"$f":"'Danh muc nhan vien'!E17","v":"Huỳnh Tùng Lâm"},{"$f":"IFERROR(VLOOKUP(D20,'Danh muc nhan vien'!$E$12:$BY$42,2,0),\"\")","v":"KT Viên"},null,null,null,null,null,null,null,null,null,null,null,null,null,null,null,null,null,null,null,null,null,null,null,null,null,null,null,null,null,null,null,0,0,0,0,0,0,"Đã nghỉ",null,null,null,null,null,null,null,null,null,null,""]
[null,null,{"$f":"SUBTOTAL(3,$D$15:D21)","v":7},{"$f":"'Danh muc nhan vien'!E18","v":"Lê Đại Tài"},{"$f":"IFERROR(VLOOKUP(D21,'Danh muc nhan vien'!$E$12:$BY$42,2,0),\"\")","v":"KT Viên"},null,null,null,null,null,null,null,null,null,null,null,null,null,null,null,null,null,null,null,null,null,null,null,null,null,null,null,null,null,null,null,0,0,0,0,0,0,"",null,null,null,null,null,null,null,null,null,null,"x"]
[null,null,{"$f":"SUBTOTAL(3,$D$15:D22)","v":8},{"$f":"'Danh muc nhan vien'!E19","v":"Lâm Thị Cành"},{"$f":"IFERROR(VLOOKUP(D22,'Danh muc nhan vien'!$E$12:$BY$42,2,0),\"\")","v":"Nhân sự"},null,null,null,null,null,null,null,null,null,null,null,null,null,null,null,null,null,null,null,null,null,null,null,null,null,null,null,null,null,null,null,0,0,0,0,0,0,"",null,null,null,null,null,null,null,null,null,null,"x"]
[null,null,{"$f":"SUBTOTAL(3,$D$15:D23)","v":9},{"$f":"'Danh muc nhan vien'!E20","v":"Lê Đức Chinh"},{"$f":"IFERROR(VLOOKUP(D23,'Danh muc nhan vien'!$E$12:$BY$42,2,0),\"\")","v":"Hành chính"},null,null,null,null,null,null,null,null,null,null,null,null,null,null,null,null,null,null,null,null,null,null,null,null,null,null,null,null,null,null,null,0,0,0,0,0,0,"Đã nghỉ",null,null,null,null,null,null,null,null,null,null,""]
[null,null,{"$f":"SUBTOTAL(3,$D$15:D24)","v":10},{"$f":"'Danh muc nhan vien'!E21","v":"Lê Văn Liêm"},{"$f":"IFERROR(VLOOKUP(D24,'Danh muc nhan vien'!$E$12:$BY$42,2,0),\"\")","v":"Marketing"},null,null,null,null,null,null,null,null,null,null,null,null,null,null,null,null,null,null,null,null,null,null,null,null,null,null,null,null,null,null,null,0,0,0,0,0,0,"",null,null,null,null,null,null,null,null,null,null,"x"]
[null,null,{"$f":"SUBTOTAL(3,$D$15:D25)","v":11},{"$f":"'Danh muc nhan vien'!E22","v":"Nguyễn Chí Thanh"},{"$f":"IFERROR(VLOOKUP(D25,'Danh muc nhan vien'!$E$12:$BY$42,2,0),\"\")","v":"NV Kinh Doanh"},null,null,null,null,null,null,null,null,null,null,null,null,null,null,null,null,null,null,null,null,null,null,null,null,null,null,null,null,null,null,null,0,0,0,0,0,0,"",null,null,null,null,null,null,null,null,null,null,"x"]
[null,null,{"$f":"SUBTOTAL(3,$D$15:D26)","v":12},{"$f":"'Danh muc nhan vien'!E23","v":"Nguyễn Hoàng Tính"},{"$f":"IFERROR(VLOOKUP(D26,'Danh muc nhan vien'!$E$12:$BY$42,2,0),\"\")","v":"NV Kinh Doanh"},null,null,null,null,null,null,null,null,null,null,null,null,null,null,null,null,null,null,null,null,null,null,null,null,null,null,null,null,null,null,null,0,0,0,0,0,0,"Đã nghỉ",null,null,null,null,null,null,null,null,null,null,""]
[null,null,{"$f":"SUBTOTAL(3,$D$15:D27)","v":13},{"$f":"'Danh muc nhan vien'!E24","v":"Nguyễn Văn Hân"},{"$f":"IFERROR(VLOOKUP(D27,'Danh muc nhan vien'!$E$12:$BY$42,2,0),\"\")","v":"NV Kinh Doanh"},null,null,null,null,null,null,null,null,null,null,null,null,null,null,null,null,null,null,null,null,null,null,null,null,null,null,null,null,null,null,null,0,0,0,0,0,0,"",null,null,null,null,null,null,null,null,null,null,"x"]
[null,null,{"$f":"SUBTOTAL(3,$D$15:D28)","v":14},{"$f":"'Danh muc nhan vien'!E25","v":"Phạm Hoài An"},{"$f":"IFERROR(VLOOKUP(D28,'Danh muc nhan vien'!$E$12:$BY$42,2,0),\"\")","v":"NV Kinh Doanh"},null,null,null,null,null,null,null,null,null,null,null,null,null,null,null,null,null,null,null,null,null,null,null,null,null,null,null,null,null,null,null,0,0,0,0,0,0,"",null,null,null,null,null,null,null,null,null,null,"x"]
[null,null,{"$f":"SUBTOTAL(3,$D$15:D29)","v":15},{"$f":"'Danh muc nhan vien'!E26","v":0},{"$f":"IFERROR(VLOOKUP(D29,'Danh muc nhan vien'!$E$12:$BY$42,2,0),\"\")","v":""},null,null,null,null,null,null,null,null,null,null,null,null,null,null,null,null,null,null,null,null,null,null,null,null,null,null,null,null,null,null,null,0,0,0,0,0,0,"",null,null,null,null,null,null,null,null,null,null,{"$error":"#N/A"}]
[null,null,{"$f":"SUBTOTAL(3,$D$15:D30)","v":16},{"$f":"'Danh muc nhan vien'!E27","v":0},{"$f":"IFERROR(VLOOKUP(D30,'Danh muc nhan vien'!$E$12:$BY$42,2,0),\"\")","v":""},null,null,null,null,null,null,null,null,null,null,null,null,null,null,null,null,null,null,null,null,null,null,null,null,null,null,null,null,null,null,null,0,0,0,0,0,0,"",null,null,null,null,null,null,null,null,null,null,{"$error":"#N/A"}]
[null,null,{"$f":"SUBTOTAL(3,$D$15:D31)","v":17},{"$f":"'Danh muc nhan vien'!E28","v":0},{"$f":"IFERROR(VLOOKUP(D31,'Danh muc nhan vien'!$E$12:$BY$42,2,0),\"\")","v":""},null,null,null,null,null,null,null,null,null,null,null,null,null,null,null,null,null,null,null,null,null,null,null,null,null,null,null,null,null,null,null,0,0,0,0,0,0,"",null,null,null,null,null,null,null,null,null,null,{"$error":"#N/A"}]
[null,null,{"$f":"SUBTOTAL(3,$D$15:D32)","v":18},{"$f":"'Danh muc nhan vien'!E29","v":0},{"$f":"IFERROR(VLOOKUP(D32,'Danh muc nhan vien'!$E$12:$BY$42,2,0),\"\")","v":""},null,null,null,null,null,null,null,null,null,null,null,null,null,null,null,null,null,null,null,null,null,null,null,null,null,null,null,null,null,null,null,{"$f":"COUNTIF($F32:$AJ32,AK$13)","v":0},0,0,0,0,0,"",null,null,null,null,null,null,null,null,null,null,{"$error":"#N/A"}]
[null,null,{"$f":"SUBTOTAL(3,$D$15:D33)","v":19},{"$f":"'Danh muc nhan vien'!E30","v":0},{"$f":"IFERROR(VLOOKUP(D33,'Danh muc nhan vien'!$E$12:$BY$42,2,0),\"\")","v":""},null,null,null,null,null,null,null,null,null,null,null,null,null,null,null,null,null,null,null,null,null,null,null,null,null,null,null,null,null,null,null,0,0,0,0,0,0,"",null,null,null,null,null,null,null,null,null,null,{"$error":"#N/A"}]
[null,null,{"$f":"SUBTOTAL(3,$D$15:D34)","v":20},{"$f":"'Danh muc nhan vien'!E31","v":0},{"$f":"IFERROR(VLOOKUP(D34,'Danh muc nhan vien'!$E$12:$BY$42,2,0),\"\")","v":""},null,null,null,null,null,null,null,null,null,null,null,null,null,null,null,null,null,null,null,null,null,null,null,null,null,null,null,null,null,null,null,0,0,0,0,0,0,"",null,null,null,null,null,null,null,null,null,null,{"$error":"#N/A"}]
[null,null,{"$f":"SUBTOTAL(3,$D$15:D35)","v":21},{"$f":"'Danh muc nhan vien'!E32","v":0},{"$f":"IFERROR(VLOOKUP(D35,'Danh muc nhan vien'!$E$12:$BY$42,2,0),\"\")","v":""},null,null,null,null,null,null,null,null,null,null,null,null,null,null,null,null,null,null,null,null,null,null,null,null,null,null,null,null,null,null,null,0,0,0,0,0,0,"",null,null,null,null,null,null,null,null,null,null,{"$error":"#N/A"}]
[null,null,{"$f":"SUBTOTAL(3,$D$15:D36)","v":22},{"$f":"'Danh muc nhan vien'!E33","v":0},{"$f":"IFERROR(VLOOKUP(D36,'Danh muc nhan vien'!$E$12:$BY$42,2,0),\"\")","v":""},null,null,null,null,null,null,null,null,null,null,null,null,null,null,null,null,null,null,null,null,null,null,null,null,null,null,null,null,null,null,null,0,0,0,0,0,0,"",null,null,null,null,null,null,null,null,null,null,{"$error":"#N/A"}]
[null,null,{"$f":"SUBTOTAL(3,$D$15:D37)","v":23},{"$f":"'Danh muc nhan vien'!E34","v":0},{"$f":"IFERROR(VLOOKUP(D37,'Danh muc nhan vien'!$E$12:$BY$42,2,0),\"\")","v":""},null,null,null,null,null,null,null,null,null,null,null,null,null,null,null,null,null,null,null,null,null,null,null,null,null,null,null,null,null,null,null,0,0,0,0,0,0,"",null,null,null,null,null,null,null,null,null,null,{"$error":"#N/A"}]
[null,null,{"$f":"SUBTOTAL(3,$D$15:D38)","v":24},{"$f":"'Danh muc nhan vien'!E35","v":0},{"$f":"IFERROR(VLOOKUP(D38,'Danh muc nhan vien'!$E$12:$BY$42,2,0),\"\")","v":""},null,null,null,null,null,null,null,null,null,null,null,null,null,null,null,null,null,null,null,null,null,null,null,null,null,null,null,null,null,null,null,0,0,0,0,0,0,"",null,null,null,null,null,null,null,null,null,null,{"$error":"#N/A"}]
[null,null,{"$f":"SUBTOTAL(3,$D$15:D39)","v":25},{"$f":"'Danh muc nhan vien'!E36","v":0},{"$f":"IFERROR(VLOOKUP(D39,'Danh muc nhan vien'!$E$12:$BY$42,2,0),\"\")","v":""},null,null,null,null,null,null,null,null,null,null,null,null,null,null,null,null,null,null,null,null,null,null,null,null,null,null,null,null,null,null,null,0,0,0,0,0,0,"",null,null,null,null,null,null,null,null,null,null,{"$error":"#N/A"}]
[null,null,{"$f":"SUBTOTAL(3,$D$15:D40)","v":26},{"$f":"'Danh muc nhan vien'!E37","v":0},{"$f":"IFERROR(VLOOKUP(D40,'Danh muc nhan vien'!$E$12:$BY$42,2,0),\"\")","v":""},null,null,null,null,null,null,null,null,null,null,null,null,null,null,null,null,null,null,null,null,null,null,null,null,null,null,null,null,null,null,null,0,0,0,0,0,0,"",null,null,null,null,null,null,null,null,null,null,{"$error":"#N/A"}]
[null,null,{"$f":"SUBTOTAL(3,$D$15:D41)","v":27},{"$f":"'Danh muc nhan vien'!E38","v":0},{"$f":"IFERROR(VLOOKUP(D41,'Danh muc nhan vien'!$E$12:$BY$42,2,0),\"\")","v":""},null,null,null,null,null,null,null,null,null,null,null,null,null,null,null,null,null,null,null,null,null,null,null,null,null,null,null,null,null,null,null,0,0,0,0,0,0,"",null,null,null,null,null,null,null,null,null,null,{"$error":"#N/A"}]
[null,null,{"$f":"SUBTOTAL(3,$D$15:D42)","v":28},{"$f":"'Danh muc nhan vien'!E39","v":0},{"$f":"IFERROR(VLOOKUP(D42,'Danh muc nhan vien'!$E$12:$BY$42,2,0),\"\")","v":""},null,null,null,null,null,null,null,null,null,null,null,null,null,null,null,null,null,null,null,null,null,null,null,null,null,null,null,null,null,null,null,0,0,0,0,0,0,"",null,null,null,null,null,null,null,null,null,null,{"$error":"#N/A"}]
[null,null,{"$f":"SUBTOTAL(3,$D$15:D43)","v":29},{"$f":"'Danh muc nhan vien'!E40","v":0},{"$f":"IFERROR(VLOOKUP(D43,'Danh muc nhan vien'!$E$12:$BY$42,2,0),\"\")","v":""},null,null,null,null,null,null,null,null,null,null,null,null,null,null,null,null,null,null,null,null,null,null,null,null,null,null,null,null,null,null,null,0,0,0,0,0,0,"",null,null,null,null,null,null,null,null,null,null,{"$error":"#N/A"}]
[null,null,{"$f":"SUBTOTAL(3,$D$15:D44)","v":30},{"$f":"'Danh muc nhan vien'!E41","v":0},{"$f":"IFERROR(VLOOKUP(D44,'Danh muc nhan vien'!$E$12:$BY$42,2,0),\"\")","v":""},null,null,null,null,null,null,null,null,null,null,null,null,null,null,null,null,null,null,null,null,null,null,null,null,null,null,null,null,null,null,null,0,0,0,0,0,0,"",null,null,null,null,null,null,null,null,null,null,{"$error":"#N/A"}]
[]
[null,null,".",".",".",".",".",".",".",".",".",".",".",".",".",".",".",".",".",".",".",".",".",".",".",".",".",".",".",".",".",".",".",".",".",".",".",".",".",".",".",".","."]
[]
[null,null,null,null,null,null,null,null,null,null,null,null,null,null,null,null,null,null,null,null,null,null,null,null,null,null,null,null,null,null,null,null,null,{"$f":"\"Ngày …….. Tháng …….. Năm \"&year","v":"Ngày …….. Tháng …….. Năm 2021"}]
[null,null,null,"NGƯỜI CHẤM CÔNG",null,null,null,null,null,null,null,null,null,null,null,null,null,null,null,"PHỤ TRÁCH BỘ PHẬN",null,null,null,null,null,null,null,null,null,null,null,null,null,"THỦ TRƯỞNG ĐƠN VỊ"]
[null,null,null,"(Ký tên)",null,null,null,null,null,null,null,null,null,null,null,null,null,null,null,"(Ký tên)",null,null,null,null,null,null,null,null,null,null,null,null,null,"(Ký tên)"]
[]
[]
[]
[]
[null,null,null,{"$f":"Chamcong","v":"Vũ Trình B"},null,null,null,null,null,null,null,null,null,null,null,null,null,null,null,{"$f":"phutrach","v":"Nguyễn Linh A"},null,null,null,null,null,null,null,null,null,null,null,null,null,{"$f":"Giamdoc","v":"Mr. Trường"}]

{"sheet":"T9","index":11,"n_rows":55,"n_cols":88,"rows_kept":55,"cut":false,"hidden":false,"merged":[[9,5,9,35],[4,53,4,61],[5,2,5,3],[5,7,5,9],[5,10,5,12],[8,5,8,35],[5,30,5,34],[8,2,9,4],[54,33,54,42],[11,2,13,2],[11,3,13,3],[11,4,13,4],[11,5,11,35],[11,36,11,41],[11,42,13,42],[12,36,13,36],[12,37,13,37],[12,38,13,38],[12,39,13,39],[12,40,13,40],[12,41,13,41],[47,33,47,42],[48,33,48,42],[49,33,49,42]]}
[]
[]
[]
[]
[]
[null,null,"Số ngày làm việc:",null,{"$f":"VLOOKUP(m.sep,ngaycong,2,0)","v":26},null,null,"<<",null,null,">>",null,null,null,null,null,null,null,null,null,null,null,null,null,null,null,null,null,null,null,{"$f":"DATEVALUE(\"1/9/\"&year)","v":"2021-01-09"},null,null,null,null,null,false]
[]
[null,null,{"$f":"Setup!F10","v":"Công ty TNHH Webkynang Việt Nam"},null,null,null,null,null,null,null,null,null,null,null,null,null,null,null,null,null,null,null,null,null,null,null,null,null,null,null,null,null,null,null,null,null,null,null,null,null,null,null,null,null,null,null,null,null,null,null,null,null,null,null,null,null,null,null,null,null,null,null,null,null,null,null,null,null,null,null,null,null,null,null,null,null,null,null,null,null,null,null,null,null,null,null,null,{"$f":"VALUE(MID(F10,8,1))","v":9}]
[null,null,{"$f":"Setup!D11&\" \"&Setup!F11","v":"Địa chỉ: Tầng 6, Tòa nhà Sannam, Duy Tân, Cầu Giấy, Hà Nội"},null,null,"BẢNG CHẤM CÔNG"]
[null,null,null,null,null,{"$f":"\"Tháng 9 năm \"&year","v":"Tháng 9 năm 2021"}]
[null,null,null,null,null,null,{"$f":"F13+1","v":"2021-09-02"},{"$f":"G11+1","v":"2021-09-03"},{"$f":"H11+1","v":"2021-09-04"},"2021-09-05","2021-09-06","2021-09-07","2021-09-08","2021-09-09","2021-09-10","2021-09-11","2021-09-12","2021-09-13","2021-09-14","2021-09-15","2021-09-16","2021-09-17","2021-09-18","2021-09-19","2021-09-20","2021-09-21","2021-09-22","2021-09-23","2021-09-24","2021-09-25","2021-09-26","2021-09-27","2021-09-28","2021-09-29","2021-09-30","2021-10-01"]
[null,null,"SỐ TT","HỌ VÀ TÊN","CHỨC VỤ","NGÀY TRONG THÁNG/ THỨ TRONG TUẦN",null,null,null,null,null,null,null,null,null,null,null,null,null,null,null,null,null,null,null,null,null,null,null,null,null,null,null,null,null,null,"TỔNG",null,null,null,null,null,"GHI CHÚ"]
[null,null,null,null,null,{"$f":"DATE(year,m.sep,1)","v":"2021-09-01"},{"$f":"IF(MONTH(G11)>m.sep,\"\",G11)","v":"2021-09-02"},"2021-09-03","2021-09-04","2021-09-05","2021-09-06","2021-09-07","2021-09-08","2021-09-09","2021-09-10","2021-09-11","2021-09-12","2021-09-13","2021-09-14","2021-09-15","2021-09-16","2021-09-17","2021-09-18","2021-09-19","2021-09-20","2021-09-21","2021-09-22","2021-09-23","2021-09-24","2021-09-25","2021-09-26","2021-09-27","2021-09-28","2021-09-29","2021-09-30","",{"$f":"macong1","v":"x"},{"$f":"macong2","v":"x2"},{"$f":"macong3","v":"NC"},{"$f":"macong4","v":"NO"},{"$f":"macong5","v":"00:00:00"},"Tổng"]
[null,null,null,null,null,{"$f":"IF(F13=\"\",\"\",CHOOSE(WEEKDAY(F13),\"C.Nhật\",\"T.Hai\",\"T.Ba\",\"T.Tư\",\"T.Năm\",\"T.Sáu\",\"T.Bảy\"))","v":"T.Tư"},{"$f":"IF(G13=\"\",\"\",CHOOSE(WEEKDAY(G13),\"C.Nhật\",\"T.Hai\",\"T.Ba\",\"T.Tư\",\"T.Năm\",\"T.Sáu\",\"T.Bảy\"))","v":"T.Năm"},"T.Sáu","T.Bảy","C.Nhật","T.Hai","T.Ba","T.Tư","T.Năm","T.Sáu","T.Bảy","C.Nhật","T.Hai","T.Ba","T.Tư","T.Năm","T.Sáu","T.Bảy","C.Nhật","T.Hai","T.Ba","T.Tư","T.Năm","T.Sáu","T.Bảy","C.Nhật","T.Hai","T.Ba",{"$f":"IF(AH13=\"\",\"\",CHOOSE(WEEKDAY(AH13),\"C.Nhật\",\"T.Hai\",\"T.Ba\",\"T.Tư\",\"T.Năm\",\"T.Sáu\",\"T.Bảy\"))","v":"T.Tư"},{"$f":"IF(AI13=\"\",\"\",CHOOSE(WEEKDAY(AI13),\"C.Nhật\",\"T.Hai\",\"T.Ba\",\"T.Tư\",\"T.Năm\",\"T.Sáu\",\"T.Bảy\"))","v":"T.Năm"},""]
[null,null,{"$f":"SUBTOTAL(3,$D$15:D15)","v":1},{"$f":"'Danh muc nhan vien'!E12","v":"Trần Văn Tám"},{"$f":"IFERROR(VLOOKUP(D15,'Danh muc nhan vien'!$E$12:$BY$42,2,0),\"\")","v":"Giám Đốc"},null,null,null,null,null,null,null,null,null,null,null,null,null,null,null,null,null,null,null,null,null,null,null,null,null,null,null,null,null,null,null,{"$f":"COUNTIF($F15:$AJ15,AK$13)","v":0},{"$f":"COUNTIF($F15:$AJ15,AL$13)","v":0},0,0,0,{"$f":"AK15*1+AL15*0.5+AM15*1","v":0},{"$f":"IF(E15=\"\",\"\",IF(OR(VLOOKUP(D15,DSNV,5,0)<1,VLOOKUP(D15,DSNV,5,0)>eomonth9),\"\",\"Đã nghỉ\"))","v":""},null,null,null,null,null,null,null,null,null,null,{"$f":"IF(AND(VLOOKUP(D15,DSNV,5,0)>1,$F$13>VLOOKUP(D15,DSNV,5,0)),\"\",IF(SUM(AK15:AP15)<$E$6,\"x\",\"\"))","v":"x"}]
[null,null,{"$f":"SUBTOTAL(3,$D$15:D16)","v":2},{"$f":"'Danh muc nhan vien'!E13","v":"Đặng Văn Thành"},{"$f":"IFERROR(VLOOKUP(D16,'Danh muc nhan vien'!$E$12:$BY$42,2,0),\"\")","v":"Phó GĐ"},null,null,null,null,null,null,null,null,null,null,null,null,null,null,null,null,null,null,null,null,null,null,null,null,null,null,null,null,null,null,null,{"$f":"COUNTIF($F16:$AJ16,AK$13)","v":0},0,0,0,0,{"$f":"AK16*1+AL16*0.5+AM16*1","v":0},"",null,null,null,null,null,null,null,null,null,null,"x"]
[null,null,{"$f":"SUBTOTAL(3,$D$15:D17)","v":3},{"$f":"'Danh muc nhan vien'!E14","v":"Đặng Thành Tâm"},{"$f":"IFERROR(VLOOKUP(D17,'Danh muc nhan vien'!$E$12:$BY$42,2,0),\"\")","v":"KTT"},null,null,null,null,null,null,null,null,null,null,null,null,null,null,null,null,null,null,null,null,null,null,null,null,null,null,null,null,null,null,null,0,0,0,0,0,0,"",null,null,null,null,null,null,null,null,null,null,"x"]
[null,null,{"$f":"SUBTOTAL(3,$D$15:D18)","v":4},{"$f":"'Danh muc nhan vien'!E15","v":"Đoàn Văn Cường"},{"$f":"IFERROR(VLOOKUP(D18,'Danh muc nhan vien'!$E$12:$BY$42,2,0),\"\")","v":"TP Kinh Doanh"},null,null,null,null,null,null,null,null,null,null,null,null,null,null,null,null,null,null,null,null,null,null,null,null,null,null,null,null,null,null,null,0,0,0,0,0,0,"",null,null,null,null,null,null,null,null,null,null,"x"]
[null,null,{"$f":"SUBTOTAL(3,$D$15:D19)","v":5},{"$f":"'Danh muc nhan vien'!E16","v":"Hồ Phương Lanh"},{"$f":"IFERROR(VLOOKUP(D19,'Danh muc nhan vien'!$E$12:$BY$42,2,0),\"\")","v":"KT Tổng hợp"},null,null,null,null,null,null,null,null,null,null,null,null,null,null,null,null,null,null,null,null,null,null,null,null,null,null,null,null,null,null,null,0,0,0,0,0,0,"",null,null,null,null,null,null,null,null,null,null,"x"]
[null,null,{"$f":"SUBTOTAL(3,$D$15:D20)","v":6},{"$f":"'Danh muc nhan vien'!E17","v":"Huỳnh Tùng Lâm"},{"$f":"IFERROR(VLOOKUP(D20,'Danh muc nhan vien'!$E$12:$BY$42,2,0),\"\")","v":"KT Viên"},null,null,null,null,null,null,null,null,null,null,null,null,null,null,null,null,null,null,null,null,null,null,null,null,null,null,null,null,null,null,null,0,0,0,0,0,0,"Đã nghỉ",null,null,null,null,null,null,null,null,null,null,""]
[null,null,{"$f":"SUBTOTAL(3,$D$15:D21)","v":7},{"$f":"'Danh muc nhan vien'!E18","v":"Lê Đại Tài"},{"$f":"IFERROR(VLOOKUP(D21,'Danh muc nhan vien'!$E$12:$BY$42,2,0),\"\")","v":"KT Viên"},null,null,null,null,null,null,null,null,null,null,null,null,null,null,null,null,null,null,null,null,null,null,null,null,null,null,null,null,null,null,null,0,0,0,0,0,0,"",null,null,null,null,null,null,null,null,null,null,"x"]
[null,null,{"$f":"SUBTOTAL(3,$D$15:D22)","v":8},{"$f":"'Danh muc nhan vien'!E19","v":"Lâm Thị Cành"},{"$f":"IFERROR(VLOOKUP(D22,'Danh muc nhan vien'!$E$12:$BY$42,2,0),\"\")","v":"Nhân sự"},null,null,null,null,null,null,null,null,null,null,null,null,null,null,null,null,null,null,null,null,null,null,null,null,null,null,null,null,null,null,null,0,0,0,0,0,0,"",null,null,null,null,null,null,null,null,null,null,"x"]
[null,null,{"$f":"SUBTOTAL(3,$D$15:D23)","v":9},{"$f":"'Danh muc nhan vien'!E20","v":"Lê Đức Chinh"},{"$f":"IFERROR(VLOOKUP(D23,'Danh muc nhan vien'!$E$12:$BY$42,2,0),\"\")","v":"Hành chính"},null,null,null,null,null,null,null,null,null,null,null,null,null,null,null,null,null,null,null,null,null,null,null,null,null,null,null,null,null,null,null,0,0,0,0,0,0,"Đã nghỉ",null,null,null,null,null,null,null,null,null,null,""]
[null,null,{"$f":"SUBTOTAL(3,$D$15:D24)","v":10},{"$f":"'Danh muc nhan vien'!E21","v":"Lê Văn Liêm"},{"$f":"IFERROR(VLOOKUP(D24,'Danh muc nhan vien'!$E$12:$BY$42,2,0),\"\")","v":"Marketing"},null,null,null,null,null,null,null,null,null,null,null,null,null,null,null,null,null,null,null,null,null,null,null,null,null,null,null,null,null,null,null,0,0,0,0,0,0,"",null,null,null,null,null,null,null,null,null,null,"x"]
[null,null,{"$f":"SUBTOTAL(3,$D$15:D25)","v":11},{"$f":"'Danh muc nhan vien'!E22","v":"Nguyễn Chí Thanh"},{"$f":"IFERROR(VLOOKUP(D25,'Danh muc nhan vien'!$E$12:$BY$42,2,0),\"\")","v":"NV Kinh Doanh"},null,null,null,null,null,null,null,null,null,null,null,null,null,null,null,null,null,null,null,null,null,null,null,null,null,null,null,null,null,null,null,0,0,0,0,0,0,"",null,null,null,null,null,null,null,null,null,null,"x"]
[null,null,{"$f":"SUBTOTAL(3,$D$15:D26)","v":12},{"$f":"'Danh muc nhan vien'!E23","v":"Nguyễn Hoàng Tính"},{"$f":"IFERROR(VLOOKUP(D26,'Danh muc nhan vien'!$E$12:$BY$42,2,0),\"\")","v":"NV Kinh Doanh"},null,null,null,null,null,null,null,null,null,null,null,null,null,null,null,null,null,null,null,null,null,null,null,null,null,null,null,null,null,null,null,0,0,0,0,0,0,"Đã nghỉ",null,null,null,null,null,null,null,null,null,null,""]
[null,null,{"$f":"SUBTOTAL(3,$D$15:D27)","v":13},{"$f":"'Danh muc nhan vien'!E24","v":"Nguyễn Văn Hân"},{"$f":"IFERROR(VLOOKUP(D27,'Danh muc nhan vien'!$E$12:$BY$42,2,0),\"\")","v":"NV Kinh Doanh"},null,null,null,null,null,null,null,null,null,null,null,null,null,null,null,null,null,null,null,null,null,null,null,null,null,null,null,null,null,null,null,0,0,0,0,0,0,"",null,null,null,null,null,null,null,null,null,null,"x"]
[null,null,{"$f":"SUBTOTAL(3,$D$15:D28)","v":14},{"$f":"'Danh muc nhan vien'!E25","v":"Phạm Hoài An"},{"$f":"IFERROR(VLOOKUP(D28,'Danh muc nhan vien'!$E$12:$BY$42,2,0),\"\")","v":"NV Kinh Doanh"},null,null,null,null,null,null,null,null,null,null,null,null,null,null,null,null,null,null,null,null,null,null,null,null,null,null,null,null,null,null,null,0,0,0,0,0,0,"",null,null,null,null,null,null,null,null,null,null,"x"]
[null,null,{"$f":"SUBTOTAL(3,$D$15:D29)","v":15},{"$f":"'Danh muc nhan vien'!E26","v":0},{"$f":"IFERROR(VLOOKUP(D29,'Danh muc nhan vien'!$E$12:$BY$42,2,0),\"\")","v":""},null,null,null,null,null,null,null,null,null,null,null,null,null,null,null,null,null,null,null,null,null,null,null,null,null,null,null,null,null,null,null,0,0,0,0,0,0,"",null,null,null,null,null,null,null,null,null,null,{"$error":"#N/A"}]
[null,null,{"$f":"SUBTOTAL(3,$D$15:D30)","v":16},{"$f":"'Danh muc nhan vien'!E27","v":0},{"$f":"IFERROR(VLOOKUP(D30,'Danh muc nhan vien'!$E$12:$BY$42,2,0),\"\")","v":""},null,null,null,null,null,null,null,null,null,null,null,null,null,null,null,null,null,null,null,null,null,null,null,null,null,null,null,null,null,null,null,0,0,0,0,0,0,"",null,null,null,null,null,null,null,null,null,null,{"$error":"#N/A"}]
[null,null,{"$f":"SUBTOTAL(3,$D$15:D31)","v":17},{"$f":"'Danh muc nhan vien'!E28","v":0},{"$f":"IFERROR(VLOOKUP(D31,'Danh muc nhan vien'!$E$12:$BY$42,2,0),\"\")","v":""},null,null,null,null,null,null,null,null,null,null,null,null,null,null,null,null,null,null,null,null,null,null,null,null,null,null,null,null,null,null,null,0,0,0,0,0,0,"",null,null,null,null,null,null,null,null,null,null,{"$error":"#N/A"}]
[null,null,{"$f":"SUBTOTAL(3,$D$15:D32)","v":18},{"$f":"'Danh muc nhan vien'!E29","v":0},{"$f":"IFERROR(VLOOKUP(D32,'Danh muc nhan vien'!$E$12:$BY$42,2,0),\"\")","v":""},null,null,null,null,null,null,null,null,null,null,null,null,null,null,null,null,null,null,null,null,null,null,null,null,null,null,null,null,null,null,null,{"$f":"COUNTIF($F32:$AJ32,AK$13)","v":0},0,0,0,0,0,"",null,null,null,null,null,null,null,null,null,null,{"$error":"#N/A"}]
[null,null,{"$f":"SUBTOTAL(3,$D$15:D33)","v":19},{"$f":"'Danh muc nhan vien'!E30","v":0},{"$f":"IFERROR(VLOOKUP(D33,'Danh muc nhan vien'!$E$12:$BY$42,2,0),\"\")","v":""},null,null,null,null,null,null,null,null,null,null,null,null,null,null,null,null,null,null,null,null,null,null,null,null,null,null,null,null,null,null,null,0,0,0,0,0,0,"",null,null,null,null,null,null,null,null,null,null,{"$error":"#N/A"}]
[null,null,{"$f":"SUBTOTAL(3,$D$15:D34)","v":20},{"$f":"'Danh muc nhan vien'!E31","v":0},{"$f":"IFERROR(VLOOKUP(D34,'Danh muc nhan vien'!$E$12:$BY$42,2,0),\"\")","v":""},null,null,null,null,null,null,null,null,null,null,null,null,null,null,null,null,null,null,null,null,null,null,null,null,null,null,null,null,null,null,null,0,0,0,0,0,0,"",null,null,null,null,null,null,null,null,null,null,{"$error":"#N/A"}]
[null,null,{"$f":"SUBTOTAL(3,$D$15:D35)","v":21},{"$f":"'Danh muc nhan vien'!E32","v":0},{"$f":"IFERROR(VLOOKUP(D35,'Danh muc nhan vien'!$E$12:$BY$42,2,0),\"\")","v":""},null,null,null,null,null,null,null,null,null,null,null,null,null,null,null,null,null,null,null,null,null,null,null,null,null,null,null,null,null,null,null,0,0,0,0,0,0,"",null,null,null,null,null,null,null,null,null,null,{"$error":"#N/A"}]
[null,null,{"$f":"SUBTOTAL(3,$D$15:D36)","v":22},{"$f":"'Danh muc nhan vien'!E33","v":0},{"$f":"IFERROR(VLOOKUP(D36,'Danh muc nhan vien'!$E$12:$BY$42,2,0),\"\")","v":""},null,null,null,null,null,null,null,null,null,null,null,null,null,null,null,null,null,null,null,null,null,null,null,null,null,null,null,null,null,null,null,0,0,0,0,0,0,"",null,null,null,null,null,null,null,null,null,null,{"$error":"#N/A"}]
[null,null,{"$f":"SUBTOTAL(3,$D$15:D37)","v":23},{"$f":"'Danh muc nhan vien'!E34","v":0},{"$f":"IFERROR(VLOOKUP(D37,'Danh muc nhan vien'!$E$12:$BY$42,2,0),\"\")","v":""},null,null,null,null,null,null,null,null,null,null,null,null,null,null,null,null,null,null,null,null,null,null,null,null,null,null,null,null,null,null,null,0,0,0,0,0,0,"",null,null,null,null,null,null,null,null,null,null,{"$error":"#N/A"}]
[null,null,{"$f":"SUBTOTAL(3,$D$15:D38)","v":24},{"$f":"'Danh muc nhan vien'!E35","v":0},{"$f":"IFERROR(VLOOKUP(D38,'Danh muc nhan vien'!$E$12:$BY$42,2,0),\"\")","v":""},null,null,null,null,null,null,null,null,null,null,null,null,null,null,null,null,null,null,null,null,null,null,null,null,null,null,null,null,null,null,null,0,0,0,0,0,0,"",null,null,null,null,null,null,null,null,null,null,{"$error":"#N/A"}]
[null,null,{"$f":"SUBTOTAL(3,$D$15:D39)","v":25},{"$f":"'Danh muc nhan vien'!E36","v":0},{"$f":"IFERROR(VLOOKUP(D39,'Danh muc nhan vien'!$E$12:$BY$42,2,0),\"\")","v":""},null,null,null,null,null,null,null,null,null,null,null,null,null,null,null,null,null,null,null,null,null,null,null,null,null,null,null,null,null,null,null,0,0,0,0,0,0,"",null,null,null,null,null,null,null,null,null,null,{"$error":"#N/A"}]
[null,null,{"$f":"SUBTOTAL(3,$D$15:D40)","v":26},{"$f":"'Danh muc nhan vien'!E37","v":0},{"$f":"IFERROR(VLOOKUP(D40,'Danh muc nhan vien'!$E$12:$BY$42,2,0),\"\")","v":""},null,null,null,null,null,null,null,null,null,null,null,null,null,null,null,null,null,null,null,null,null,null,null,null,null,null,null,null,null,null,null,0,0,0,0,0,0,"",null,null,null,null,null,null,null,null,null,null,{"$error":"#N/A"}]
[null,null,{"$f":"SUBTOTAL(3,$D$15:D41)","v":27},{"$f":"'Danh muc nhan vien'!E38","v":0},{"$f":"IFERROR(VLOOKUP(D41,'Danh muc nhan vien'!$E$12:$BY$42,2,0),\"\")","v":""},null,null,null,null,null,null,null,null,null,null,null,null,null,null,null,null,null,null,null,null,null,null,null,null,null,null,null,null,null,null,null,0,0,0,0,0,0,"",null,null,null,null,null,null,null,null,null,null,{"$error":"#N/A"}]
[null,null,{"$f":"SUBTOTAL(3,$D$15:D42)","v":28},{"$f":"'Danh muc nhan vien'!E39","v":0},{"$f":"IFERROR(VLOOKUP(D42,'Danh muc nhan vien'!$E$12:$BY$42,2,0),\"\")","v":""},null,null,null,null,null,null,null,null,null,null,null,null,null,null,null,null,null,null,null,null,null,null,null,null,null,null,null,null,null,null,null,0,0,0,0,0,0,"",null,null,null,null,null,null,null,null,null,null,{"$error":"#N/A"}]
[null,null,{"$f":"SUBTOTAL(3,$D$15:D43)","v":29},{"$f":"'Danh muc nhan vien'!E40","v":0},{"$f":"IFERROR(VLOOKUP(D43,'Danh muc nhan vien'!$E$12:$BY$42,2,0),\"\")","v":""},null,null,null,null,null,null,null,null,null,null,null,null,null,null,null,null,null,null,null,null,null,null,null,null,null,null,null,null,null,null,null,0,0,0,0,0,0,"",null,null,null,null,null,null,null,null,null,null,{"$error":"#N/A"}]
[null,null,{"$f":"SUBTOTAL(3,$D$15:D44)","v":30},{"$f":"'Danh muc nhan vien'!E41","v":0},{"$f":"IFERROR(VLOOKUP(D44,'Danh muc nhan vien'!$E$12:$BY$42,2,0),\"\")","v":""},null,null,null,null,null,null,null,null,null,null,null,null,null,null,null,null,null,null,null,null,null,null,null,null,null,null,null,null,null,null,null,0,0,0,0,0,0,"",null,null,null,null,null,null,null,null,null,null,{"$error":"#N/A"}]
[]
[null,null,".",".",".",".",".",".",".",".",".",".",".",".",".",".",".",".",".",".",".",".",".",".",".",".",".",".",".",".",".",".",".",".",".",".",".",".",".",".",".",".","."]
[]
[null,null,null,null,null,null,null,null,null,null,null,null,null,null,null,null,null,null,null,null,null,null,null,null,null,null,null,null,null,null,null,null,null,{"$f":"\"Ngày …….. Tháng …….. Năm \"&year","v":"Ngày …….. Tháng …….. Năm 2021"}]
[null,null,null,"NGƯỜI CHẤM CÔNG",null,null,null,null,null,null,null,null,null,null,null,null,null,null,null,"PHỤ TRÁCH BỘ PHẬN",null,null,null,null,null,null,null,null,null,null,null,null,null,"THỦ TRƯỞNG ĐƠN VỊ"]
[null,null,null,"(Ký tên)",null,null,null,null,null,null,null,null,null,null,null,null,null,null,null,"(Ký tên)",null,null,null,null,null,null,null,null,null,null,null,null,null,"(Ký tên)"]
[]
[]
[]
[]
[null,null,null,{"$f":"Chamcong","v":"Vũ Trình B"},null,null,null,null,null,null,null,null,null,null,null,null,null,null,null,{"$f":"phutrach","v":"Nguyễn Linh A"},null,null,null,null,null,null,null,null,null,null,null,null,null,{"$f":"Giamdoc","v":"Mr. Trường"}]

{"sheet":"T10","index":12,"n_rows":55,"n_cols":88,"rows_kept":55,"cut":false,"hidden":false,"merged":[[9,5,9,35],[4,53,4,61],[5,2,5,3],[5,7,5,9],[5,10,5,12],[8,5,8,35],[5,30,5,34],[8,2,9,4],[54,33,54,42],[11,2,13,2],[11,3,13,3],[11,4,13,4],[11,5,11,35],[11,36,11,41],[11,42,13,42],[12,36,13,36],[12,37,13,37],[12,38,13,38],[12,39,13,39],[12,40,13,40],[12,41,13,41],[47,33,47,42],[48,33,48,42],[49,33,49,42]]}
[]
[]
[]
[]
[]
[null,null,"Số ngày làm việc:",null,{"$f":"VLOOKUP(m.oct,ngaycong,2,0)","v":26},null,null,"<<",null,null,">>",null,null,null,null,null,null,null,null,null,null,null,null,null,null,null,null,null,null,null,{"$f":"DATEVALUE(\"1/10/\"&year)","v":"2021-01-10"},null,null,null,null,null,false]
[]
[null,null,{"$f":"Setup!F10","v":"Công ty TNHH Webkynang Việt Nam"},null,null,null,null,null,null,null,null,null,null,null,null,null,null,null,null,null,null,null,null,null,null,null,null,null,null,null,null,null,null,null,null,null,null,null,null,null,null,null,null,null,null,null,null,null,null,null,null,null,null,null,null,null,null,null,null,null,null,null,null,null,null,null,null,null,null,null,null,null,null,null,null,null,null,null,null,null,null,null,null,null,null,null,null,{"$f":"VALUE(MID(F10,8,2))","v":10}]
[null,null,{"$f":"Setup!D11&\" \"&Setup!F11","v":"Địa chỉ: Tầng 6, Tòa nhà Sannam, Duy Tân, Cầu Giấy, Hà Nội"},null,null,"BẢNG CHẤM CÔNG"]
[null,null,null,null,null,{"$f":"\"Tháng 10 năm \"&year","v":"Tháng 10 năm 2021"}]
[null,null,null,null,null,null,{"$f":"F13+1","v":"2021-10-02"},{"$f":"G11+1","v":"2021-10-03"},{"$f":"H11+1","v":"2021-10-04"},"2021-10-05","2021-10-06","2021-10-07","2021-10-08","2021-10-09","2021-10-10","2021-10-11","2021-10-12","2021-10-13","2021-10-14","2021-10-15","2021-10-16","2021-10-17","2021-10-18","2021-10-19","2021-10-20","2021-10-21","2021-10-22","2021-10-23","2021-10-24","2021-10-25","2021-10-26","2021-10-27","2021-10-28","2021-10-29","2021-10-30","2021-10-31"]
[null,null,"SỐ TT","HỌ VÀ TÊN","CHỨC VỤ","NGÀY TRONG THÁNG/ THỨ TRONG TUẦN",null,null,null,null,null,null,null,null,null,null,null,null,null,null,null,null,null,null,null,null,null,null,null,null,null,null,null,null,null,null,"TỔNG",null,null,null,null,null,"GHI CHÚ"]
[null,null,null,null,null,{"$f":"DATE(year,m.oct,1)","v":"2021-10-01"},{"$f":"IF(MONTH(G11)>m.oct,\"\",G11)","v":"2021-10-02"},"2021-10-03","2021-10-04","2021-10-05","2021-10-06","2021-10-07","2021-10-08","2021-10-09","2021-10-10","2021-10-11","2021-10-12","2021-10-13","2021-10-14","2021-10-15","2021-10-16","2021-10-17","2021-10-18","2021-10-19","2021-10-20","2021-10-21","2021-10-22","2021-10-23","2021-10-24","2021-10-25","2021-10-26","2021-10-27","2021-10-28","2021-10-29","2021-10-30","2021-10-31",{"$f":"macong1","v":"x"},{"$f":"macong2","v":"x2"},{"$f":"macong3","v":"NC"},{"$f":"macong4","v":"NO"},{"$f":"macong5","v":"00:00:00"},"Tổng"]
[null,null,null,null,null,{"$f":"IF(F13=\"\",\"\",CHOOSE(WEEKDAY(F13),\"C.Nhật\",\"T.Hai\",\"T.Ba\",\"T.Tư\",\"T.Năm\",\"T.Sáu\",\"T.Bảy\"))","v":"T.Sáu"},{"$f":"IF(G13=\"\",\"\",CHOOSE(WEEKDAY(G13),\"C.Nhật\",\"T.Hai\",\"T.Ba\",\"T.Tư\",\"T.Năm\",\"T.Sáu\",\"T.Bảy\"))","v":"T.Bảy"},"C.Nhật","T.Hai","T.Ba","T.Tư","T.Năm","T.Sáu","T.Bảy","C.Nhật","T.Hai","T.Ba","T.Tư","T.Năm","T.Sáu","T.Bảy","C.Nhật","T.Hai","T.Ba","T.Tư","T.Năm","T.Sáu","T.Bảy","C.Nhật","T.Hai","T.Ba","T.Tư","T.Năm",{"$f":"IF(AH13=\"\",\"\",CHOOSE(WEEKDAY(AH13),\"C.Nhật\",\"T.Hai\",\"T.Ba\",\"T.Tư\",\"T.Năm\",\"T.Sáu\",\"T.Bảy\"))","v":"T.Sáu"},{"$f":"IF(AI13=\"\",\"\",CHOOSE(WEEKDAY(AI13),\"C.Nhật\",\"T.Hai\",\"T.Ba\",\"T.Tư\",\"T.Năm\",\"T.Sáu\",\"T.Bảy\"))","v":"T.Bảy"},"C.Nhật"]
[null,null,{"$f":"SUBTOTAL(3,$D$15:D15)","v":1},{"$f":"'Danh muc nhan vien'!E12","v":"Trần Văn Tám"},{"$f":"IFERROR(VLOOKUP(D15,'Danh muc nhan vien'!$E$12:$BY$42,2,0),\"\")","v":"Giám Đốc"},null,null,null,null,null,null,null,null,null,null,null,null,null,null,null,null,null,null,null,null,null,null,null,null,null,null,null,null,null,null,null,{"$f":"COUNTIF($F15:$AJ15,AK$13)","v":0},{"$f":"COUNTIF($F15:$AJ15,AL$13)","v":0},0,0,0,{"$f":"AK15*1+AL15*0.5+AM15*1","v":0},{"$f":"IF(E15=\"\",\"\",IF(OR(VLOOKUP(D15,DSNV,5,0)<1,VLOOKUP(D15,DSNV,5,0)>eomonth10),\"\",\"Đã nghỉ\"))","v":""},null,null,null,null,null,null,null,null,null,null,{"$f":"IF(AND(VLOOKUP(D15,DSNV,5,0)>1,$F$13>VLOOKUP(D15,DSNV,5,0)),\"\",IF(SUM(AK15:AP15)<$E$6,\"x\",\"\"))","v":"x"}]
[null,null,{"$f":"SUBTOTAL(3,$D$15:D16)","v":2},{"$f":"'Danh muc nhan vien'!E13","v":"Đặng Văn Thành"},{"$f":"IFERROR(VLOOKUP(D16,'Danh muc nhan vien'!$E$12:$BY$42,2,0),\"\")","v":"Phó GĐ"},null,null,null,null,null,null,null,null,null,null,null,null,null,null,null,null,null,null,null,null,null,null,null,null,null,null,null,null,null,null,null,{"$f":"COUNTIF($F16:$AJ16,AK$13)","v":0},0,0,0,0,{"$f":"AK16*1+AL16*0.5+AM16*1","v":0},"",null,null,null,null,null,null,null,null,null,null,"x"]
[null,null,{"$f":"SUBTOTAL(3,$D$15:D17)","v":3},{"$f":"'Danh muc nhan vien'!E14","v":"Đặng Thành Tâm"},{"$f":"IFERROR(VLOOKUP(D17,'Danh muc nhan vien'!$E$12:$BY$42,2,0),\"\")","v":"KTT"},null,null,null,null,null,null,null,null,null,null,null,null,null,null,null,null,null,null,null,null,null,null,null,null,null,null,null,null,null,null,null,0,0,0,0,0,0,"",null,null,null,null,null,null,null,null,null,null,"x"]
[null,null,{"$f":"SUBTOTAL(3,$D$15:D18)","v":4},{"$f":"'Danh muc nhan vien'!E15","v":"Đoàn Văn Cường"},{"$f":"IFERROR(VLOOKUP(D18,'Danh muc nhan vien'!$E$12:$BY$42,2,0),\"\")","v":"TP Kinh Doanh"},null,null,null,null,null,null,null,null,null,null,null,null,null,null,null,null,null,null,null,null,null,null,null,null,null,null,null,null,null,null,null,0,0,0,0,0,0,"",null,null,null,null,null,null,null,null,null,null,"x"]
[null,null,{"$f":"SUBTOTAL(3,$D$15:D19)","v":5},{"$f":"'Danh muc nhan vien'!E16","v":"Hồ Phương Lanh"},{"$f":"IFERROR(VLOOKUP(D19,'Danh muc nhan vien'!$E$12:$BY$42,2,0),\"\")","v":"KT Tổng hợp"},null,null,null,null,null,null,null,null,null,null,null,null,null,null,null,null,null,null,null,null,null,null,null,null,null,null,null,null,null,null,null,0,0,0,0,0,0,"",null,null,null,null,null,null,null,null,null,null,"x"]
[null,null,{"$f":"SUBTOTAL(3,$D$15:D20)","v":6},{"$f":"'Danh muc nhan vien'!E17","v":"Huỳnh Tùng Lâm"},{"$f":"IFERROR(VLOOKUP(D20,'Danh muc nhan vien'!$E$12:$BY$42,2,0),\"\")","v":"KT Viên"},null,null,null,null,null,null,null,null,null,null,null,null,null,null,null,null,null,null,null,null,null,null,null,null,null,null,null,null,null,null,null,0,0,0,0,0,0,"Đã nghỉ",null,null,null,null,null,null,null,null,null,null,""]
[null,null,{"$f":"SUBTOTAL(3,$D$15:D21)","v":7},{"$f":"'Danh muc nhan vien'!E18","v":"Lê Đại Tài"},{"$f":"IFERROR(VLOOKUP(D21,'Danh muc nhan vien'!$E$12:$BY$42,2,0),\"\")","v":"KT Viên"},null,null,null,null,null,null,null,null,null,null,null,null,null,null,null,null,null,null,null,null,null,null,null,null,null,null,null,null,null,null,null,0,0,0,0,0,0,"",null,null,null,null,null,null,null,null,null,null,"x"]
[null,null,{"$f":"SUBTOTAL(3,$D$15:D22)","v":8},{"$f":"'Danh muc nhan vien'!E19","v":"Lâm Thị Cành"},{"$f":"IFERROR(VLOOKUP(D22,'Danh muc nhan vien'!$E$12:$BY$42,2,0),\"\")","v":"Nhân sự"},null,null,null,null,null,null,null,null,null,null,null,null,null,null,null,null,null,null,null,null,null,null,null,null,null,null,null,null,null,null,null,0,0,0,0,0,0,"",null,null,null,null,null,null,null,null,null,null,"x"]
[null,null,{"$f":"SUBTOTAL(3,$D$15:D23)","v":9},{"$f":"'Danh muc nhan vien'!E20","v":"Lê Đức Chinh"},{"$f":"IFERROR(VLOOKUP(D23,'Danh muc nhan vien'!$E$12:$BY$42,2,0),\"\")","v":"Hành chính"},null,null,null,null,null,null,null,null,null,null,null,null,null,null,null,null,null,null,null,null,null,null,null,null,null,null,null,null,null,null,null,0,0,0,0,0,0,"Đã nghỉ",null,null,null,null,null,null,null,null,null,null,""]
[null,null,{"$f":"SUBTOTAL(3,$D$15:D24)","v":10},{"$f":"'Danh muc nhan vien'!E21","v":"Lê Văn Liêm"},{"$f":"IFERROR(VLOOKUP(D24,'Danh muc nhan vien'!$E$12:$BY$42,2,0),\"\")","v":"Marketing"},null,null,null,null,null,null,null,null,null,null,null,null,null,null,null,null,null,null,null,null,null,null,null,null,null,null,null,null,null,null,null,0,0,0,0,0,0,"",null,null,null,null,null,null,null,null,null,null,"x"]
[null,null,{"$f":"SUBTOTAL(3,$D$15:D25)","v":11},{"$f":"'Danh muc nhan vien'!E22","v":"Nguyễn Chí Thanh"},{"$f":"IFERROR(VLOOKUP(D25,'Danh muc nhan vien'!$E$12:$BY$42,2,0),\"\")","v":"NV Kinh Doanh"},null,null,null,null,null,null,null,null,null,null,null,null,null,null,null,null,null,null,null,null,null,null,null,null,null,null,null,null,null,null,null,0,0,0,0,0,0,"",null,null,null,null,null,null,null,null,null,null,"x"]
[null,null,{"$f":"SUBTOTAL(3,$D$15:D26)","v":12},{"$f":"'Danh muc nhan vien'!E23","v":"Nguyễn Hoàng Tính"},{"$f":"IFERROR(VLOOKUP(D26,'Danh muc nhan vien'!$E$12:$BY$42,2,0),\"\")","v":"NV Kinh Doanh"},null,null,null,null,null,null,null,null,null,null,null,null,null,null,null,null,null,null,null,null,null,null,null,null,null,null,null,null,null,null,null,0,0,0,0,0,0,"Đã nghỉ",null,null,null,null,null,null,null,null,null,null,""]
[null,null,{"$f":"SUBTOTAL(3,$D$15:D27)","v":13},{"$f":"'Danh muc nhan vien'!E24","v":"Nguyễn Văn Hân"},{"$f":"IFERROR(VLOOKUP(D27,'Danh muc nhan vien'!$E$12:$BY$42,2,0),\"\")","v":"NV Kinh Doanh"},null,null,null,null,null,null,null,null,null,null,null,null,null,null,null,null,null,null,null,null,null,null,null,null,null,null,null,null,null,null,null,0,0,0,0,0,0,"",null,null,null,null,null,null,null,null,null,null,"x"]
[null,null,{"$f":"SUBTOTAL(3,$D$15:D28)","v":14},{"$f":"'Danh muc nhan vien'!E25","v":"Phạm Hoài An"},{"$f":"IFERROR(VLOOKUP(D28,'Danh muc nhan vien'!$E$12:$BY$42,2,0),\"\")","v":"NV Kinh Doanh"},null,null,null,null,null,null,null,null,null,null,null,null,null,null,null,null,null,null,null,null,null,null,null,null,null,null,null,null,null,null,null,0,0,0,0,0,0,"",null,null,null,null,null,null,null,null,null,null,"x"]
[null,null,{"$f":"SUBTOTAL(3,$D$15:D29)","v":15},{"$f":"'Danh muc nhan vien'!E26","v":0},{"$f":"IFERROR(VLOOKUP(D29,'Danh muc nhan vien'!$E$12:$BY$42,2,0),\"\")","v":""},null,null,null,null,null,null,null,null,null,null,null,null,null,null,null,null,null,null,null,null,null,null,null,null,null,null,null,null,null,null,null,0,0,0,0,0,0,"",null,null,null,null,null,null,null,null,null,null,{"$error":"#N/A"}]
[null,null,{"$f":"SUBTOTAL(3,$D$15:D30)","v":16},{"$f":"'Danh muc nhan vien'!E27","v":0},{"$f":"IFERROR(VLOOKUP(D30,'Danh muc nhan vien'!$E$12:$BY$42,2,0),\"\")","v":""},null,null,null,null,null,null,null,null,null,null,null,null,null,null,null,null,null,null,null,null,null,null,null,null,null,null,null,null,null,null,null,0,0,0,0,0,0,"",null,null,null,null,null,null,null,null,null,null,{"$error":"#N/A"}]
[null,null,{"$f":"SUBTOTAL(3,$D$15:D31)","v":17},{"$f":"'Danh muc nhan vien'!E28","v":0},{"$f":"IFERROR(VLOOKUP(D31,'Danh muc nhan vien'!$E$12:$BY$42,2,0),\"\")","v":""},null,null,null,null,null,null,null,null,null,null,null,null,null,null,null,null,null,null,null,null,null,null,null,null,null,null,null,null,null,null,null,0,0,0,0,0,0,"",null,null,null,null,null,null,null,null,null,null,{"$error":"#N/A"}]
[null,null,{"$f":"SUBTOTAL(3,$D$15:D32)","v":18},{"$f":"'Danh muc nhan vien'!E29","v":0},{"$f":"IFERROR(VLOOKUP(D32,'Danh muc nhan vien'!$E$12:$BY$42,2,0),\"\")","v":""},null,null,null,null,null,null,null,null,null,null,null,null,null,null,null,null,null,null,null,null,null,null,null,null,null,null,null,null,null,null,null,{"$f":"COUNTIF($F32:$AJ32,AK$13)","v":0},0,0,0,0,0,"",null,null,null,null,null,null,null,null,null,null,{"$error":"#N/A"}]
[null,null,{"$f":"SUBTOTAL(3,$D$15:D33)","v":19},{"$f":"'Danh muc nhan vien'!E30","v":0},{"$f":"IFERROR(VLOOKUP(D33,'Danh muc nhan vien'!$E$12:$BY$42,2,0),\"\")","v":""},null,null,null,null,null,null,null,null,null,null,null,null,null,null,null,null,null,null,null,null,null,null,null,null,null,null,null,null,null,null,null,0,0,0,0,0,0,"",null,null,null,null,null,null,null,null,null,null,{"$error":"#N/A"}]
[null,null,{"$f":"SUBTOTAL(3,$D$15:D34)","v":20},{"$f":"'Danh muc nhan vien'!E31","v":0},{"$f":"IFERROR(VLOOKUP(D34,'Danh muc nhan vien'!$E$12:$BY$42,2,0),\"\")","v":""},null,null,null,null,null,null,null,null,null,null,null,null,null,null,null,null,null,null,null,null,null,null,null,null,null,null,null,null,null,null,null,0,0,0,0,0,0,"",null,null,null,null,null,null,null,null,null,null,{"$error":"#N/A"}]
[null,null,{"$f":"SUBTOTAL(3,$D$15:D35)","v":21},{"$f":"'Danh muc nhan vien'!E32","v":0},{"$f":"IFERROR(VLOOKUP(D35,'Danh muc nhan vien'!$E$12:$BY$42,2,0),\"\")","v":""},null,null,null,null,null,null,null,null,null,null,null,null,null,null,null,null,null,null,null,null,null,null,null,null,null,null,null,null,null,null,null,0,0,0,0,0,0,"",null,null,null,null,null,null,null,null,null,null,{"$error":"#N/A"}]
[null,null,{"$f":"SUBTOTAL(3,$D$15:D36)","v":22},{"$f":"'Danh muc nhan vien'!E33","v":0},{"$f":"IFERROR(VLOOKUP(D36,'Danh muc nhan vien'!$E$12:$BY$42,2,0),\"\")","v":""},null,null,null,null,null,null,null,null,null,null,null,null,null,null,null,null,null,null,null,null,null,null,null,null,null,null,null,null,null,null,null,0,0,0,0,0,0,"",null,null,null,null,null,null,null,null,null,null,{"$error":"#N/A"}]
[null,null,{"$f":"SUBTOTAL(3,$D$15:D37)","v":23},{"$f":"'Danh muc nhan vien'!E34","v":0},{"$f":"IFERROR(VLOOKUP(D37,'Danh muc nhan vien'!$E$12:$BY$42,2,0),\"\")","v":""},null,null,null,null,null,null,null,null,null,null,null,null,null,null,null,null,null,null,null,null,null,null,null,null,null,null,null,null,null,null,null,0,0,0,0,0,0,"",null,null,null,null,null,null,null,null,null,null,{"$error":"#N/A"}]
[null,null,{"$f":"SUBTOTAL(3,$D$15:D38)","v":24},{"$f":"'Danh muc nhan vien'!E35","v":0},{"$f":"IFERROR(VLOOKUP(D38,'Danh muc nhan vien'!$E$12:$BY$42,2,0),\"\")","v":""},null,null,null,null,null,null,null,null,null,null,null,null,null,null,null,null,null,null,null,null,null,null,null,null,null,null,null,null,null,null,null,0,0,0,0,0,0,"",null,null,null,null,null,null,null,null,null,null,{"$error":"#N/A"}]
[null,null,{"$f":"SUBTOTAL(3,$D$15:D39)","v":25},{"$f":"'Danh muc nhan vien'!E36","v":0},{"$f":"IFERROR(VLOOKUP(D39,'Danh muc nhan vien'!$E$12:$BY$42,2,0),\"\")","v":""},null,null,null,null,null,null,null,null,null,null,null,null,null,null,null,null,null,null,null,null,null,null,null,null,null,null,null,null,null,null,null,0,0,0,0,0,0,"",null,null,null,null,null,null,null,null,null,null,{"$error":"#N/A"}]
[null,null,{"$f":"SUBTOTAL(3,$D$15:D40)","v":26},{"$f":"'Danh muc nhan vien'!E37","v":0},{"$f":"IFERROR(VLOOKUP(D40,'Danh muc nhan vien'!$E$12:$BY$42,2,0),\"\")","v":""},null,null,null,null,null,null,null,null,null,null,null,null,null,null,null,null,null,null,null,null,null,null,null,null,null,null,null,null,null,null,null,0,0,0,0,0,0,"",null,null,null,null,null,null,null,null,null,null,{"$error":"#N/A"}]
[null,null,{"$f":"SUBTOTAL(3,$D$15:D41)","v":27},{"$f":"'Danh muc nhan vien'!E38","v":0},{"$f":"IFERROR(VLOOKUP(D41,'Danh muc nhan vien'!$E$12:$BY$42,2,0),\"\")","v":""},null,null,null,null,null,null,null,null,null,null,null,null,null,null,null,null,null,null,null,null,null,null,null,null,null,null,null,null,null,null,null,0,0,0,0,0,0,"",null,null,null,null,null,null,null,null,null,null,{"$error":"#N/A"}]
[null,null,{"$f":"SUBTOTAL(3,$D$15:D42)","v":28},{"$f":"'Danh muc nhan vien'!E39","v":0},{"$f":"IFERROR(VLOOKUP(D42,'Danh muc nhan vien'!$E$12:$BY$42,2,0),\"\")","v":""},null,null,null,null,null,null,null,null,null,null,null,null,null,null,null,null,null,null,null,null,null,null,null,null,null,null,null,null,null,null,null,0,0,0,0,0,0,"",null,null,null,null,null,null,null,null,null,null,{"$error":"#N/A"}]
[null,null,{"$f":"SUBTOTAL(3,$D$15:D43)","v":29},{"$f":"'Danh muc nhan vien'!E40","v":0},{"$f":"IFERROR(VLOOKUP(D43,'Danh muc nhan vien'!$E$12:$BY$42,2,0),\"\")","v":""},null,null,null,null,null,null,null,null,null,null,null,null,null,null,null,null,null,null,null,null,null,null,null,null,null,null,null,null,null,null,null,0,0,0,0,0,0,"",null,null,null,null,null,null,null,null,null,null,{"$error":"#N/A"}]
[null,null,{"$f":"SUBTOTAL(3,$D$15:D44)","v":30},{"$f":"'Danh muc nhan vien'!E41","v":0},{"$f":"IFERROR(VLOOKUP(D44,'Danh muc nhan vien'!$E$12:$BY$42,2,0),\"\")","v":""},null,null,null,null,null,null,null,null,null,null,null,null,null,null,null,null,null,null,null,null,null,null,null,null,null,null,null,null,null,null,null,0,0,0,0,0,0,"",null,null,null,null,null,null,null,null,null,null,{"$error":"#N/A"}]
[]
[null,null,".",".",".",".",".",".",".",".",".",".",".",".",".",".",".",".",".",".",".",".",".",".",".",".",".",".",".",".",".",".",".",".",".",".",".",".",".",".",".",".","."]
[]
[null,null,null,null,null,null,null,null,null,null,null,null,null,null,null,null,null,null,null,null,null,null,null,null,null,null,null,null,null,null,null,null,null,{"$f":"\"Ngày …….. Tháng …….. Năm \"&year","v":"Ngày …….. Tháng …….. Năm 2021"}]
[null,null,null,"NGƯỜI CHẤM CÔNG",null,null,null,null,null,null,null,null,null,null,null,null,null,null,null,"PHỤ TRÁCH BỘ PHẬN",null,null,null,null,null,null,null,null,null,null,null,null,null,"THỦ TRƯỞNG ĐƠN VỊ"]
[null,null,null,"(Ký tên)",null,null,null,null,null,null,null,null,null,null,null,null,null,null,null,"(Ký tên)",null,null,null,null,null,null,null,null,null,null,null,null,null,"(Ký tên)"]
[]
[]
[]
[]
[null,null,null,{"$f":"Chamcong","v":"Vũ Trình B"},null,null,null,null,null,null,null,null,null,null,null,null,null,null,null,{"$f":"phutrach","v":"Nguyễn Linh A"},null,null,null,null,null,null,null,null,null,null,null,null,null,{"$f":"Giamdoc","v":"Mr. Trường"}]

{"sheet":"T11","index":13,"n_rows":55,"n_cols":88,"rows_kept":55,"cut":false,"hidden":false,"merged":[[9,5,9,35],[4,53,4,61],[5,2,5,3],[5,7,5,9],[5,10,5,12],[8,5,8,35],[5,30,5,34],[8,2,9,4],[54,33,54,42],[11,2,13,2],[11,3,13,3],[11,4,13,4],[11,5,11,35],[11,36,11,41],[11,42,13,42],[12,36,13,36],[12,37,13,37],[12,38,13,38],[12,39,13,39],[12,40,13,40],[12,41,13,41],[47,33,47,42],[48,33,48,42],[49,33,49,42]]}
[]
[]
[]
[]
[]
[null,null,"Số ngày làm việc:",null,{"$f":"VLOOKUP(m.nov,ngaycong,2,0)","v":26},null,null,"<<",null,null,">>",null,null,null,null,null,null,null,null,null,null,null,null,null,null,null,null,null,null,null,{"$f":"DATEVALUE(\"1/11/\"&year)","v":"2021-01-11"},null,null,null,null,null,false]
[]
[null,null,{"$f":"Setup!F10","v":"Công ty TNHH Webkynang Việt Nam"},null,null,null,null,null,null,null,null,null,null,null,null,null,null,null,null,null,null,null,null,null,null,null,null,null,null,null,null,null,null,null,null,null,null,null,null,null,null,null,null,null,null,null,null,null,null,null,null,null,null,null,null,null,null,null,null,null,null,null,null,null,null,null,null,null,null,null,null,null,null,null,null,null,null,null,null,null,null,null,null,null,null,null,null,{"$f":"VALUE(MID(F10,8,2))","v":11}]
[null,null,{"$f":"Setup!D11&\" \"&Setup!F11","v":"Địa chỉ: Tầng 6, Tòa nhà Sannam, Duy Tân, Cầu Giấy, Hà Nội"},null,null,"BẢNG CHẤM CÔNG"]
[null,null,null,null,null,{"$f":"\"Tháng 11 năm \"&year","v":"Tháng 11 năm 2021"}]
[null,null,null,null,null,null,{"$f":"F13+1","v":"2021-11-02"},{"$f":"G11+1","v":"2021-11-03"},{"$f":"H11+1","v":"2021-11-04"},"2021-11-05","2021-11-06","2021-11-07","2021-11-08","2021-11-09","2021-11-10","2021-11-11","2021-11-12","2021-11-13","2021-11-14","2021-11-15","2021-11-16","2021-11-17","2021-11-18","2021-11-19","2021-11-20","2021-11-21","2021-11-22","2021-11-23","2021-11-24","2021-11-25","2021-11-26","2021-11-27","2021-11-28","2021-11-29","2021-11-30","2021-12-01"]
[null,null,"SỐ TT","HỌ VÀ TÊN","CHỨC VỤ","NGÀY TRONG THÁNG/ THỨ TRONG TUẦN",null,null,null,null,null,null,null,null,null,null,null,null,null,null,null,null,null,null,null,null,null,null,null,null,null,null,null,null,null,null,"TỔNG",null,null,null,null,null,"GHI CHÚ"]
[null,null,null,null,null,{"$f":"DATE(year,m.nov,1)","v":"2021-11-01"},{"$f":"IF(MONTH(G11)>m.nov,\"\",G11)","v":"2021-11-02"},"2021-11-03","2021-11-04","2021-11-05","2021-11-06","2021-11-07","2021-11-08","2021-11-09","2021-11-10","2021-11-11","2021-11-12","2021-11-13","2021-11-14","2021-11-15","2021-11-16","2021-11-17","2021-11-18","2021-11-19","2021-11-20","2021-11-21","2021-11-22","2021-11-23","2021-11-24","2021-11-25","2021-11-26","2021-11-27","2021-11-28","2021-11-29","2021-11-30","",{"$f":"macong1","v":"x"},{"$f":"macong2","v":"x2"},{"$f":"macong3","v":"NC"},{"$f":"macong4","v":"NO"},{"$f":"macong5","v":"00:00:00"},"Tổng"]
[null,null,null,null,null,{"$f":"IF(F13=\"\",\"\",CHOOSE(WEEKDAY(F13),\"C.Nhật\",\"T.Hai\",\"T.Ba\",\"T.Tư\",\"T.Năm\",\"T.Sáu\",\"T.Bảy\"))","v":"T.Hai"},{"$f":"IF(G13=\"\",\"\",CHOOSE(WEEKDAY(G13),\"C.Nhật\",\"T.Hai\",\"T.Ba\",\"T.Tư\",\"T.Năm\",\"T.Sáu\",\"T.Bảy\"))","v":"T.Ba"},"T.Tư","T.Năm","T.Sáu","T.Bảy","C.Nhật","T.Hai","T.Ba","T.Tư","T.Năm","T.Sáu","T.Bảy","C.Nhật","T.Hai","T.Ba","T.Tư","T.Năm","T.Sáu","T.Bảy","C.Nhật","T.Hai","T.Ba","T.Tư","T.Năm","T.Sáu","T.Bảy","C.Nhật",{"$f":"IF(AH13=\"\",\"\",CHOOSE(WEEKDAY(AH13),\"C.Nhật\",\"T.Hai\",\"T.Ba\",\"T.Tư\",\"T.Năm\",\"T.Sáu\",\"T.Bảy\"))","v":"T.Hai"},{"$f":"IF(AI13=\"\",\"\",CHOOSE(WEEKDAY(AI13),\"C.Nhật\",\"T.Hai\",\"T.Ba\",\"T.Tư\",\"T.Năm\",\"T.Sáu\",\"T.Bảy\"))","v":"T.Ba"},""]
[null,null,{"$f":"SUBTOTAL(3,$D$15:D15)","v":1},{"$f":"'Danh muc nhan vien'!E12","v":"Trần Văn Tám"},{"$f":"IFERROR(VLOOKUP(D15,'Danh muc nhan vien'!$E$12:$BY$42,2,0),\"\")","v":"Giám Đốc"},null,null,null,null,null,null,null,null,null,null,null,null,null,null,null,null,null,null,null,null,null,null,null,null,null,null,null,null,null,null,null,{"$f":"COUNTIF($F15:$AJ15,AK$13)","v":0},{"$f":"COUNTIF($F15:$AJ15,AL$13)","v":0},0,0,0,{"$f":"AK15*1+AL15*0.5+AM15*1","v":0},{"$f":"IF(E15=\"\",\"\",IF(OR(VLOOKUP(D15,DSNV,5,0)<1,VLOOKUP(D15,DSNV,5,0)>eomonth11),\"\",\"Đã nghỉ\"))","v":""},null,null,null,null,null,null,null,null,null,null,{"$f":"IF(AND(VLOOKUP(D15,DSNV,5,0)>1,$F$13>VLOOKUP(D15,DSNV,5,0)),\"\",IF(SUM(AK15:AP15)<$E$6,\"x\",\"\"))","v":"x"}]
[null,null,{"$f":"SUBTOTAL(3,$D$15:D16)","v":2},{"$f":"'Danh muc nhan vien'!E13","v":"Đặng Văn Thành"},{"$f":"IFERROR(VLOOKUP(D16,'Danh muc nhan vien'!$E$12:$BY$42,2,0),\"\")","v":"Phó GĐ"},null,null,null,null,null,null,null,null,null,null,null,null,null,null,null,null,null,null,null,null,null,null,null,null,null,null,null,null,null,null,null,{"$f":"COUNTIF($F16:$AJ16,AK$13)","v":0},0,0,0,0,{"$f":"AK16*1+AL16*0.5+AM16*1","v":0},"",null,null,null,null,null,null,null,null,null,null,"x"]
[null,null,{"$f":"SUBTOTAL(3,$D$15:D17)","v":3},{"$f":"'Danh muc nhan vien'!E14","v":"Đặng Thành Tâm"},{"$f":"IFERROR(VLOOKUP(D17,'Danh muc nhan vien'!$E$12:$BY$42,2,0),\"\")","v":"KTT"},null,null,null,null,null,null,null,null,null,null,null,null,null,null,null,null,null,null,null,null,null,null,null,null,null,null,null,null,null,null,null,0,0,0,0,0,0,"",null,null,null,null,null,null,null,null,null,null,"x"]
[null,null,{"$f":"SUBTOTAL(3,$D$15:D18)","v":4},{"$f":"'Danh muc nhan vien'!E15","v":"Đoàn Văn Cường"},{"$f":"IFERROR(VLOOKUP(D18,'Danh muc nhan vien'!$E$12:$BY$42,2,0),\"\")","v":"TP Kinh Doanh"},null,null,null,null,null,null,null,null,null,null,null,null,null,null,null,null,null,null,null,null,null,null,null,null,null,null,null,null,null,null,null,0,0,0,0,0,0,"",null,null,null,null,null,null,null,null,null,null,"x"]
[null,null,{"$f":"SUBTOTAL(3,$D$15:D19)","v":5},{"$f":"'Danh muc nhan vien'!E16","v":"Hồ Phương Lanh"},{"$f":"IFERROR(VLOOKUP(D19,'Danh muc nhan vien'!$E$12:$BY$42,2,0),\"\")","v":"KT Tổng hợp"},null,null,null,null,null,null,null,null,null,null,null,null,null,null,null,null,null,null,null,null,null,null,null,null,null,null,null,null,null,null,null,0,0,0,0,0,0,"",null,null,null,null,null,null,null,null,null,null,"x"]
[null,null,{"$f":"SUBTOTAL(3,$D$15:D20)","v":6},{"$f":"'Danh muc nhan vien'!E17","v":"Huỳnh Tùng Lâm"},{"$f":"IFERROR(VLOOKUP(D20,'Danh muc nhan vien'!$E$12:$BY$42,2,0),\"\")","v":"KT Viên"},null,null,null,null,null,null,null,null,null,null,null,null,null,null,null,null,null,null,null,null,null,null,null,null,null,null,null,null,null,null,null,0,0,0,0,0,0,"Đã nghỉ",null,null,null,null,null,null,null,null,null,null,""]
[null,null,{"$f":"SUBTOTAL(3,$D$15:D21)","v":7},{"$f":"'Danh muc nhan vien'!E18","v":"Lê Đại Tài"},{"$f":"IFERROR(VLOOKUP(D21,'Danh muc nhan vien'!$E$12:$BY$42,2,0),\"\")","v":"KT Viên"},null,null,null,null,null,null,null,null,null,null,null,null,null,null,null,null,null,null,null,null,null,null,null,null,null,null,null,null,null,null,null,0,0,0,0,0,0,"",null,null,null,null,null,null,null,null,null,null,"x"]
[null,null,{"$f":"SUBTOTAL(3,$D$15:D22)","v":8},{"$f":"'Danh muc nhan vien'!E19","v":"Lâm Thị Cành"},{"$f":"IFERROR(VLOOKUP(D22,'Danh muc nhan vien'!$E$12:$BY$42,2,0),\"\")","v":"Nhân sự"},null,null,null,null,null,null,null,null,null,null,null,null,null,null,null,null,null,null,null,null,null,null,null,null,null,null,null,null,null,null,null,0,0,0,0,0,0,"",null,null,null,null,null,null,null,null,null,null,"x"]
[null,null,{"$f":"SUBTOTAL(3,$D$15:D23)","v":9},{"$f":"'Danh muc nhan vien'!E20","v":"Lê Đức Chinh"},{"$f":"IFERROR(VLOOKUP(D23,'Danh muc nhan vien'!$E$12:$BY$42,2,0),\"\")","v":"Hành chính"},null,null,null,null,null,null,null,null,null,null,null,null,null,null,null,null,null,null,null,null,null,null,null,null,null,null,null,null,null,null,null,0,0,0,0,0,0,"Đã nghỉ",null,null,null,null,null,null,null,null,null,null,""]
[null,null,{"$f":"SUBTOTAL(3,$D$15:D24)","v":10},{"$f":"'Danh muc nhan vien'!E21","v":"Lê Văn Liêm"},{"$f":"IFERROR(VLOOKUP(D24,'Danh muc nhan vien'!$E$12:$BY$42,2,0),\"\")","v":"Marketing"},null,null,null,null,null,null,null,null,null,null,null,null,null,null,null,null,null,null,null,null,null,null,null,null,null,null,null,null,null,null,null,0,0,0,0,0,0,"",null,null,null,null,null,null,null,null,null,null,"x"]
[null,null,{"$f":"SUBTOTAL(3,$D$15:D25)","v":11},{"$f":"'Danh muc nhan vien'!E22","v":"Nguyễn Chí Thanh"},{"$f":"IFERROR(VLOOKUP(D25,'Danh muc nhan vien'!$E$12:$BY$42,2,0),\"\")","v":"NV Kinh Doanh"},null,null,null,null,null,null,null,null,null,null,null,null,null,null,null,null,null,null,null,null,null,null,null,null,null,null,null,null,null,null,null,0,0,0,0,0,0,"",null,null,null,null,null,null,null,null,null,null,"x"]
[null,null,{"$f":"SUBTOTAL(3,$D$15:D26)","v":12},{"$f":"'Danh muc nhan vien'!E23","v":"Nguyễn Hoàng Tính"},{"$f":"IFERROR(VLOOKUP(D26,'Danh muc nhan vien'!$E$12:$BY$42,2,0),\"\")","v":"NV Kinh Doanh"},null,null,null,null,null,null,null,null,null,null,null,null,null,null,null,null,null,null,null,null,null,null,null,null,null,null,null,null,null,null,null,0,0,0,0,0,0,"Đã nghỉ",null,null,null,null,null,null,null,null,null,null,""]
[null,null,{"$f":"SUBTOTAL(3,$D$15:D27)","v":13},{"$f":"'Danh muc nhan vien'!E24","v":"Nguyễn Văn Hân"},{"$f":"IFERROR(VLOOKUP(D27,'Danh muc nhan vien'!$E$12:$BY$42,2,0),\"\")","v":"NV Kinh Doanh"},null,null,null,null,null,null,null,null,null,null,null,null,null,null,null,null,null,null,null,null,null,null,null,null,null,null,null,null,null,null,null,0,0,0,0,0,0,"",null,null,null,null,null,null,null,null,null,null,"x"]
[null,null,{"$f":"SUBTOTAL(3,$D$15:D28)","v":14},{"$f":"'Danh muc nhan vien'!E25","v":"Phạm Hoài An"},{"$f":"IFERROR(VLOOKUP(D28,'Danh muc nhan vien'!$E$12:$BY$42,2,0),\"\")","v":"NV Kinh Doanh"},null,null,null,null,null,null,null,null,null,null,null,null,null,null,null,null,null,null,null,null,null,null,null,null,null,null,null,null,null,null,null,0,0,0,0,0,0,"",null,null,null,null,null,null,null,null,null,null,"x"]
[null,null,{"$f":"SUBTOTAL(3,$D$15:D29)","v":15},{"$f":"'Danh muc nhan vien'!E26","v":0},{"$f":"IFERROR(VLOOKUP(D29,'Danh muc nhan vien'!$E$12:$BY$42,2,0),\"\")","v":""},null,null,null,null,null,null,null,null,null,null,null,null,null,null,null,null,null,null,null,null,null,null,null,null,null,null,null,null,null,null,null,0,0,0,0,0,0,"",null,null,null,null,null,null,null,null,null,null,{"$error":"#N/A"}]
[null,null,{"$f":"SUBTOTAL(3,$D$15:D30)","v":16},{"$f":"'Danh muc nhan vien'!E27","v":0},{"$f":"IFERROR(VLOOKUP(D30,'Danh muc nhan vien'!$E$12:$BY$42,2,0),\"\")","v":""},null,null,null,null,null,null,null,null,null,null,null,null,null,null,null,null,null,null,null,null,null,null,null,null,null,null,null,null,null,null,null,0,0,0,0,0,0,"",null,null,null,null,null,null,null,null,null,null,{"$error":"#N/A"}]
[null,null,{"$f":"SUBTOTAL(3,$D$15:D31)","v":17},{"$f":"'Danh muc nhan vien'!E28","v":0},{"$f":"IFERROR(VLOOKUP(D31,'Danh muc nhan vien'!$E$12:$BY$42,2,0),\"\")","v":""},null,null,null,null,null,null,null,null,null,null,null,null,null,null,null,null,null,null,null,null,null,null,null,null,null,null,null,null,null,null,null,0,0,0,0,0,0,"",null,null,null,null,null,null,null,null,null,null,{"$error":"#N/A"}]
[null,null,{"$f":"SUBTOTAL(3,$D$15:D32)","v":18},{"$f":"'Danh muc nhan vien'!E29","v":0},{"$f":"IFERROR(VLOOKUP(D32,'Danh muc nhan vien'!$E$12:$BY$42,2,0),\"\")","v":""},null,null,null,null,null,null,null,null,null,null,null,null,null,null,null,null,null,null,null,null,null,null,null,null,null,null,null,null,null,null,null,{"$f":"COUNTIF($F32:$AJ32,AK$13)","v":0},0,0,0,0,0,"",null,null,null,null,null,null,null,null,null,null,{"$error":"#N/A"}]
[null,null,{"$f":"SUBTOTAL(3,$D$15:D33)","v":19},{"$f":"'Danh muc nhan vien'!E30","v":0},{"$f":"IFERROR(VLOOKUP(D33,'Danh muc nhan vien'!$E$12:$BY$42,2,0),\"\")","v":""},null,null,null,null,null,null,null,null,null,null,null,null,null,null,null,null,null,null,null,null,null,null,null,null,null,null,null,null,null,null,null,0,0,0,0,0,0,"",null,null,null,null,null,null,null,null,null,null,{"$error":"#N/A"}]
[null,null,{"$f":"SUBTOTAL(3,$D$15:D34)","v":20},{"$f":"'Danh muc nhan vien'!E31","v":0},{"$f":"IFERROR(VLOOKUP(D34,'Danh muc nhan vien'!$E$12:$BY$42,2,0),\"\")","v":""},null,null,null,null,null,null,null,null,null,null,null,null,null,null,null,null,null,null,null,null,null,null,null,null,null,null,null,null,null,null,null,0,0,0,0,0,0,"",null,null,null,null,null,null,null,null,null,null,{"$error":"#N/A"}]
[null,null,{"$f":"SUBTOTAL(3,$D$15:D35)","v":21},{"$f":"'Danh muc nhan vien'!E32","v":0},{"$f":"IFERROR(VLOOKUP(D35,'Danh muc nhan vien'!$E$12:$BY$42,2,0),\"\")","v":""},null,null,null,null,null,null,null,null,null,null,null,null,null,null,null,null,null,null,null,null,null,null,null,null,null,null,null,null,null,null,null,0,0,0,0,0,0,"",null,null,null,null,null,null,null,null,null,null,{"$error":"#N/A"}]
[null,null,{"$f":"SUBTOTAL(3,$D$15:D36)","v":22},{"$f":"'Danh muc nhan vien'!E33","v":0},{"$f":"IFERROR(VLOOKUP(D36,'Danh muc nhan vien'!$E$12:$BY$42,2,0),\"\")","v":""},null,null,null,null,null,null,null,null,null,null,null,null,null,null,null,null,null,null,null,null,null,null,null,null,null,null,null,null,null,null,null,0,0,0,0,0,0,"",null,null,null,null,null,null,null,null,null,null,{"$error":"#N/A"}]
[null,null,{"$f":"SUBTOTAL(3,$D$15:D37)","v":23},{"$f":"'Danh muc nhan vien'!E34","v":0},{"$f":"IFERROR(VLOOKUP(D37,'Danh muc nhan vien'!$E$12:$BY$42,2,0),\"\")","v":""},null,null,null,null,null,null,null,null,null,null,null,null,null,null,null,null,null,null,null,null,null,null,null,null,null,null,null,null,null,null,null,0,0,0,0,0,0,"",null,null,null,null,null,null,null,null,null,null,{"$error":"#N/A"}]
[null,null,{"$f":"SUBTOTAL(3,$D$15:D38)","v":24},{"$f":"'Danh muc nhan vien'!E35","v":0},{"$f":"IFERROR(VLOOKUP(D38,'Danh muc nhan vien'!$E$12:$BY$42,2,0),\"\")","v":""},null,null,null,null,null,null,null,null,null,null,null,null,null,null,null,null,null,null,null,null,null,null,null,null,null,null,null,null,null,null,null,0,0,0,0,0,0,"",null,null,null,null,null,null,null,null,null,null,{"$error":"#N/A"}]
[null,null,{"$f":"SUBTOTAL(3,$D$15:D39)","v":25},{"$f":"'Danh muc nhan vien'!E36","v":0},{"$f":"IFERROR(VLOOKUP(D39,'Danh muc nhan vien'!$E$12:$BY$42,2,0),\"\")","v":""},null,null,null,null,null,null,null,null,null,null,null,null,null,null,null,null,null,null,null,null,null,null,null,null,null,null,null,null,null,null,null,0,0,0,0,0,0,"",null,null,null,null,null,null,null,null,null,null,{"$error":"#N/A"}]
[null,null,{"$f":"SUBTOTAL(3,$D$15:D40)","v":26},{"$f":"'Danh muc nhan vien'!E37","v":0},{"$f":"IFERROR(VLOOKUP(D40,'Danh muc nhan vien'!$E$12:$BY$42,2,0),\"\")","v":""},null,null,null,null,null,null,null,null,null,null,null,null,null,null,null,null,null,null,null,null,null,null,null,null,null,null,null,null,null,null,null,0,0,0,0,0,0,"",null,null,null,null,null,null,null,null,null,null,{"$error":"#N/A"}]
[null,null,{"$f":"SUBTOTAL(3,$D$15:D41)","v":27},{"$f":"'Danh muc nhan vien'!E38","v":0},{"$f":"IFERROR(VLOOKUP(D41,'Danh muc nhan vien'!$E$12:$BY$42,2,0),\"\")","v":""},null,null,null,null,null,null,null,null,null,null,null,null,null,null,null,null,null,null,null,null,null,null,null,null,null,null,null,null,null,null,null,0,0,0,0,0,0,"",null,null,null,null,null,null,null,null,null,null,{"$error":"#N/A"}]
[null,null,{"$f":"SUBTOTAL(3,$D$15:D42)","v":28},{"$f":"'Danh muc nhan vien'!E39","v":0},{"$f":"IFERROR(VLOOKUP(D42,'Danh muc nhan vien'!$E$12:$BY$42,2,0),\"\")","v":""},null,null,null,null,null,null,null,null,null,null,null,null,null,null,null,null,null,null,null,null,null,null,null,null,null,null,null,null,null,null,null,0,0,0,0,0,0,"",null,null,null,null,null,null,null,null,null,null,{"$error":"#N/A"}]
[null,null,{"$f":"SUBTOTAL(3,$D$15:D43)","v":29},{"$f":"'Danh muc nhan vien'!E40","v":0},{"$f":"IFERROR(VLOOKUP(D43,'Danh muc nhan vien'!$E$12:$BY$42,2,0),\"\")","v":""},null,null,null,null,null,null,null,null,null,null,null,null,null,null,null,null,null,null,null,null,null,null,null,null,null,null,null,null,null,null,null,0,0,0,0,0,0,"",null,null,null,null,null,null,null,null,null,null,{"$error":"#N/A"}]
[null,null,{"$f":"SUBTOTAL(3,$D$15:D44)","v":30},{"$f":"'Danh muc nhan vien'!E41","v":0},{"$f":"IFERROR(VLOOKUP(D44,'Danh muc nhan vien'!$E$12:$BY$42,2,0),\"\")","v":""},null,null,null,null,null,null,null,null,null,null,null,null,null,null,null,null,null,null,null,null,null,null,null,null,null,null,null,null,null,null,null,0,0,0,0,0,0,"",null,null,null,null,null,null,null,null,null,null,{"$error":"#N/A"}]
[]
[null,null,".",".",".",".",".",".",".",".",".",".",".",".",".",".",".",".",".",".",".",".",".",".",".",".",".",".",".",".",".",".",".",".",".",".",".",".",".",".",".",".","."]
[]
[null,null,null,null,null,null,null,null,null,null,null,null,null,null,null,null,null,null,null,null,null,null,null,null,null,null,null,null,null,null,null,null,null,{"$f":"\"Ngày …….. Tháng …….. Năm \"&year","v":"Ngày …….. Tháng …….. Năm 2021"}]
[null,null,null,"NGƯỜI CHẤM CÔNG",null,null,null,null,null,null,null,null,null,null,null,null,null,null,null,"PHỤ TRÁCH BỘ PHẬN",null,null,null,null,null,null,null,null,null,null,null,null,null,"THỦ TRƯỞNG ĐƠN VỊ"]
[null,null,null,"(Ký tên)",null,null,null,null,null,null,null,null,null,null,null,null,null,null,null,"(Ký tên)",null,null,null,null,null,null,null,null,null,null,null,null,null,"(Ký tên)"]
[]
[]
[]
[]
[null,null,null,{"$f":"Chamcong","v":"Vũ Trình B"},null,null,null,null,null,null,null,null,null,null,null,null,null,null,null,{"$f":"phutrach","v":"Nguyễn Linh A"},null,null,null,null,null,null,null,null,null,null,null,null,null,{"$f":"Giamdoc","v":"Mr. Trường"}]

{"sheet":"T12","index":14,"n_rows":55,"n_cols":88,"rows_kept":55,"cut":false,"hidden":false,"merged":[[9,5,9,35],[4,53,4,61],[5,2,5,3],[5,7,5,9],[5,10,5,12],[8,5,8,35],[5,30,5,34],[8,2,9,4],[54,33,54,42],[11,2,13,2],[11,3,13,3],[11,4,13,4],[11,5,11,35],[11,36,11,41],[11,42,13,42],[12,36,13,36],[12,37,13,37],[12,38,13,38],[12,39,13,39],[12,40,13,40],[12,41,13,41],[47,33,47,42],[48,33,48,42],[49,33,49,42]]}
[]
[]
[]
[]
[]
[null,null,"Số ngày làm việc:",null,{"$f":"VLOOKUP(m.dec,ngaycong,2,0)","v":26},null,null,"<<",null,null,">>",null,null,null,null,null,null,null,null,null,null,null,null,null,null,null,null,null,null,null,{"$f":"DATEVALUE(\"1/12/\"&year)","v":"2021-01-12"},null,null,null,null,null,false]
[]
[null,null,{"$f":"Setup!F10","v":"Công ty TNHH Webkynang Việt Nam"},null,null,null,null,null,null,null,null,null,null,null,null,null,null,null,null,null,null,null,null,null,null,null,null,null,null,null,null,null,null,null,null,null,null,null,null,null,null,null,null,null,null,null,null,null,null,null,null,null,null,null,null,null,null,null,null,null,null,null,null,null,null,null,null,null,null,null,null,null,null,null,null,null,null,null,null,null,null,null,null,null,null,null,null,{"$f":"VALUE(MID(F10,8,2))","v":12}]
[null,null,{"$f":"Setup!D11&\" \"&Setup!F11","v":"Địa chỉ: Tầng 6, Tòa nhà Sannam, Duy Tân, Cầu Giấy, Hà Nội"},null,null,"BẢNG CHẤM CÔNG"]
[null,null,null,null,null,{"$f":"\"Tháng 12 năm \"&year","v":"Tháng 12 năm 2021"}]
[null,null,null,null,null,null,{"$f":"F13+1","v":"2021-12-02"},{"$f":"G11+1","v":"2021-12-03"},{"$f":"H11+1","v":"2021-12-04"},"2021-12-05","2021-12-06","2021-12-07","2021-12-08","2021-12-09","2021-12-10","2021-12-11","2021-12-12","2021-12-13","2021-12-14","2021-12-15","2021-12-16","2021-12-17","2021-12-18","2021-12-19","2021-12-20","2021-12-21","2021-12-22","2021-12-23","2021-12-24","2021-12-25","2021-12-26","2021-12-27","2021-12-28","2021-12-29","2021-12-30","2021-12-31"]
[null,null,"SỐ TT","HỌ VÀ TÊN","CHỨC VỤ","NGÀY TRONG THÁNG/ THỨ TRONG TUẦN",null,null,null,null,null,null,null,null,null,null,null,null,null,null,null,null,null,null,null,null,null,null,null,null,null,null,null,null,null,null,"TỔNG",null,null,null,null,null,"GHI CHÚ"]
[null,null,null,null,null,{"$f":"DATE(year,m.dec,1)","v":"2021-12-01"},{"$f":"IF(MONTH(G11)>m.dec,\"\",G11)","v":"2021-12-02"},"2021-12-03","2021-12-04","2021-12-05","2021-12-06","2021-12-07","2021-12-08","2021-12-09","2021-12-10","2021-12-11","2021-12-12","2021-12-13","2021-12-14","2021-12-15","2021-12-16","2021-12-17","2021-12-18","2021-12-19","2021-12-20","2021-12-21","2021-12-22","2021-12-23","2021-12-24","2021-12-25","2021-12-26","2021-12-27","2021-12-28","2021-12-29","2021-12-30","2021-12-31",{"$f":"macong1","v":"x"},{"$f":"macong2","v":"x2"},{"$f":"macong3","v":"NC"},{"$f":"macong4","v":"NO"},{"$f":"macong5","v":"00:00:00"},"Tổng"]
[null,null,null,null,null,{"$f":"IF(F13=\"\",\"\",CHOOSE(WEEKDAY(F13),\"C.Nhật\",\"T.Hai\",\"T.Ba\",\"T.Tư\",\"T.Năm\",\"T.Sáu\",\"T.Bảy\"))","v":"T.Tư"},{"$f":"IF(G13=\"\",\"\",CHOOSE(WEEKDAY(G13),\"C.Nhật\",\"T.Hai\",\"T.Ba\",\"T.Tư\",\"T.Năm\",\"T.Sáu\",\"T.Bảy\"))","v":"T.Năm"},"T.Sáu","T.Bảy","C.Nhật","T.Hai","T.Ba","T.Tư","T.Năm","T.Sáu","T.Bảy","C.Nhật","T.Hai","T.Ba","T.Tư","T.Năm","T.Sáu","T.Bảy","C.Nhật","T.Hai","T.Ba","T.Tư","T.Năm","T.Sáu","T.Bảy","C.Nhật","T.Hai","T.Ba",{"$f":"IF(AH13=\"\",\"\",CHOOSE(WEEKDAY(AH13),\"C.Nhật\",\"T.Hai\",\"T.Ba\",\"T.Tư\",\"T.Năm\",\"T.Sáu\",\"T.Bảy\"))","v":"T.Tư"},{"$f":"IF(AI13=\"\",\"\",CHOOSE(WEEKDAY(AI13),\"C.Nhật\",\"T.Hai\",\"T.Ba\",\"T.Tư\",\"T.Năm\",\"T.Sáu\",\"T.Bảy\"))","v":"T.Năm"},"T.Sáu"]
[null,null,{"$f":"SUBTOTAL(3,$D$15:D15)","v":1},{"$f":"'Danh muc nhan vien'!E12","v":"Trần Văn Tám"},{"$f":"IFERROR(VLOOKUP(D15,'Danh muc nhan vien'!$E$12:$BY$42,2,0),\"\")","v":"Giám Đốc"},null,null,null,null,null,null,null,null,null,null,null,null,null,null,null,null,null,null,null,null,null,null,null,null,null,null,null,null,null,null,null,{"$f":"COUNTIF($F15:$AJ15,AK$13)","v":0},{"$f":"COUNTIF($F15:$AJ15,AL$13)","v":0},0,0,0,{"$f":"AK15*1+AL15*0.5+AM15*1","v":0},{"$f":"IF(E15=\"\",\"\",IF(OR(VLOOKUP(D15,DSNV,5,0)<1,VLOOKUP(D15,DSNV,5,0)>eomonth12),\"\",\"Đã nghỉ\"))","v":""},null,null,null,null,null,null,null,null,null,null,{"$f":"IF(AND(VLOOKUP(D15,DSNV,5,0)>1,$F$13>VLOOKUP(D15,DSNV,5,0)),\"\",IF(SUM(AK15:AP15)<$E$6,\"x\",\"\"))","v":"x"}]
[null,null,{"$f":"SUBTOTAL(3,$D$15:D16)","v":2},{"$f":"'Danh muc nhan vien'!E13","v":"Đặng Văn Thành"},{"$f":"IFERROR(VLOOKUP(D16,'Danh muc nhan vien'!$E$12:$BY$42,2,0),\"\")","v":"Phó GĐ"},null,null,null,null,null,null,null,null,null,null,null,null,null,null,null,null,null,null,null,null,null,null,null,null,null,null,null,null,null,null,null,{"$f":"COUNTIF($F16:$AJ16,AK$13)","v":0},0,0,0,0,{"$f":"AK16*1+AL16*0.5+AM16*1","v":0},"",null,null,null,null,null,null,null,null,null,null,"x"]
[null,null,{"$f":"SUBTOTAL(3,$D$15:D17)","v":3},{"$f":"'Danh muc nhan vien'!E14","v":"Đặng Thành Tâm"},{"$f":"IFERROR(VLOOKUP(D17,'Danh muc nhan vien'!$E$12:$BY$42,2,0),\"\")","v":"KTT"},null,null,null,null,null,null,null,null,null,null,null,null,null,null,null,null,null,null,null,null,null,null,null,null,null,null,null,null,null,null,null,0,0,0,0,0,0,"",null,null,null,null,null,null,null,null,null,null,"x"]
[null,null,{"$f":"SUBTOTAL(3,$D$15:D18)","v":4},{"$f":"'Danh muc nhan vien'!E15","v":"Đoàn Văn Cường"},{"$f":"IFERROR(VLOOKUP(D18,'Danh muc nhan vien'!$E$12:$BY$42,2,0),\"\")","v":"TP Kinh Doanh"},null,null,null,null,null,null,null,null,null,null,null,null,null,null,null,null,null,null,null,null,null,null,null,null,null,null,null,null,null,null,null,0,0,0,0,0,0,"",null,null,null,null,null,null,null,null,null,null,"x"]
[null,null,{"$f":"SUBTOTAL(3,$D$15:D19)","v":5},{"$f":"'Danh muc nhan vien'!E16","v":"Hồ Phương Lanh"},{"$f":"IFERROR(VLOOKUP(D19,'Danh muc nhan vien'!$E$12:$BY$42,2,0),\"\")","v":"KT Tổng hợp"},null,null,null,null,null,null,null,null,null,null,null,null,null,null,null,null,null,null,null,null,null,null,null,null,null,null,null,null,null,null,null,0,0,0,0,0,0,"",null,null,null,null,null,null,null,null,null,null,"x"]
[null,null,{"$f":"SUBTOTAL(3,$D$15:D20)","v":6},{"$f":"'Danh muc nhan vien'!E17","v":"Huỳnh Tùng Lâm"},{"$f":"IFERROR(VLOOKUP(D20,'Danh muc nhan vien'!$E$12:$BY$42,2,0),\"\")","v":"KT Viên"},null,null,null,null,null,null,null,null,null,null,null,null,null,null,null,null,null,null,null,null,null,null,null,null,null,null,null,null,null,null,null,0,0,0,0,0,0,"Đã nghỉ",null,null,null,null,null,null,null,null,null,null,""]
[null,null,{"$f":"SUBTOTAL(3,$D$15:D21)","v":7},{"$f":"'Danh muc nhan vien'!E18","v":"Lê Đại Tài"},{"$f":"IFERROR(VLOOKUP(D21,'Danh muc nhan vien'!$E$12:$BY$42,2,0),\"\")","v":"KT Viên"},null,null,null,null,null,null,null,null,null,null,null,null,null,null,null,null,null,null,null,null,null,null,null,null,null,null,null,null,null,null,null,0,0,0,0,0,0,"",null,null,null,null,null,null,null,null,null,null,"x"]
[null,null,{"$f":"SUBTOTAL(3,$D$15:D22)","v":8},{"$f":"'Danh muc nhan vien'!E19","v":"Lâm Thị Cành"},{"$f":"IFERROR(VLOOKUP(D22,'Danh muc nhan vien'!$E$12:$BY$42,2,0),\"\")","v":"Nhân sự"},null,null,null,null,null,null,null,null,null,null,null,null,null,null,null,null,null,null,null,null,null,null,null,null,null,null,null,null,null,null,null,0,0,0,0,0,0,"",null,null,null,null,null,null,null,null,null,null,"x"]
[null,null,{"$f":"SUBTOTAL(3,$D$15:D23)","v":9},{"$f":"'Danh muc nhan vien'!E20","v":"Lê Đức Chinh"},{"$f":"IFERROR(VLOOKUP(D23,'Danh muc nhan vien'!$E$12:$BY$42,2,0),\"\")","v":"Hành chính"},null,null,null,null,null,null,null,null,null,null,null,null,null,null,null,null,null,null,null,null,null,null,null,null,null,null,null,null,null,null,null,0,0,0,0,0,0,"Đã nghỉ",null,null,null,null,null,null,null,null,null,null,""]
[null,null,{"$f":"SUBTOTAL(3,$D$15:D24)","v":10},{"$f":"'Danh muc nhan vien'!E21","v":"Lê Văn Liêm"},{"$f":"IFERROR(VLOOKUP(D24,'Danh muc nhan vien'!$E$12:$BY$42,2,0),\"\")","v":"Marketing"},null,null,null,null,null,null,null,null,null,null,null,null,null,null,null,null,null,null,null,null,null,null,null,null,null,null,null,null,null,null,null,0,0,0,0,0,0,"",null,null,null,null,null,null,null,null,null,null,"x"]
[null,null,{"$f":"SUBTOTAL(3,$D$15:D25)","v":11},{"$f":"'Danh muc nhan vien'!E22","v":"Nguyễn Chí Thanh"},{"$f":"IFERROR(VLOOKUP(D25,'Danh muc nhan vien'!$E$12:$BY$42,2,0),\"\")","v":"NV Kinh Doanh"},null,null,null,null,null,null,null,null,null,null,null,null,null,null,null,null,null,null,null,null,null,null,null,null,null,null,null,null,null,null,null,0,0,0,0,0,0,"",null,null,null,null,null,null,null,null,null,null,"x"]
[null,null,{"$f":"SUBTOTAL(3,$D$15:D26)","v":12},{"$f":"'Danh muc nhan vien'!E23","v":"Nguyễn Hoàng Tính"},{"$f":"IFERROR(VLOOKUP(D26,'Danh muc nhan vien'!$E$12:$BY$42,2,0),\"\")","v":"NV Kinh Doanh"},null,null,null,null,null,null,null,null,null,null,null,null,null,null,null,null,null,null,null,null,null,null,null,null,null,null,null,null,null,null,null,0,0,0,0,0,0,"Đã nghỉ",null,null,null,null,null,null,null,null,null,null,""]
[null,null,{"$f":"SUBTOTAL(3,$D$15:D27)","v":13},{"$f":"'Danh muc nhan vien'!E24","v":"Nguyễn Văn Hân"},{"$f":"IFERROR(VLOOKUP(D27,'Danh muc nhan vien'!$E$12:$BY$42,2,0),\"\")","v":"NV Kinh Doanh"},null,null,null,null,null,null,null,null,null,null,null,null,null,null,null,null,null,null,null,null,null,null,null,null,null,null,null,null,null,null,null,0,0,0,0,0,0,"",null,null,null,null,null,null,null,null,null,null,"x"]
[null,null,{"$f":"SUBTOTAL(3,$D$15:D28)","v":14},{"$f":"'Danh muc nhan vien'!E25","v":"Phạm Hoài An"},{"$f":"IFERROR(VLOOKUP(D28,'Danh muc nhan vien'!$E$12:$BY$42,2,0),\"\")","v":"NV Kinh Doanh"},null,null,null,null,null,null,null,null,null,null,null,null,null,null,null,null,null,null,null,null,null,null,null,null,null,null,null,null,null,null,null,0,0,0,0,0,0,"",null,null,null,null,null,null,null,null,null,null,"x"]
[null,null,{"$f":"SUBTOTAL(3,$D$15:D29)","v":15},{"$f":"'Danh muc nhan vien'!E26","v":0},{"$f":"IFERROR(VLOOKUP(D29,'Danh muc nhan vien'!$E$12:$BY$42,2,0),\"\")","v":""},null,null,null,null,null,null,null,null,null,null,null,null,null,null,null,null,null,null,null,null,null,null,null,null,null,null,null,null,null,null,null,0,0,0,0,0,0,"",null,null,null,null,null,null,null,null,null,null,{"$error":"#N/A"}]
[null,null,{"$f":"SUBTOTAL(3,$D$15:D30)","v":16},{"$f":"'Danh muc nhan vien'!E27","v":0},{"$f":"IFERROR(VLOOKUP(D30,'Danh muc nhan vien'!$E$12:$BY$42,2,0),\"\")","v":""},null,null,null,null,null,null,null,null,null,null,null,null,null,null,null,null,null,null,null,null,null,null,null,null,null,null,null,null,null,null,null,0,0,0,0,0,0,"",null,null,null,null,null,null,null,null,null,null,{"$error":"#N/A"}]
[null,null,{"$f":"SUBTOTAL(3,$D$15:D31)","v":17},{"$f":"'Danh muc nhan vien'!E28","v":0},{"$f":"IFERROR(VLOOKUP(D31,'Danh muc nhan vien'!$E$12:$BY$42,2,0),\"\")","v":""},null,null,null,null,null,null,null,null,null,null,null,null,null,null,null,null,null,null,null,null,null,null,null,null,null,null,null,null,null,null,null,0,0,0,0,0,0,"",null,null,null,null,null,null,null,null,null,null,{"$error":"#N/A"}]
[null,null,{"$f":"SUBTOTAL(3,$D$15:D32)","v":18},{"$f":"'Danh muc nhan vien'!E29","v":0},{"$f":"IFERROR(VLOOKUP(D32,'Danh muc nhan vien'!$E$12:$BY$42,2,0),\"\")","v":""},null,null,null,null,null,null,null,null,null,null,null,null,null,null,null,null,null,null,null,null,null,null,null,null,null,null,null,null,null,null,null,{"$f":"COUNTIF($F32:$AJ32,AK$13)","v":0},0,0,0,0,0,"",null,null,null,null,null,null,null,null,null,null,{"$error":"#N/A"}]
[null,null,{"$f":"SUBTOTAL(3,$D$15:D33)","v":19},{"$f":"'Danh muc nhan vien'!E30","v":0},{"$f":"IFERROR(VLOOKUP(D33,'Danh muc nhan vien'!$E$12:$BY$42,2,0),\"\")","v":""},null,null,null,null,null,null,null,null,null,null,null,null,null,null,null,null,null,null,null,null,null,null,null,null,null,null,null,null,null,null,null,0,0,0,0,0,0,"",null,null,null,null,null,null,null,null,null,null,{"$error":"#N/A"}]
[null,null,{"$f":"SUBTOTAL(3,$D$15:D34)","v":20},{"$f":"'Danh muc nhan vien'!E31","v":0},{"$f":"IFERROR(VLOOKUP(D34,'Danh muc nhan vien'!$E$12:$BY$42,2,0),\"\")","v":""},null,null,null,null,null,null,null,null,null,null,null,null,null,null,null,null,null,null,null,null,null,null,null,null,null,null,null,null,null,null,null,0,0,0,0,0,0,"",null,null,null,null,null,null,null,null,null,null,{"$error":"#N/A"}]
[null,null,{"$f":"SUBTOTAL(3,$D$15:D35)","v":21},{"$f":"'Danh muc nhan vien'!E32","v":0},{"$f":"IFERROR(VLOOKUP(D35,'Danh muc nhan vien'!$E$12:$BY$42,2,0),\"\")","v":""},null,null,null,null,null,null,null,null,null,null,null,null,null,null,null,null,null,null,null,null,null,null,null,null,null,null,null,null,null,null,null,0,0,0,0,0,0,"",null,null,null,null,null,null,null,null,null,null,{"$error":"#N/A"}]
[null,null,{"$f":"SUBTOTAL(3,$D$15:D36)","v":22},{"$f":"'Danh muc nhan vien'!E33","v":0},{"$f":"IFERROR(VLOOKUP(D36,'Danh muc nhan vien'!$E$12:$BY$42,2,0),\"\")","v":""},null,null,null,null,null,null,null,null,null,null,null,null,null,null,null,null,null,null,null,null,null,null,null,null,null,null,null,null,null,null,null,0,0,0,0,0,0,"",null,null,null,null,null,null,null,null,null,null,{"$error":"#N/A"}]
[null,null,{"$f":"SUBTOTAL(3,$D$15:D37)","v":23},{"$f":"'Danh muc nhan vien'!E34","v":0},{"$f":"IFERROR(VLOOKUP(D37,'Danh muc nhan vien'!$E$12:$BY$42,2,0),\"\")","v":""},null,null,null,null,null,null,null,null,null,null,null,null,null,null,null,null,null,null,null,null,null,null,null,null,null,null,null,null,null,null,null,0,0,0,0,0,0,"",null,null,null,null,null,null,null,null,null,null,{"$error":"#N/A"}]
[null,null,{"$f":"SUBTOTAL(3,$D$15:D38)","v":24},{"$f":"'Danh muc nhan vien'!E35","v":0},{"$f":"IFERROR(VLOOKUP(D38,'Danh muc nhan vien'!$E$12:$BY$42,2,0),\"\")","v":""},null,null,null,null,null,null,null,null,null,null,null,null,null,null,null,null,null,null,null,null,null,null,null,null,null,null,null,null,null,null,null,0,0,0,0,0,0,"",null,null,null,null,null,null,null,null,null,null,{"$error":"#N/A"}]
[null,null,{"$f":"SUBTOTAL(3,$D$15:D39)","v":25},{"$f":"'Danh muc nhan vien'!E36","v":0},{"$f":"IFERROR(VLOOKUP(D39,'Danh muc nhan vien'!$E$12:$BY$42,2,0),\"\")","v":""},null,null,null,null,null,null,null,null,null,null,null,null,null,null,null,null,null,null,null,null,null,null,null,null,null,null,null,null,null,null,null,0,0,0,0,0,0,"",null,null,null,null,null,null,null,null,null,null,{"$error":"#N/A"}]
[null,null,{"$f":"SUBTOTAL(3,$D$15:D40)","v":26},{"$f":"'Danh muc nhan vien'!E37","v":0},{"$f":"IFERROR(VLOOKUP(D40,'Danh muc nhan vien'!$E$12:$BY$42,2,0),\"\")","v":""},null,null,null,null,null,null,null,null,null,null,null,null,null,null,null,null,null,null,null,null,null,null,null,null,null,null,null,null,null,null,null,0,0,0,0,0,0,"",null,null,null,null,null,null,null,null,null,null,{"$error":"#N/A"}]
[null,null,{"$f":"SUBTOTAL(3,$D$15:D41)","v":27},{"$f":"'Danh muc nhan vien'!E38","v":0},{"$f":"IFERROR(VLOOKUP(D41,'Danh muc nhan vien'!$E$12:$BY$42,2,0),\"\")","v":""},null,null,null,null,null,null,null,null,null,null,null,null,null,null,null,null,null,null,null,null,null,null,null,null,null,null,null,null,null,null,null,0,0,0,0,0,0,"",null,null,null,null,null,null,null,null,null,null,{"$error":"#N/A"}]
[null,null,{"$f":"SUBTOTAL(3,$D$15:D42)","v":28},{"$f":"'Danh muc nhan vien'!E39","v":0},{"$f":"IFERROR(VLOOKUP(D42,'Danh muc nhan vien'!$E$12:$BY$42,2,0),\"\")","v":""},null,null,null,null,null,null,null,null,null,null,null,null,null,null,null,null,null,null,null,null,null,null,null,null,null,null,null,null,null,null,null,0,0,0,0,0,0,"",null,null,null,null,null,null,null,null,null,null,{"$error":"#N/A"}]
[null,null,{"$f":"SUBTOTAL(3,$D$15:D43)","v":29},{"$f":"'Danh muc nhan vien'!E40","v":0},{"$f":"IFERROR(VLOOKUP(D43,'Danh muc nhan vien'!$E$12:$BY$42,2,0),\"\")","v":""},null,null,null,null,null,null,null,null,null,null,null,null,null,null,null,null,null,null,null,null,null,null,null,null,null,null,null,null,null,null,null,0,0,0,0,0,0,"",null,null,null,null,null,null,null,null,null,null,{"$error":"#N/A"}]
[null,null,{"$f":"SUBTOTAL(3,$D$15:D44)","v":30},{"$f":"'Danh muc nhan vien'!E41","v":0},{"$f":"IFERROR(VLOOKUP(D44,'Danh muc nhan vien'!$E$12:$BY$42,2,0),\"\")","v":""},null,null,null,null,null,null,null,null,null,null,null,null,null,null,null,null,null,null,null,null,null,null,null,null,null,null,null,null,null,null,null,0,0,0,0,0,0,"",null,null,null,null,null,null,null,null,null,null,{"$error":"#N/A"}]
[]
[null,null,".",".",".",".",".",".",".",".",".",".",".",".",".",".",".",".",".",".",".",".",".",".",".",".",".",".",".",".",".",".",".",".",".",".",".",".",".",".",".",".","."]
[]
[null,null,null,null,null,null,null,null,null,null,null,null,null,null,null,null,null,null,null,null,null,null,null,null,null,null,null,null,null,null,null,null,null,{"$f":"\"Ngày …….. Tháng …….. Năm \"&year","v":"Ngày …….. Tháng …….. Năm 2021"}]
[null,null,null,"NGƯỜI CHẤM CÔNG",null,null,null,null,null,null,null,null,null,null,null,null,null,null,null,"PHỤ TRÁCH BỘ PHẬN",null,null,null,null,null,null,null,null,null,null,null,null,null,"THỦ TRƯỞNG ĐƠN VỊ"]
[null,null,null,"(Ký tên)",null,null,null,null,null,null,null,null,null,null,null,null,null,null,null,"(Ký tên)",null,null,null,null,null,null,null,null,null,null,null,null,null,"(Ký tên)"]
[]
[]
[]
[]
[null,null,null,{"$f":"Chamcong","v":"Vũ Trình B"},null,null,null,null,null,null,null,null,null,null,null,null,null,null,null,{"$f":"phutrach","v":"Nguyễn Linh A"},null,null,null,null,null,null,null,null,null,null,null,null,null,{"$f":"Giamdoc","v":"Mr. Trường"}]

{"sheet":"About us","index":15,"n_rows":44,"n_cols":22,"rows_kept":44,"cut":false,"hidden":false,"merged":[[23,2,27,5],[8,20,8,24],[9,20,9,24],[10,20,10,24],[15,20,15,24],[11,20,11,24],[12,20,12,24],[13,20,13,24],[14,20,14,24],[13,2,15,5],[16,2,20,5],[21,2,22,5],[10,2,10,3],[16,9,17,29],[18,9,19,29]]}
[]
[]
[]
[]
["THÔNG TIN NHANH VỀ PM NHÂN SỰ 12 TH",null,null,null,null,null,null,null,"HƯỚNG DẪN SỬ DỤNG NHANH"]
[]
["Phiên bản",":","WPRO.VN_018_20210103"]
[null,null,null,null,null,null,null,null,null,"LẦN ĐẦU SỬ DỤNG PHẦN MỀM"]
["Tác giả",":","Mr. Trường",null,null,null,null,null,null,"- Vào phần cài đặt"]
[null,null,null,null,null,null,null,null,null,"+ Thông tin cơ bản của Doanh nghiệp",null,null,null,null,null,null,null,null,null,null,"=> Click để Cập nhật"]
["Cập nhật",":","2021-01-03",null,null,null,null,null,null,"+ Năm báo cáo",null,null,null,null,null,null,null,null,null,null,"=> Click để Cập nhật"]
[null,null,null,null,null,null,null,null,null,"+ Cập nhật Tổng số ngày công từng tháng (trừ nghỉ lễ)",null,null,null,null,null,null,null,null,null,null,"=> Click để Cập nhật"]
["Hỗ Trợ",":","Webkynang.vn@gmail.com",null,null,null,null,null,null,"+ Chọn ngày làm việc trong 1 tuần",null,null,null,null,null,null,null,null,null,null,"=> Click để Cập nhật"]
[null,":","Đây là phiên bản miễn phí dành cho doanh nghiệp nhỏ với số lượng nhân viên nhỏ hơn 30.",null,null,null,null,null,null,"+ Liệt kê danh sách ngày lễ",null,null,null,null,null,null,null,null,null,null,"=> Click để Cập nhật"]
[null,null,null,null,null,null,null,null,null,"+ Mã hóa loại ngày công",null,null,null,null,null,null,null,null,null,null,"=> Click để Cập nhật"]
[null,null,null,null,null,null,null,null,null,"- Cập nhật danh sách nhân viên",null,null,null,null,null,null,null,null,null,null,"=> Click để Cập nhật"]
[null,null,"Với phiên bản miễn phí, BQT không cam kết hỗ trợ xử lý các vấn đề phát sinh liên quan tới PM. Trong trường hợp doanh nghiệp của bạn có nhu cầu sử dụng bản FULL hãy liên hệ với webkynang.vn qua email.",null,null,null,null,null,null,"Danh mục nhân viên chưa rất nhiều thông tin liên quan đến nhân viên, có những thông tin được cập nhật chi tiết cho 12 tháng trong năm"]
[]
[null,null,null,null,null,null,null,null,null,"Ví dụ như lương cơ bản, trong trường hợp Nhân viên Nguyễn Thị Lan, tháng 1 ->3 đều có lương 5 triệu, bạn sẽ để 3 tháng này lương là 5 triệu, từ tháng 4 trở đi bạn cập nhật lương mới 6 triệu."]
[]
[null,null,null,null,null,null,null,null,null,"Lưu ý: Phần \"Lịch\" sẽ giúp bạn làm tốt phần tính tổng số ngày công từng tháng"]
["Bản quyền",":","Webkynang.vn công bố bản quyền với Phần mềm chấm công này."]
[null,null,null,null,null,null,null,null,null,"CHẤM CÔNG"]
[null,null,"Nghiêm cấm mọi hành vi phát tán, lợi dụng để kiếm lợi, sửa đổi hoặc bất kỳ hình thức nào mà chưa nhận được sự chấp thuận bằng văn bản từ Webkynang.vn",null,null,null,null,null,null,">> Click \"Chấm Công\""]
[null,null,null,null,null,null,null,null,null,">> Tick \"Tiến hành chấm công\""]
[null,null,null,null,null,null,null,null,null,">> Kiểm tra các mã chấm công đã có đủ trong phần \"Tổng\" hay chưa, nếu chưa thì cần bổ sung"]
[null,null,null,null,null,null,null,null,null,">> Tiến hành chấm công từng ngày bằng cách đánh các mã chấm công vào ngày và nhân viên tương ứng"]
[null,null,null,null,null,null,null,null,null,"Lưu ý: Cột \"Ghi chú\" hiện tại đang tìm kiếm ngày nghỉ việc của nhân viên đã nghỉ để tiện chấm công"]
[]
[null,null,null,null,null,null,null,null,null,null,"Click để bắt đầu chấm công"]
[]
[null,null,null,null,null,null,null,null,null,"TÍNH LƯƠNG"]
[null,null,null,null,null,null,null,null,null,"Bảng tính lương trong phần mềm này tự động đên 99%."]
[null,null,null,null,null,null,null,null,null,"Bạn chỉ cần chọn tháng để xem bảng tính lương của tháng đó."]
[null,null,null,null,null,null,null,null,null,"Lưu ý rằng, nếu trong tháng có người tạm ứng lương thì bạn cần chọn \"Tạm ứng\" để cập nhật dữ liệu."]
[]
[null,null,null,null,null,null,null,null,null,"Khi muốn in phiếu lương của từng nhân viên, bạn hãy chọn vào phần \"P.Luong\" để chuyển sang phần in phiếu"]
[]
[]
[]
[null,null,null,null,null,null,null,null,null,"XEM BÁO CÁO CHẤM CÔNG"]
[null,null,null,null,null,null,null,null,null,"Có 2 loại báo cáo:"]
[null,null,null,null,null,null,null,null,null,"- All",": Tổng hợp từng loại ngày công cho tất cả nhân viên",null,null,null,null,null,null,null,null,null,null,">> Chỉ cần chọn loại ngày công"]
[null,null,null,null,null,null,null,null,null,"- 1- ",": Tổng hợp ngày công chi tiết từng loại cho từng nhân viên",null,null,null,null,null,null,null,null,null,null,">> Chỉ cần chọn tên nhân viên"]

{"sheet":"Report","index":16,"n_rows":45,"n_cols":21,"rows_kept":45,"cut":false,"hidden":false,"merged":[[5,2,5,4],[8,6,9,16]]}
[]
[]
[]
[]
[]
[null,null,"Chọn loại ngày công",null,null,"x"]
[]
[null,null,{"$f":"Setup!F10","v":"Công ty TNHH Webkynang Việt Nam"}]
[null,null,{"$f":"Setup!F11","v":"Tầng 6, Tòa nhà Sannam, Duy Tân, Cầu Giấy, Hà Nội"},null,null,null,"BÁO CÁO TỔNG HỢP CHẤM CÔNG"]
[]
[]
[]
[null,null,"STT","MÃ NV","TÊN NV","CHỨC VỤ","BẮT ĐẦU","KẾT THÚC","T1","T2","T3","T4","T5","T6","T7","T8","T9","T10","T11","T12","NOTE"]
[null,null,{"$f":"'Danh muc nhan vien'!C12","v":1},{"$f":"'Danh muc nhan vien'!D12","v":"QL001"},{"$f":"'Danh muc nhan vien'!E12","v":"Trần Văn Tám"},{"$f":"'Danh muc nhan vien'!F12","v":"Giám Đốc"},{"$f":"IF('Danh muc nhan vien'!H12=\"\",\"\",'Danh muc nhan vien'!H12)","v":"2014-03-14"},{"$f":"IF('Danh muc nhan vien'!I12=\"\",\"\",'Danh muc nhan vien'!I12)","v":""},{"$f":"IF($G14=\"\",\"\",VLOOKUP($E14,'T1'!$D$15:$AQ$44,MATCH($F$6,'T1'!$D$13:$AR$13,0),0))","v":2},{"$f":"IF($G14=\"\",\"\",VLOOKUP($E14,'T2'!$D$15:$AQ$44,MATCH($F$6,'T2'!$D$13:$AR$13,0),0))","v":0},{"$f":"IF($G14=\"\",\"\",VLOOKUP($E14,'T3'!$D$15:$AQ$44,MATCH($F$6,'T3'!$D$13:$AR$13,0),0))","v":0},{"$f":"IF($G14=\"\",\"\",VLOOKUP($E14,'T4'!$D$15:$AQ$44,MATCH($F$6,'T4'!$D$13:$AR$13,0),0))","v":0},{"$f":"IF($G14=\"\",\"\",VLOOKUP($E14,'T5'!$D$15:$AQ$44,MATCH($F$6,'T5'!$D$13:$AR$13,0),0))","v":0},{"$f":"IF($G14=\"\",\"\",VLOOKUP($E14,'T6'!$D$15:$AQ$44,MATCH($F$6,'T6'!$D$13:$AR$13,0),0))","v":0},{"$f":"IF($G14=\"\",\"\",VLOOKUP($E14,'T7'!$D$15:$AQ$44,MATCH($F$6,'T7'!$D$13:$AR$13,0),0))","v":0},{"$f":"IF($G14=\"\",\"\",VLOOKUP($E14,'T8'!$D$15:$AQ$44,MATCH($F$6,'T8'!$D$13:$AR$13,0),0))","v":0},{"$f":"IF($G14=\"\",\"\",VLOOKUP($E14,'T9'!$D$15:$AQ$44,MATCH($F$6,'T9'!$D$13:$AR$13,0),0))","v":0},{"$f":"IF($G14=\"\",\"\",VLOOKUP($E14,'T10'!$D$15:$AQ$44,MATCH($F$6,'T10'!$D$13:$AR$13,0),0))","v":0},{"$f":"IF($G14=\"\",\"\",VLOOKUP($E14,'T11'!$D$15:$AQ$44,MATCH($F$6,'T11'!$D$13:$AR$13,0),0))","v":0},{"$f":"IF($G14=\"\",\"\",VLOOKUP($E14,'T12'!$D$15:$AQ$44,MATCH($F$6,'T12'!$D$13:$AR$13,0),0))","v":0}]
[null,null,{"$f":"'Danh muc nhan vien'!C13","v":2},{"$f":"'Danh muc nhan vien'!D13","v":"QL002"},{"$f":"'Danh muc nhan vien'!E13","v":"Đặng Văn Thành"},{"$f":"'Danh muc nhan vien'!F13","v":"Phó GĐ"},{"$f":"IF('Danh muc nhan vien'!H13=\"\",\"\",'Danh muc nhan vien'!H13)","v":"2014-03-15"},{"$f":"IF('Danh muc nhan vien'!I13=\"\",\"\",'Danh muc nhan vien'!I13)","v":""},{"$f":"IF($G15=\"\",\"\",VLOOKUP($E15,'T1'!$D$15:$AQ$44,MATCH($F$6,'T1'!$D$13:$AR$13,0),0))","v":0},{"$f":"IF($G15=\"\",\"\",VLOOKUP($E15,'T2'!$D$15:$AQ$44,MATCH($F$6,'T2'!$D$13:$AR$13,0),0))","v":0},{"$f":"IF($G15=\"\",\"\",VLOOKUP($E15,'T3'!$D$15:$AQ$44,MATCH($F$6,'T3'!$D$13:$AR$13,0),0))","v":0},{"$f":"IF($G15=\"\",\"\",VLOOKUP($E15,'T4'!$D$15:$AQ$44,MATCH($F$6,'T4'!$D$13:$AR$13,0),0))","v":0},{"$f":"IF($G15=\"\",\"\",VLOOKUP($E15,'T5'!$D$15:$AQ$44,MATCH($F$6,'T5'!$D$13:$AR$13,0),0))","v":0},{"$f":"IF($G15=\"\",\"\",VLOOKUP($E15,'T6'!$D$15:$AQ$44,MATCH($F$6,'T6'!$D$13:$AR$13,0),0))","v":0},{"$f":"IF($G15=\"\",\"\",VLOOKUP($E15,'T7'!$D$15:$AQ$44,MATCH($F$6,'T7'!$D$13:$AR$13,0),0))","v":0},{"$f":"IF($G15=\"\",\"\",VLOOKUP($E15,'T8'!$D$15:$AQ$44,MATCH($F$6,'T8'!$D$13:$AR$13,0),0))","v":0},{"$f":"IF($G15=\"\",\"\",VLOOKUP($E15,'T9'!$D$15:$AQ$44,MATCH($F$6,'T9'!$D$13:$AR$13,0),0))","v":0},{"$f":"IF($G15=\"\",\"\",VLOOKUP($E15,'T10'!$D$15:$AQ$44,MATCH($F$6,'T10'!$D$13:$AR$13,0),0))","v":0},{"$f":"IF($G15=\"\",\"\",VLOOKUP($E15,'T11'!$D$15:$AQ$44,MATCH($F$6,'T11'!$D$13:$AR$13,0),0))","v":0},{"$f":"IF($G15=\"\",\"\",VLOOKUP($E15,'T12'!$D$15:$AQ$44,MATCH($F$6,'T12'!$D$13:$AR$13,0),0))","v":0}]
[null,null,{"$f":"'Danh muc nhan vien'!C14","v":3},{"$f":"'Danh muc nhan vien'!D14","v":"QL003"},{"$f":"'Danh muc nhan vien'!E14","v":"Đặng Thành Tâm"},{"$f":"'Danh muc nhan vien'!F14","v":"KTT"},{"$f":"IF('Danh muc nhan vien'!H14=\"\",\"\",'Danh muc nhan vien'!H14)","v":"2014-03-15"},{"$f":"IF('Danh muc nhan vien'!I14=\"\",\"\",'Danh muc nhan vien'!I14)","v":""},{"$f":"IF($G16=\"\",\"\",VLOOKUP($E16,'T1'!$D$15:$AQ$44,MATCH($F$6,'T1'!$D$13:$AR$13,0),0))","v":0},{"$f":"IF($G16=\"\",\"\",VLOOKUP($E16,'T2'!$D$15:$AQ$44,MATCH($F$6,'T2'!$D$13:$AR$13,0),0))","v":0},{"$f":"IF($G16=\"\",\"\",VLOOKUP($E16,'T3'!$D$15:$AQ$44,MATCH($F$6,'T3'!$D$13:$AR$13,0),0))","v":0},{"$f":"IF($G16=\"\",\"\",VLOOKUP($E16,'T4'!$D$15:$AQ$44,MATCH($F$6,'T4'!$D$13:$AR$13,0),0))","v":0},{"$f":"IF($G16=\"\",\"\",VLOOKUP($E16,'T5'!$D$15:$AQ$44,MATCH($F$6,'T5'!$D$13:$AR$13,0),0))","v":0},{"$f":"IF($G16=\"\",\"\",VLOOKUP($E16,'T6'!$D$15:$AQ$44,MATCH($F$6,'T6'!$D$13:$AR$13,0),0))","v":0},{"$f":"IF($G16=\"\",\"\",VLOOKUP($E16,'T7'!$D$15:$AQ$44,MATCH($F$6,'T7'!$D$13:$AR$13,0),0))","v":0},{"$f":"IF($G16=\"\",\"\",VLOOKUP($E16,'T8'!$D$15:$AQ$44,MATCH($F$6,'T8'!$D$13:$AR$13,0),0))","v":0},{"$f":"IF($G16=\"\",\"\",VLOOKUP($E16,'T9'!$D$15:$AQ$44,MATCH($F$6,'T9'!$D$13:$AR$13,0),0))","v":0},{"$f":"IF($G16=\"\",\"\",VLOOKUP($E16,'T10'!$D$15:$AQ$44,MATCH($F$6,'T10'!$D$13:$AR$13,0),0))","v":0},{"$f":"IF($G16=\"\",\"\",VLOOKUP($E16,'T11'!$D$15:$AQ$44,MATCH($F$6,'T11'!$D$13:$AR$13,0),0))","v":0},{"$f":"IF($G16=\"\",\"\",VLOOKUP($E16,'T12'!$D$15:$AQ$44,MATCH($F$6,'T12'!$D$13:$AR$13,0),0))","v":0}]
[null,null,{"$f":"'Danh muc nhan vien'!C15","v":4},{"$f":"'Danh muc nhan vien'!D15","v":"QL004"},{"$f":"'Danh muc nhan vien'!E15","v":"Đoàn Văn Cường"},{"$f":"'Danh muc nhan vien'!F15","v":"TP Kinh Doanh"},{"$f":"IF('Danh muc nhan vien'!H15=\"\",\"\",'Danh muc nhan vien'!H15)","v":"2014-03-15"},{"$f":"IF('Danh muc nhan vien'!I15=\"\",\"\",'Danh muc nhan vien'!I15)","v":""},{"$f":"IF($G17=\"\",\"\",VLOOKUP($E17,'T1'!$D$15:$AQ$44,MATCH($F$6,'T1'!$D$13:$AR$13,0),0))","v":0},{"$f":"IF($G17=\"\",\"\",VLOOKUP($E17,'T2'!$D$15:$AQ$44,MATCH($F$6,'T2'!$D$13:$AR$13,0),0))","v":0},{"$f":"IF($G17=\"\",\"\",VLOOKUP($E17,'T3'!$D$15:$AQ$44,MATCH($F$6,'T3'!$D$13:$AR$13,0),0))","v":0},{"$f":"IF($G17=\"\",\"\",VLOOKUP($E17,'T4'!$D$15:$AQ$44,MATCH($F$6,'T4'!$D$13:$AR$13,0),0))","v":0},{"$f":"IF($G17=\"\",\"\",VLOOKUP($E17,'T5'!$D$15:$AQ$44,MATCH($F$6,'T5'!$D$13:$AR$13,0),0))","v":0},{"$f":"IF($G17=\"\",\"\",VLOOKUP($E17,'T6'!$D$15:$AQ$44,MATCH($F$6,'T6'!$D$13:$AR$13,0),0))","v":0},{"$f":"IF($G17=\"\",\"\",VLOOKUP($E17,'T7'!$D$15:$AQ$44,MATCH($F$6,'T7'!$D$13:$AR$13,0),0))","v":0},{"$f":"IF($G17=\"\",\"\",VLOOKUP($E17,'T8'!$D$15:$AQ$44,MATCH($F$6,'T8'!$D$13:$AR$13,0),0))","v":0},{"$f":"IF($G17=\"\",\"\",VLOOKUP($E17,'T9'!$D$15:$AQ$44,MATCH($F$6,'T9'!$D$13:$AR$13,0),0))","v":0},{"$f":"IF($G17=\"\",\"\",VLOOKUP($E17,'T10'!$D$15:$AQ$44,MATCH($F$6,'T10'!$D$13:$AR$13,0),0))","v":0},{"$f":"IF($G17=\"\",\"\",VLOOKUP($E17,'T11'!$D$15:$AQ$44,MATCH($F$6,'T11'!$D$13:$AR$13,0),0))","v":0},{"$f":"IF($G17=\"\",\"\",VLOOKUP($E17,'T12'!$D$15:$AQ$44,MATCH($F$6,'T12'!$D$13:$AR$13,0),0))","v":0}]
[null,null,{"$f":"'Danh muc nhan vien'!C16","v":5},{"$f":"'Danh muc nhan vien'!D16","v":"VP001"},{"$f":"'Danh muc nhan vien'!E16","v":"Hồ Phương Lanh"},{"$f":"'Danh muc nhan vien'!F16","v":"KT Tổng hợp"},{"$f":"IF('Danh muc nhan vien'!H16=\"\",\"\",'Danh muc nhan vien'!H16)","v":"2014-05-10"},{"$f":"IF('Danh muc nhan vien'!I16=\"\",\"\",'Danh muc nhan vien'!I16)","v":""},{"$f":"IF($G18=\"\",\"\",VLOOKUP($E18,'T1'!$D$15:$AQ$44,MATCH($F$6,'T1'!$D$13:$AR$13,0),0))","v":0},{"$f":"IF($G18=\"\",\"\",VLOOKUP($E18,'T2'!$D$15:$AQ$44,MATCH($F$6,'T2'!$D$13:$AR$13,0),0))","v":0},{"$f":"IF($G18=\"\",\"\",VLOOKUP($E18,'T3'!$D$15:$AQ$44,MATCH($F$6,'T3'!$D$13:$AR$13,0),0))","v":0},{"$f":"IF($G18=\"\",\"\",VLOOKUP($E18,'T4'!$D$15:$AQ$44,MATCH($F$6,'T4'!$D$13:$AR$13,0),0))","v":0},{"$f":"IF($G18=\"\",\"\",VLOOKUP($E18,'T5'!$D$15:$AQ$44,MATCH($F$6,'T5'!$D$13:$AR$13,0),0))","v":0},{"$f":"IF($G18=\"\",\"\",VLOOKUP($E18,'T6'!$D$15:$AQ$44,MATCH($F$6,'T6'!$D$13:$AR$13,0),0))","v":0},{"$f":"IF($G18=\"\",\"\",VLOOKUP($E18,'T7'!$D$15:$AQ$44,MATCH($F$6,'T7'!$D$13:$AR$13,0),0))","v":0},{"$f":"IF($G18=\"\",\"\",VLOOKUP($E18,'T8'!$D$15:$AQ$44,MATCH($F$6,'T8'!$D$13:$AR$13,0),0))","v":0},{"$f":"IF($G18=\"\",\"\",VLOOKUP($E18,'T9'!$D$15:$AQ$44,MATCH($F$6,'T9'!$D$13:$AR$13,0),0))","v":0},{"$f":"IF($G18=\"\",\"\",VLOOKUP($E18,'T10'!$D$15:$AQ$44,MATCH($F$6,'T10'!$D$13:$AR$13,0),0))","v":0},{"$f":"IF($G18=\"\",\"\",VLOOKUP($E18,'T11'!$D$15:$AQ$44,MATCH($F$6,'T11'!$D$13:$AR$13,0),0))","v":0},{"$f":"IF($G18=\"\",\"\",VLOOKUP($E18,'T12'!$D$15:$AQ$44,MATCH($F$6,'T12'!$D$13:$AR$13,0),0))","v":0}]
[null,null,{"$f":"'Danh muc nhan vien'!C17","v":6},{"$f":"'Danh muc nhan vien'!D17","v":"VP002"},{"$f":"'Danh muc nhan vien'!E17","v":"Huỳnh Tùng Lâm"},{"$f":"'Danh muc nhan vien'!F17","v":"KT Viên"},{"$f":"IF('Danh muc nhan vien'!H17=\"\",\"\",'Danh muc nhan vien'!H17)","v":"2014-05-10"},{"$f":"IF('Danh muc nhan vien'!I17=\"\",\"\",'Danh muc nhan vien'!I17)","v":"2015-01-15"},{"$f":"IF($G19=\"\",\"\",VLOOKUP($E19,'T1'!$D$15:$AQ$44,MATCH($F$6,'T1'!$D$13:$AR$13,0),0))","v":0},{"$f":"IF($G19=\"\",\"\",VLOOKUP($E19,'T2'!$D$15:$AQ$44,MATCH($F$6,'T2'!$D$13:$AR$13,0),0))","v":0},{"$f":"IF($G19=\"\",\"\",VLOOKUP($E19,'T3'!$D$15:$AQ$44,MATCH($F$6,'T3'!$D$13:$AR$13,0),0))","v":0},{"$f":"IF($G19=\"\",\"\",VLOOKUP($E19,'T4'!$D$15:$AQ$44,MATCH($F$6,'T4'!$D$13:$AR$13,0),0))","v":0},{"$f":"IF($G19=\"\",\"\",VLOOKUP($E19,'T5'!$D$15:$AQ$44,MATCH($F$6,'T5'!$D$13:$AR$13,0),0))","v":0},{"$f":"IF($G19=\"\",\"\",VLOOKUP($E19,'T6'!$D$15:$AQ$44,MATCH($F$6,'T6'!$D$13:$AR$13,0),0))","v":0},{"$f":"IF($G19=\"\",\"\",VLOOKUP($E19,'T7'!$D$15:$AQ$44,MATCH($F$6,'T7'!$D$13:$AR$13,0),0))","v":0},{"$f":"IF($G19=\"\",\"\",VLOOKUP($E19,'T8'!$D$15:$AQ$44,MATCH($F$6,'T8'!$D$13:$AR$13,0),0))","v":0},{"$f":"IF($G19=\"\",\"\",VLOOKUP($E19,'T9'!$D$15:$AQ$44,MATCH($F$6,'T9'!$D$13:$AR$13,0),0))","v":0},{"$f":"IF($G19=\"\",\"\",VLOOKUP($E19,'T10'!$D$15:$AQ$44,MATCH($F$6,'T10'!$D$13:$AR$13,0),0))","v":0},{"$f":"IF($G19=\"\",\"\",VLOOKUP($E19,'T11'!$D$15:$AQ$44,MATCH($F$6,'T11'!$D$13:$AR$13,0),0))","v":0},{"$f":"IF($G19=\"\",\"\",VLOOKUP($E19,'T12'!$D$15:$AQ$44,MATCH($F$6,'T12'!$D$13:$AR$13,0),0))","v":0}]
[null,null,{"$f":"'Danh muc nhan vien'!C18","v":7},{"$f":"'Danh muc nhan vien'!D18","v":"VP003"},{"$f":"'Danh muc nhan vien'!E18","v":"Lê Đại Tài"},{"$f":"'Danh muc nhan vien'!F18","v":"KT Viên"},{"$f":"IF('Danh muc nhan vien'!H18=\"\",\"\",'Danh muc nhan vien'!H18)","v":"2014-05-10"},{"$f":"IF('Danh muc nhan vien'!I18=\"\",\"\",'Danh muc nhan vien'!I18)","v":""},{"$f":"IF($G20=\"\",\"\",VLOOKUP($E20,'T1'!$D$15:$AQ$44,MATCH($F$6,'T1'!$D$13:$AR$13,0),0))","v":0},{"$f":"IF($G20=\"\",\"\",VLOOKUP($E20,'T2'!$D$15:$AQ$44,MATCH($F$6,'T2'!$D$13:$AR$13,0),0))","v":0},{"$f":"IF($G20=\"\",\"\",VLOOKUP($E20,'T3'!$D$15:$AQ$44,MATCH($F$6,'T3'!$D$13:$AR$13,0),0))","v":0},{"$f":"IF($G20=\"\",\"\",VLOOKUP($E20,'T4'!$D$15:$AQ$44,MATCH($F$6,'T4'!$D$13:$AR$13,0),0))","v":0},{"$f":"IF($G20=\"\",\"\",VLOOKUP($E20,'T5'!$D$15:$AQ$44,MATCH($F$6,'T5'!$D$13:$AR$13,0),0))","v":0},{"$f":"IF($G20=\"\",\"\",VLOOKUP($E20,'T6'!$D$15:$AQ$44,MATCH($F$6,'T6'!$D$13:$AR$13,0),0))","v":0},{"$f":"IF($G20=\"\",\"\",VLOOKUP($E20,'T7'!$D$15:$AQ$44,MATCH($F$6,'T7'!$D$13:$AR$13,0),0))","v":0},{"$f":"IF($G20=\"\",\"\",VLOOKUP($E20,'T8'!$D$15:$AQ$44,MATCH($F$6,'T8'!$D$13:$AR$13,0),0))","v":0},{"$f":"IF($G20=\"\",\"\",VLOOKUP($E20,'T9'!$D$15:$AQ$44,MATCH($F$6,'T9'!$D$13:$AR$13,0),0))","v":0},{"$f":"IF($G20=\"\",\"\",VLOOKUP($E20,'T10'!$D$15:$AQ$44,MATCH($F$6,'T10'!$D$13:$AR$13,0),0))","v":0},{"$f":"IF($G20=\"\",\"\",VLOOKUP($E20,'T11'!$D$15:$AQ$44,MATCH($F$6,'T11'!$D$13:$AR$13,0),0))","v":0},{"$f":"IF($G20=\"\",\"\",VLOOKUP($E20,'T12'!$D$15:$AQ$44,MATCH($F$6,'T12'!$D$13:$AR$13,0),0))","v":0}]
[null,null,{"$f":"'Danh muc nhan vien'!C19","v":8},{"$f":"'Danh muc nhan vien'!D19","v":"VP004"},{"$f":"'Danh muc nhan vien'!E19","v":"Lâm Thị Cành"},{"$f":"'Danh muc nhan vien'!F19","v":"Nhân sự"},{"$f":"IF('Danh muc nhan vien'!H19=\"\",\"\",'Danh muc nhan vien'!H19)","v":"2014-09-22"},{"$f":"IF('Danh muc nhan vien'!I19=\"\",\"\",'Danh muc nhan vien'!I19)","v":""},{"$f":"IF($G21=\"\",\"\",VLOOKUP($E21,'T1'!$D$15:$AQ$44,MATCH($F$6,'T1'!$D$13:$AR$13,0),0))","v":0},{"$f":"IF($G21=\"\",\"\",VLOOKUP($E21,'T2'!$D$15:$AQ$44,MATCH($F$6,'T2'!$D$13:$AR$13,0),0))","v":0},{"$f":"IF($G21=\"\",\"\",VLOOKUP($E21,'T3'!$D$15:$AQ$44,MATCH($F$6,'T3'!$D$13:$AR$13,0),0))","v":0},{"$f":"IF($G21=\"\",\"\",VLOOKUP($E21,'T4'!$D$15:$AQ$44,MATCH($F$6,'T4'!$D$13:$AR$13,0),0))","v":0},{"$f":"IF($G21=\"\",\"\",VLOOKUP($E21,'T5'!$D$15:$AQ$44,MATCH($F$6,'T5'!$D$13:$AR$13,0),0))","v":0},{"$f":"IF($G21=\"\",\"\",VLOOKUP($E21,'T6'!$D$15:$AQ$44,MATCH($F$6,'T6'!$D$13:$AR$13,0),0))","v":0},{"$f":"IF($G21=\"\",\"\",VLOOKUP($E21,'T7'!$D$15:$AQ$44,MATCH($F$6,'T7'!$D$13:$AR$13,0),0))","v":0},{"$f":"IF($G21=\"\",\"\",VLOOKUP($E21,'T8'!$D$15:$AQ$44,MATCH($F$6,'T8'!$D$13:$AR$13,0),0))","v":0},{"$f":"IF($G21=\"\",\"\",VLOOKUP($E21,'T9'!$D$15:$AQ$44,MATCH($F$6,'T9'!$D$13:$AR$13,0),0))","v":0},{"$f":"IF($G21=\"\",\"\",VLOOKUP($E21,'T10'!$D$15:$AQ$44,MATCH($F$6,'T10'!$D$13:$AR$13,0),0))","v":0},{"$f":"IF($G21=\"\",\"\",VLOOKUP($E21,'T11'!$D$15:$AQ$44,MATCH($F$6,'T11'!$D$13:$AR$13,0),0))","v":0},{"$f":"IF($G21=\"\",\"\",VLOOKUP($E21,'T12'!$D$15:$AQ$44,MATCH($F$6,'T12'!$D$13:$AR$13,0),0))","v":0}]
[null,null,{"$f":"'Danh muc nhan vien'!C20","v":9},{"$f":"'Danh muc nhan vien'!D20","v":"VP005"},{"$f":"'Danh muc nhan vien'!E20","v":"Lê Đức Chinh"},{"$f":"'Danh muc nhan vien'!F20","v":"Hành chính"},{"$f":"IF('Danh muc nhan vien'!H20=\"\",\"\",'Danh muc nhan vien'!H20)","v":"2014-09-23"},{"$f":"IF('Danh muc nhan vien'!I20=\"\",\"\",'Danh muc nhan vien'!I20)","v":"2015-11-15"},{"$f":"IF($G22=\"\",\"\",VLOOKUP($E22,'T1'!$D$15:$AQ$44,MATCH($F$6,'T1'!$D$13:$AR$13,0),0))","v":0},{"$f":"IF($G22=\"\",\"\",VLOOKUP($E22,'T2'!$D$15:$AQ$44,MATCH($F$6,'T2'!$D$13:$AR$13,0),0))","v":0},{"$f":"IF($G22=\"\",\"\",VLOOKUP($E22,'T3'!$D$15:$AQ$44,MATCH($F$6,'T3'!$D$13:$AR$13,0),0))","v":0},{"$f":"IF($G22=\"\",\"\",VLOOKUP($E22,'T4'!$D$15:$AQ$44,MATCH($F$6,'T4'!$D$13:$AR$13,0),0))","v":0},{"$f":"IF($G22=\"\",\"\",VLOOKUP($E22,'T5'!$D$15:$AQ$44,MATCH($F$6,'T5'!$D$13:$AR$13,0),0))","v":0},{"$f":"IF($G22=\"\",\"\",VLOOKUP($E22,'T6'!$D$15:$AQ$44,MATCH($F$6,'T6'!$D$13:$AR$13,0),0))","v":0},{"$f":"IF($G22=\"\",\"\",VLOOKUP($E22,'T7'!$D$15:$AQ$44,MATCH($F$6,'T7'!$D$13:$AR$13,0),0))","v":0},{"$f":"IF($G22=\"\",\"\",VLOOKUP($E22,'T8'!$D$15:$AQ$44,MATCH($F$6,'T8'!$D$13:$AR$13,0),0))","v":0},{"$f":"IF($G22=\"\",\"\",VLOOKUP($E22,'T9'!$D$15:$AQ$44,MATCH($F$6,'T9'!$D$13:$AR$13,0),0))","v":0},{"$f":"IF($G22=\"\",\"\",VLOOKUP($E22,'T10'!$D$15:$AQ$44,MATCH($F$6,'T10'!$D$13:$AR$13,0),0))","v":0},{"$f":"IF($G22=\"\",\"\",VLOOKUP($E22,'T11'!$D$15:$AQ$44,MATCH($F$6,'T11'!$D$13:$AR$13,0),0))","v":0},{"$f":"IF($G22=\"\",\"\",VLOOKUP($E22,'T12'!$D$15:$AQ$44,MATCH($F$6,'T12'!$D$13:$AR$13,0),0))","v":0}]
[null,null,{"$f":"'Danh muc nhan vien'!C21","v":10},{"$f":"'Danh muc nhan vien'!D21","v":"VP006"},{"$f":"'Danh muc nhan vien'!E21","v":"Lê Văn Liêm"},{"$f":"'Danh muc nhan vien'!F21","v":"Marketing"},{"$f":"IF('Danh muc nhan vien'!H21=\"\",\"\",'Danh muc nhan vien'!H21)","v":"2014-09-24"},{"$f":"IF('Danh muc nhan vien'!I21=\"\",\"\",'Danh muc nhan vien'!I21)","v":""},{"$f":"IF($G23=\"\",\"\",VLOOKUP($E23,'T1'!$D$15:$AQ$44,MATCH($F$6,'T1'!$D$13:$AR$13,0),0))","v":0},{"$f":"IF($G23=\"\",\"\",VLOOKUP($E23,'T2'!$D$15:$AQ$44,MATCH($F$6,'T2'!$D$13:$AR$13,0),0))","v":0},{"$f":"IF($G23=\"\",\"\",VLOOKUP($E23,'T3'!$D$15:$AQ$44,MATCH($F$6,'T3'!$D$13:$AR$13,0),0))","v":0},{"$f":"IF($G23=\"\",\"\",VLOOKUP($E23,'T4'!$D$15:$AQ$44,MATCH($F$6,'T4'!$D$13:$AR$13,0),0))","v":0},{"$f":"IF($G23=\"\",\"\",VLOOKUP($E23,'T5'!$D$15:$AQ$44,MATCH($F$6,'T5'!$D$13:$AR$13,0),0))","v":0},{"$f":"IF($G23=\"\",\"\",VLOOKUP($E23,'T6'!$D$15:$AQ$44,MATCH($F$6,'T6'!$D$13:$AR$13,0),0))","v":0},{"$f":"IF($G23=\"\",\"\",VLOOKUP($E23,'T7'!$D$15:$AQ$44,MATCH($F$6,'T7'!$D$13:$AR$13,0),0))","v":0},{"$f":"IF($G23=\"\",\"\",VLOOKUP($E23,'T8'!$D$15:$AQ$44,MATCH($F$6,'T8'!$D$13:$AR$13,0),0))","v":0},{"$f":"IF($G23=\"\",\"\",VLOOKUP($E23,'T9'!$D$15:$AQ$44,MATCH($F$6,'T9'!$D$13:$AR$13,0),0))","v":0},{"$f":"IF($G23=\"\",\"\",VLOOKUP($E23,'T10'!$D$15:$AQ$44,MATCH($F$6,'T10'!$D$13:$AR$13,0),0))","v":0},{"$f":"IF($G23=\"\",\"\",VLOOKUP($E23,'T11'!$D$15:$AQ$44,MATCH($F$6,'T11'!$D$13:$AR$13,0),0))","v":0},{"$f":"IF($G23=\"\",\"\",VLOOKUP($E23,'T12'!$D$15:$AQ$44,MATCH($F$6,'T12'!$D$13:$AR$13,0),0))","v":0}]
[null,null,{"$f":"'Danh muc nhan vien'!C22","v":11},{"$f":"'Danh muc nhan vien'!D22","v":"KD001"},{"$f":"'Danh muc nhan vien'!E22","v":"Nguyễn Chí Thanh"},{"$f":"'Danh muc nhan vien'!F22","v":"NV Kinh Doanh"},{"$f":"IF('Danh muc nhan vien'!H22=\"\",\"\",'Danh muc nhan vien'!H22)","v":"2014-09-25"},{"$f":"IF('Danh muc nhan vien'!I22=\"\",\"\",'Danh muc nhan vien'!I22)","v":""},{"$f":"IF($G24=\"\",\"\",VLOOKUP($E24,'T1'!$D$15:$AQ$44,MATCH($F$6,'T1'!$D$13:$AR$13,0),0))","v":0},{"$f":"IF($G24=\"\",\"\",VLOOKUP($E24,'T2'!$D$15:$AQ$44,MATCH($F$6,'T2'!$D$13:$AR$13,0),0))","v":0},{"$f":"IF($G24=\"\",\"\",VLOOKUP($E24,'T3'!$D$15:$AQ$44,MATCH($F$6,'T3'!$D$13:$AR$13,0),0))","v":0},{"$f":"IF($G24=\"\",\"\",VLOOKUP($E24,'T4'!$D$15:$AQ$44,MATCH($F$6,'T4'!$D$13:$AR$13,0),0))","v":0},{"$f":"IF($G24=\"\",\"\",VLOOKUP($E24,'T5'!$D$15:$AQ$44,MATCH($F$6,'T5'!$D$13:$AR$13,0),0))","v":0},{"$f":"IF($G24=\"\",\"\",VLOOKUP($E24,'T6'!$D$15:$AQ$44,MATCH($F$6,'T6'!$D$13:$AR$13,0),0))","v":0},{"$f":"IF($G24=\"\",\"\",VLOOKUP($E24,'T7'!$D$15:$AQ$44,MATCH($F$6,'T7'!$D$13:$AR$13,0),0))","v":0},{"$f":"IF($G24=\"\",\"\",VLOOKUP($E24,'T8'!$D$15:$AQ$44,MATCH($F$6,'T8'!$D$13:$AR$13,0),0))","v":0},{"$f":"IF($G24=\"\",\"\",VLOOKUP($E24,'T9'!$D$15:$AQ$44,MATCH($F$6,'T9'!$D$13:$AR$13,0),0))","v":0},{"$f":"IF($G24=\"\",\"\",VLOOKUP($E24,'T10'!$D$15:$AQ$44,MATCH($F$6,'T10'!$D$13:$AR$13,0),0))","v":0},{"$f":"IF($G24=\"\",\"\",VLOOKUP($E24,'T11'!$D$15:$AQ$44,MATCH($F$6,'T11'!$D$13:$AR$13,0),0))","v":0},{"$f":"IF($G24=\"\",\"\",VLOOKUP($E24,'T12'!$D$15:$AQ$44,MATCH($F$6,'T12'!$D$13:$AR$13,0),0))","v":0}]
[null,null,{"$f":"'Danh muc nhan vien'!C23","v":12},{"$f":"'Danh muc nhan vien'!D23","v":"KD002"},{"$f":"'Danh muc nhan vien'!E23","v":"Nguyễn Hoàng Tính"},{"$f":"'Danh muc nhan vien'!F23","v":"NV Kinh Doanh"},{"$f":"IF('Danh muc nhan vien'!H23=\"\",\"\",'Danh muc nhan vien'!H23)","v":"2014-09-26"},{"$f":"IF('Danh muc nhan vien'!I23=\"\",\"\",'Danh muc nhan vien'!I23)","v":"2015-08-10"},{"$f":"IF($G25=\"\",\"\",VLOOKUP($E25,'T1'!$D$15:$AQ$44,MATCH($F$6,'T1'!$D$13:$AR$13,0),0))","v":0},{"$f":"IF($G25=\"\",\"\",VLOOKUP($E25,'T2'!$D$15:$AQ$44,MATCH($F$6,'T2'!$D$13:$AR$13,0),0))","v":0},{"$f":"IF($G25=\"\",\"\",VLOOKUP($E25,'T3'!$D$15:$AQ$44,MATCH($F$6,'T3'!$D$13:$AR$13,0),0))","v":0},{"$f":"IF($G25=\"\",\"\",VLOOKUP($E25,'T4'!$D$15:$AQ$44,MATCH($F$6,'T4'!$D$13:$AR$13,0),0))","v":0},{"$f":"IF($G25=\"\",\"\",VLOOKUP($E25,'T5'!$D$15:$AQ$44,MATCH($F$6,'T5'!$D$13:$AR$13,0),0))","v":0},{"$f":"IF($G25=\"\",\"\",VLOOKUP($E25,'T6'!$D$15:$AQ$44,MATCH($F$6,'T6'!$D$13:$AR$13,0),0))","v":0},{"$f":"IF($G25=\"\",\"\",VLOOKUP($E25,'T7'!$D$15:$AQ$44,MATCH($F$6,'T7'!$D$13:$AR$13,0),0))","v":0},{"$f":"IF($G25=\"\",\"\",VLOOKUP($E25,'T8'!$D$15:$AQ$44,MATCH($F$6,'T8'!$D$13:$AR$13,0),0))","v":0},{"$f":"IF($G25=\"\",\"\",VLOOKUP($E25,'T9'!$D$15:$AQ$44,MATCH($F$6,'T9'!$D$13:$AR$13,0),0))","v":0},{"$f":"IF($G25=\"\",\"\",VLOOKUP($E25,'T10'!$D$15:$AQ$44,MATCH($F$6,'T10'!$D$13:$AR$13,0),0))","v":0},{"$f":"IF($G25=\"\",\"\",VLOOKUP($E25,'T11'!$D$15:$AQ$44,MATCH($F$6,'T11'!$D$13:$AR$13,0),0))","v":0},{"$f":"IF($G25=\"\",\"\",VLOOKUP($E25,'T12'!$D$15:$AQ$44,MATCH($F$6,'T12'!$D$13:$AR$13,0),0))","v":0}]
[null,null,{"$f":"'Danh muc nhan vien'!C24","v":13},{"$f":"'Danh muc nhan vien'!D24","v":"KD003"},{"$f":"'Danh muc nhan vien'!E24","v":"Nguyễn Văn Hân"},{"$f":"'Danh muc nhan vien'!F24","v":"NV Kinh Doanh"},{"$f":"IF('Danh muc nhan vien'!H24=\"\",\"\",'Danh muc nhan vien'!H24)","v":"2014-09-27"},{"$f":"IF('Danh muc nhan vien'!I24=\"\",\"\",'Danh muc nhan vien'!I24)","v":""},{"$f":"IF($G26=\"\",\"\",VLOOKUP($E26,'T1'!$D$15:$AQ$44,MATCH($F$6,'T1'!$D$13:$AR$13,0),0))","v":0},{"$f":"IF($G26=\"\",\"\",VLOOKUP($E26,'T2'!$D$15:$AQ$44,MATCH($F$6,'T2'!$D$13:$AR$13,0),0))","v":0},{"$f":"IF($G26=\"\",\"\",VLOOKUP($E26,'T3'!$D$15:$AQ$44,MATCH($F$6,'T3'!$D$13:$AR$13,0),0))","v":0},{"$f":"IF($G26=\"\",\"\",VLOOKUP($E26,'T4'!$D$15:$AQ$44,MATCH($F$6,'T4'!$D$13:$AR$13,0),0))","v":0},{"$f":"IF($G26=\"\",\"\",VLOOKUP($E26,'T5'!$D$15:$AQ$44,MATCH($F$6,'T5'!$D$13:$AR$13,0),0))","v":0},{"$f":"IF($G26=\"\",\"\",VLOOKUP($E26,'T6'!$D$15:$AQ$44,MATCH($F$6,'T6'!$D$13:$AR$13,0),0))","v":0},{"$f":"IF($G26=\"\",\"\",VLOOKUP($E26,'T7'!$D$15:$AQ$44,MATCH($F$6,'T7'!$D$13:$AR$13,0),0))","v":0},{"$f":"IF($G26=\"\",\"\",VLOOKUP($E26,'T8'!$D$15:$AQ$44,MATCH($F$6,'T8'!$D$13:$AR$13,0),0))","v":0},{"$f":"IF($G26=\"\",\"\",VLOOKUP($E26,'T9'!$D$15:$AQ$44,MATCH($F$6,'T9'!$D$13:$AR$13,0),0))","v":0},{"$f":"IF($G26=\"\",\"\",VLOOKUP($E26,'T10'!$D$15:$AQ$44,MATCH($F$6,'T10'!$D$13:$AR$13,0),0))","v":0},{"$f":"IF($G26=\"\",\"\",VLOOKUP($E26,'T11'!$D$15:$AQ$44,MATCH($F$6,'T11'!$D$13:$AR$13,0),0))","v":0},{"$f":"IF($G26=\"\",\"\",VLOOKUP($E26,'T12'!$D$15:$AQ$44,MATCH($F$6,'T12'!$D$13:$AR$13,0),0))","v":0}]
[null,null,{"$f":"'Danh muc nhan vien'!C25","v":14},{"$f":"'Danh muc nhan vien'!D25","v":"KD004"},{"$f":"'Danh muc nhan vien'!E25","v":"Phạm Hoài An"},{"$f":"'Danh muc nhan vien'!F25","v":"NV Kinh Doanh"},{"$f":"IF('Danh muc nhan vien'!H25=\"\",\"\",'Danh muc nhan vien'!H25)","v":"2014-09-28"},{"$f":"IF('Danh muc nhan vien'!I25=\"\",\"\",'Danh muc nhan vien'!I25)","v":""},{"$f":"IF($G27=\"\",\"\",VLOOKUP($E27,'T1'!$D$15:$AQ$44,MATCH($F$6,'T1'!$D$13:$AR$13,0),0))","v":0},{"$f":"IF($G27=\"\",\"\",VLOOKUP($E27,'T2'!$D$15:$AQ$44,MATCH($F$6,'T2'!$D$13:$AR$13,0),0))","v":0},{"$f":"IF($G27=\"\",\"\",VLOOKUP($E27,'T3'!$D$15:$AQ$44,MATCH($F$6,'T3'!$D$13:$AR$13,0),0))","v":0},{"$f":"IF($G27=\"\",\"\",VLOOKUP($E27,'T4'!$D$15:$AQ$44,MATCH($F$6,'T4'!$D$13:$AR$13,0),0))","v":0},{"$f":"IF($G27=\"\",\"\",VLOOKUP($E27,'T5'!$D$15:$AQ$44,MATCH($F$6,'T5'!$D$13:$AR$13,0),0))","v":0},{"$f":"IF($G27=\"\",\"\",VLOOKUP($E27,'T6'!$D$15:$AQ$44,MATCH($F$6,'T6'!$D$13:$AR$13,0),0))","v":0},{"$f":"IF($G27=\"\",\"\",VLOOKUP($E27,'T7'!$D$15:$AQ$44,MATCH($F$6,'T7'!$D$13:$AR$13,0),0))","v":0},{"$f":"IF($G27=\"\",\"\",VLOOKUP($E27,'T8'!$D$15:$AQ$44,MATCH($F$6,'T8'!$D$13:$AR$13,0),0))","v":0},{"$f":"IF($G27=\"\",\"\",VLOOKUP($E27,'T9'!$D$15:$AQ$44,MATCH($F$6,'T9'!$D$13:$AR$13,0),0))","v":0},{"$f":"IF($G27=\"\",\"\",VLOOKUP($E27,'T10'!$D$15:$AQ$44,MATCH($F$6,'T10'!$D$13:$AR$13,0),0))","v":0},{"$f":"IF($G27=\"\",\"\",VLOOKUP($E27,'T11'!$D$15:$AQ$44,MATCH($F$6,'T11'!$D$13:$AR$13,0),0))","v":0},{"$f":"IF($G27=\"\",\"\",VLOOKUP($E27,'T12'!$D$15:$AQ$44,MATCH($F$6,'T12'!$D$13:$AR$13,0),0))","v":0}]
[null,null,{"$f":"'Danh muc nhan vien'!C26","v":15},{"$f":"'Danh muc nhan vien'!D26","v":0},{"$f":"'Danh muc nhan vien'!E26","v":0},{"$f":"'Danh muc nhan vien'!F26","v":0},{"$f":"IF('Danh muc nhan vien'!H26=\"\",\"\",'Danh muc nhan vien'!H26)","v":""},{"$f":"IF('Danh muc nhan vien'!I26=\"\",\"\",'Danh muc nhan vien'!I26)","v":""},{"$f":"IF($G28=\"\",\"\",VLOOKUP($E28,'T1'!$D$15:$AQ$44,MATCH($F$6,'T1'!$D$13:$AR$13,0),0))","v":""},{"$f":"IF($G28=\"\",\"\",VLOOKUP($E28,'T2'!$D$15:$AQ$44,MATCH($F$6,'T2'!$D$13:$AR$13,0),0))","v":""},{"$f":"IF($G28=\"\",\"\",VLOOKUP($E28,'T3'!$D$15:$AQ$44,MATCH($F$6,'T3'!$D$13:$AR$13,0),0))","v":""},{"$f":"IF($G28=\"\",\"\",VLOOKUP($E28,'T4'!$D$15:$AQ$44,MATCH($F$6,'T4'!$D$13:$AR$13,0),0))","v":""},{"$f":"IF($G28=\"\",\"\",VLOOKUP($E28,'T5'!$D$15:$AQ$44,MATCH($F$6,'T5'!$D$13:$AR$13,0),0))","v":""},{"$f":"IF($G28=\"\",\"\",VLOOKUP($E28,'T6'!$D$15:$AQ$44,MATCH($F$6,'T6'!$D$13:$AR$13,0),0))","v":""},{"$f":"IF($G28=\"\",\"\",VLOOKUP($E28,'T7'!$D$15:$AQ$44,MATCH($F$6,'T7'!$D$13:$AR$13,0),0))","v":""},{"$f":"IF($G28=\"\",\"\",VLOOKUP($E28,'T8'!$D$15:$AQ$44,MATCH($F$6,'T8'!$D$13:$AR$13,0),0))","v":""},{"$f":"IF($G28=\"\",\"\",VLOOKUP($E28,'T9'!$D$15:$AQ$44,MATCH($F$6,'T9'!$D$13:$AR$13,0),0))","v":""},{"$f":"IF($G28=\"\",\"\",VLOOKUP($E28,'T10'!$D$15:$AQ$44,MATCH($F$6,'T10'!$D$13:$AR$13,0),0))","v":""},{"$f":"IF($G28=\"\",\"\",VLOOKUP($E28,'T11'!$D$15:$AQ$44,MATCH($F$6,'T11'!$D$13:$AR$13,0),0))","v":""},{"$f":"IF($G28=\"\",\"\",VLOOKUP($E28,'T12'!$D$15:$AQ$44,MATCH($F$6,'T12'!$D$13:$AR$13,0),0))","v":""}]
[null,null,{"$f":"'Danh muc nhan vien'!C27","v":16},{"$f":"'Danh muc nhan vien'!D27","v":0},{"$f":"'Danh muc nhan vien'!E27","v":0},{"$f":"'Danh muc nhan vien'!F27","v":0},{"$f":"IF('Danh muc nhan vien'!H27=\"\",\"\",'Danh muc nhan vien'!H27)","v":""},{"$f":"IF('Danh muc nhan vien'!I27=\"\",\"\",'Danh muc nhan vien'!I27)","v":""},{"$f":"IF($G29=\"\",\"\",VLOOKUP($E29,'T1'!$D$15:$AQ$44,MATCH($F$6,'T1'!$D$13:$AR$13,0),0))","v":""},{"$f":"IF($G29=\"\",\"\",VLOOKUP($E29,'T2'!$D$15:$AQ$44,MATCH($F$6,'T2'!$D$13:$AR$13,0),0))","v":""},{"$f":"IF($G29=\"\",\"\",VLOOKUP($E29,'T3'!$D$15:$AQ$44,MATCH($F$6,'T3'!$D$13:$AR$13,0),0))","v":""},{"$f":"IF($G29=\"\",\"\",VLOOKUP($E29,'T4'!$D$15:$AQ$44,MATCH($F$6,'T4'!$D$13:$AR$13,0),0))","v":""},{"$f":"IF($G29=\"\",\"\",VLOOKUP($E29,'T5'!$D$15:$AQ$44,MATCH($F$6,'T5'!$D$13:$AR$13,0),0))","v":""},{"$f":"IF($G29=\"\",\"\",VLOOKUP($E29,'T6'!$D$15:$AQ$44,MATCH($F$6,'T6'!$D$13:$AR$13,0),0))","v":""},{"$f":"IF($G29=\"\",\"\",VLOOKUP($E29,'T7'!$D$15:$AQ$44,MATCH($F$6,'T7'!$D$13:$AR$13,0),0))","v":""},{"$f":"IF($G29=\"\",\"\",VLOOKUP($E29,'T8'!$D$15:$AQ$44,MATCH($F$6,'T8'!$D$13:$AR$13,0),0))","v":""},{"$f":"IF($G29=\"\",\"\",VLOOKUP($E29,'T9'!$D$15:$AQ$44,MATCH($F$6,'T9'!$D$13:$AR$13,0),0))","v":""},{"$f":"IF($G29=\"\",\"\",VLOOKUP($E29,'T10'!$D$15:$AQ$44,MATCH($F$6,'T10'!$D$13:$AR$13,0),0))","v":""},{"$f":"IF($G29=\"\",\"\",VLOOKUP($E29,'T11'!$D$15:$AQ$44,MATCH($F$6,'T11'!$D$13:$AR$13,0),0))","v":""},{"$f":"IF($G29=\"\",\"\",VLOOKUP($E29,'T12'!$D$15:$AQ$44,MATCH($F$6,'T12'!$D$13:$AR$13,0),0))","v":""}]
[null,null,{"$f":"'Danh muc nhan vien'!C28","v":17},{"$f":"'Danh muc nhan vien'!D28","v":0},{"$f":"'Danh muc nhan vien'!E28","v":0},{"$f":"'Danh muc nhan vien'!F28","v":0},{"$f":"IF('Danh muc nhan vien'!H28=\"\",\"\",'Danh muc nhan vien'!H28)","v":""},{"$f":"IF('Danh muc nhan vien'!I28=\"\",\"\",'Danh muc nhan vien'!I28)","v":""},{"$f":"IF($G30=\"\",\"\",VLOOKUP($E30,'T1'!$D$15:$AQ$44,MATCH($F$6,'T1'!$D$13:$AR$13,0),0))","v":""},{"$f":"IF($G30=\"\",\"\",VLOOKUP($E30,'T2'!$D$15:$AQ$44,MATCH($F$6,'T2'!$D$13:$AR$13,0),0))","v":""},{"$f":"IF($G30=\"\",\"\",VLOOKUP($E30,'T3'!$D$15:$AQ$44,MATCH($F$6,'T3'!$D$13:$AR$13,0),0))","v":""},{"$f":"IF($G30=\"\",\"\",VLOOKUP($E30,'T4'!$D$15:$AQ$44,MATCH($F$6,'T4'!$D$13:$AR$13,0),0))","v":""},{"$f":"IF($G30=\"\",\"\",VLOOKUP($E30,'T5'!$D$15:$AQ$44,MATCH($F$6,'T5'!$D$13:$AR$13,0),0))","v":""},{"$f":"IF($G30=\"\",\"\",VLOOKUP($E30,'T6'!$D$15:$AQ$44,MATCH($F$6,'T6'!$D$13:$AR$13,0),0))","v":""},{"$f":"IF($G30=\"\",\"\",VLOOKUP($E30,'T7'!$D$15:$AQ$44,MATCH($F$6,'T7'!$D$13:$AR$13,0),0))","v":""},{"$f":"IF($G30=\"\",\"\",VLOOKUP($E30,'T8'!$D$15:$AQ$44,MATCH($F$6,'T8'!$D$13:$AR$13,0),0))","v":""},{"$f":"IF($G30=\"\",\"\",VLOOKUP($E30,'T9'!$D$15:$AQ$44,MATCH($F$6,'T9'!$D$13:$AR$13,0),0))","v":""},{"$f":"IF($G30=\"\",\"\",VLOOKUP($E30,'T10'!$D$15:$AQ$44,MATCH($F$6,'T10'!$D$13:$AR$13,0),0))","v":""},{"$f":"IF($G30=\"\",\"\",VLOOKUP($E30,'T11'!$D$15:$AQ$44,MATCH($F$6,'T11'!$D$13:$AR$13,0),0))","v":""},{"$f":"IF($G30=\"\",\"\",VLOOKUP($E30,'T12'!$D$15:$AQ$44,MATCH($F$6,'T12'!$D$13:$AR$13,0),0))","v":""}]
[null,null,{"$f":"'Danh muc nhan vien'!C29","v":18},{"$f":"'Danh muc nhan vien'!D29","v":0},{"$f":"'Danh muc nhan vien'!E29","v":0},{"$f":"'Danh muc nhan vien'!F29","v":0},{"$f":"IF('Danh muc nhan vien'!H29=\"\",\"\",'Danh muc nhan vien'!H29)","v":""},{"$f":"IF('Danh muc nhan vien'!I29=\"\",\"\",'Danh muc nhan vien'!I29)","v":""},{"$f":"IF($G31=\"\",\"\",VLOOKUP($E31,'T1'!$D$15:$AQ$44,MATCH($F$6,'T1'!$D$13:$AR$13,0),0))","v":""},{"$f":"IF($G31=\"\",\"\",VLOOKUP($E31,'T2'!$D$15:$AQ$44,MATCH($F$6,'T2'!$D$13:$AR$13,0),0))","v":""},{"$f":"IF($G31=\"\",\"\",VLOOKUP($E31,'T3'!$D$15:$AQ$44,MATCH($F$6,'T3'!$D$13:$AR$13,0),0))","v":""},{"$f":"IF($G31=\"\",\"\",VLOOKUP($E31,'T4'!$D$15:$AQ$44,MATCH($F$6,'T4'!$D$13:$AR$13,0),0))","v":""},{"$f":"IF($G31=\"\",\"\",VLOOKUP($E31,'T5'!$D$15:$AQ$44,MATCH($F$6,'T5'!$D$13:$AR$13,0),0))","v":""},{"$f":"IF($G31=\"\",\"\",VLOOKUP($E31,'T6'!$D$15:$AQ$44,MATCH($F$6,'T6'!$D$13:$AR$13,0),0))","v":""},{"$f":"IF($G31=\"\",\"\",VLOOKUP($E31,'T7'!$D$15:$AQ$44,MATCH($F$6,'T7'!$D$13:$AR$13,0),0))","v":""},{"$f":"IF($G31=\"\",\"\",VLOOKUP($E31,'T8'!$D$15:$AQ$44,MATCH($F$6,'T8'!$D$13:$AR$13,0),0))","v":""},{"$f":"IF($G31=\"\",\"\",VLOOKUP($E31,'T9'!$D$15:$AQ$44,MATCH($F$6,'T9'!$D$13:$AR$13,0),0))","v":""},{"$f":"IF($G31=\"\",\"\",VLOOKUP($E31,'T10'!$D$15:$AQ$44,MATCH($F$6,'T10'!$D$13:$AR$13,0),0))","v":""},{"$f":"IF($G31=\"\",\"\",VLOOKUP($E31,'T11'!$D$15:$AQ$44,MATCH($F$6,'T11'!$D$13:$AR$13,0),0))","v":""},{"$f":"IF($G31=\"\",\"\",VLOOKUP($E31,'T12'!$D$15:$AQ$44,MATCH($F$6,'T12'!$D$13:$AR$13,0),0))","v":""}]
[null,null,{"$f":"'Danh muc nhan vien'!C30","v":19},{"$f":"'Danh muc nhan vien'!D30","v":0},{"$f":"'Danh muc nhan vien'!E30","v":0},{"$f":"'Danh muc nhan vien'!F30","v":0},{"$f":"IF('Danh muc nhan vien'!H30=\"\",\"\",'Danh muc nhan vien'!H30)","v":""},{"$f":"IF('Danh muc nhan vien'!I30=\"\",\"\",'Danh muc nhan vien'!I30)","v":""},{"$f":"IF($G32=\"\",\"\",VLOOKUP($E32,'T1'!$D$15:$AQ$44,MATCH($F$6,'T1'!$D$13:$AR$13,0),0))","v":""},{"$f":"IF($G32=\"\",\"\",VLOOKUP($E32,'T2'!$D$15:$AQ$44,MATCH($F$6,'T2'!$D$13:$AR$13,0),0))","v":""},{"$f":"IF($G32=\"\",\"\",VLOOKUP($E32,'T3'!$D$15:$AQ$44,MATCH($F$6,'T3'!$D$13:$AR$13,0),0))","v":""},{"$f":"IF($G32=\"\",\"\",VLOOKUP($E32,'T4'!$D$15:$AQ$44,MATCH($F$6,'T4'!$D$13:$AR$13,0),0))","v":""},{"$f":"IF($G32=\"\",\"\",VLOOKUP($E32,'T5'!$D$15:$AQ$44,MATCH($F$6,'T5'!$D$13:$AR$13,0),0))","v":""},{"$f":"IF($G32=\"\",\"\",VLOOKUP($E32,'T6'!$D$15:$AQ$44,MATCH($F$6,'T6'!$D$13:$AR$13,0),0))","v":""},{"$f":"IF($G32=\"\",\"\",VLOOKUP($E32,'T7'!$D$15:$AQ$44,MATCH($F$6,'T7'!$D$13:$AR$13,0),0))","v":""},{"$f":"IF($G32=\"\",\"\",VLOOKUP($E32,'T8'!$D$15:$AQ$44,MATCH($F$6,'T8'!$D$13:$AR$13,0),0))","v":""},{"$f":"IF($G32=\"\",\"\",VLOOKUP($E32,'T9'!$D$15:$AQ$44,MATCH($F$6,'T9'!$D$13:$AR$13,0),0))","v":""},{"$f":"IF($G32=\"\",\"\",VLOOKUP($E32,'T10'!$D$15:$AQ$44,MATCH($F$6,'T10'!$D$13:$AR$13,0),0))","v":""},{"$f":"IF($G32=\"\",\"\",VLOOKUP($E32,'T11'!$D$15:$AQ$44,MATCH($F$6,'T11'!$D$13:$AR$13,0),0))","v":""},{"$f":"IF($G32=\"\",\"\",VLOOKUP($E32,'T12'!$D$15:$AQ$44,MATCH($F$6,'T12'!$D$13:$AR$13,0),0))","v":""}]
[null,null,{"$f":"'Danh muc nhan vien'!C31","v":20},{"$f":"'Danh muc nhan vien'!D31","v":0},{"$f":"'Danh muc nhan vien'!E31","v":0},{"$f":"'Danh muc nhan vien'!F31","v":0},{"$f":"IF('Danh muc nhan vien'!H31=\"\",\"\",'Danh muc nhan vien'!H31)","v":""},{"$f":"IF('Danh muc nhan vien'!I31=\"\",\"\",'Danh muc nhan vien'!I31)","v":""},{"$f":"IF($G33=\"\",\"\",VLOOKUP($E33,'T1'!$D$15:$AQ$44,MATCH($F$6,'T1'!$D$13:$AR$13,0),0))","v":""},{"$f":"IF($G33=\"\",\"\",VLOOKUP($E33,'T2'!$D$15:$AQ$44,MATCH($F$6,'T2'!$D$13:$AR$13,0),0))","v":""},{"$f":"IF($G33=\"\",\"\",VLOOKUP($E33,'T3'!$D$15:$AQ$44,MATCH($F$6,'T3'!$D$13:$AR$13,0),0))","v":""},{"$f":"IF($G33=\"\",\"\",VLOOKUP($E33,'T4'!$D$15:$AQ$44,MATCH($F$6,'T4'!$D$13:$AR$13,0),0))","v":""},{"$f":"IF($G33=\"\",\"\",VLOOKUP($E33,'T5'!$D$15:$AQ$44,MATCH($F$6,'T5'!$D$13:$AR$13,0),0))","v":""},{"$f":"IF($G33=\"\",\"\",VLOOKUP($E33,'T6'!$D$15:$AQ$44,MATCH($F$6,'T6'!$D$13:$AR$13,0),0))","v":""},{"$f":"IF($G33=\"\",\"\",VLOOKUP($E33,'T7'!$D$15:$AQ$44,MATCH($F$6,'T7'!$D$13:$AR$13,0),0))","v":""},{"$f":"IF($G33=\"\",\"\",VLOOKUP($E33,'T8'!$D$15:$AQ$44,MATCH($F$6,'T8'!$D$13:$AR$13,0),0))","v":""},{"$f":"IF($G33=\"\",\"\",VLOOKUP($E33,'T9'!$D$15:$AQ$44,MATCH($F$6,'T9'!$D$13:$AR$13,0),0))","v":""},{"$f":"IF($G33=\"\",\"\",VLOOKUP($E33,'T10'!$D$15:$AQ$44,MATCH($F$6,'T10'!$D$13:$AR$13,0),0))","v":""},{"$f":"IF($G33=\"\",\"\",VLOOKUP($E33,'T11'!$D$15:$AQ$44,MATCH($F$6,'T11'!$D$13:$AR$13,0),0))","v":""},{"$f":"IF($G33=\"\",\"\",VLOOKUP($E33,'T12'!$D$15:$AQ$44,MATCH($F$6,'T12'!$D$13:$AR$13,0),0))","v":""}]
[null,null,{"$f":"'Danh muc nhan vien'!C32","v":21},{"$f":"'Danh muc nhan vien'!D32","v":0},{"$f":"'Danh muc nhan vien'!E32","v":0},{"$f":"'Danh muc nhan vien'!F32","v":0},{"$f":"IF('Danh muc nhan vien'!H32=\"\",\"\",'Danh muc nhan vien'!H32)","v":""},{"$f":"IF('Danh muc nhan vien'!I32=\"\",\"\",'Danh muc nhan vien'!I32)","v":""},{"$f":"IF($G34=\"\",\"\",VLOOKUP($E34,'T1'!$D$15:$AQ$44,MATCH($F$6,'T1'!$D$13:$AR$13,0),0))","v":""},{"$f":"IF($G34=\"\",\"\",VLOOKUP($E34,'T2'!$D$15:$AQ$44,MATCH($F$6,'T2'!$D$13:$AR$13,0),0))","v":""},{"$f":"IF($G34=\"\",\"\",VLOOKUP($E34,'T3'!$D$15:$AQ$44,MATCH($F$6,'T3'!$D$13:$AR$13,0),0))","v":""},{"$f":"IF($G34=\"\",\"\",VLOOKUP($E34,'T4'!$D$15:$AQ$44,MATCH($F$6,'T4'!$D$13:$AR$13,0),0))","v":""},{"$f":"IF($G34=\"\",\"\",VLOOKUP($E34,'T5'!$D$15:$AQ$44,MATCH($F$6,'T5'!$D$13:$AR$13,0),0))","v":""},{"$f":"IF($G34=\"\",\"\",VLOOKUP($E34,'T6'!$D$15:$AQ$44,MATCH($F$6,'T6'!$D$13:$AR$13,0),0))","v":""},{"$f":"IF($G34=\"\",\"\",VLOOKUP($E34,'T7'!$D$15:$AQ$44,MATCH($F$6,'T7'!$D$13:$AR$13,0),0))","v":""},{"$f":"IF($G34=\"\",\"\",VLOOKUP($E34,'T8'!$D$15:$AQ$44,MATCH($F$6,'T8'!$D$13:$AR$13,0),0))","v":""},{"$f":"IF($G34=\"\",\"\",VLOOKUP($E34,'T9'!$D$15:$AQ$44,MATCH($F$6,'T9'!$D$13:$AR$13,0),0))","v":""},{"$f":"IF($G34=\"\",\"\",VLOOKUP($E34,'T10'!$D$15:$AQ$44,MATCH($F$6,'T10'!$D$13:$AR$13,0),0))","v":""},{"$f":"IF($G34=\"\",\"\",VLOOKUP($E34,'T11'!$D$15:$AQ$44,MATCH($F$6,'T11'!$D$13:$AR$13,0),0))","v":""},{"$f":"IF($G34=\"\",\"\",VLOOKUP($E34,'T12'!$D$15:$AQ$44,MATCH($F$6,'T12'!$D$13:$AR$13,0),0))","v":""}]
[null,null,{"$f":"'Danh muc nhan vien'!C33","v":22},{"$f":"'Danh muc nhan vien'!D33","v":0},{"$f":"'Danh muc nhan vien'!E33","v":0},{"$f":"'Danh muc nhan vien'!F33","v":0},{"$f":"IF('Danh muc nhan vien'!H33=\"\",\"\",'Danh muc nhan vien'!H33)","v":""},{"$f":"IF('Danh muc nhan vien'!I33=\"\",\"\",'Danh muc nhan vien'!I33)","v":""},{"$f":"IF($G35=\"\",\"\",VLOOKUP($E35,'T1'!$D$15:$AQ$44,MATCH($F$6,'T1'!$D$13:$AR$13,0),0))","v":""},{"$f":"IF($G35=\"\",\"\",VLOOKUP($E35,'T2'!$D$15:$AQ$44,MATCH($F$6,'T2'!$D$13:$AR$13,0),0))","v":""},{"$f":"IF($G35=\"\",\"\",VLOOKUP($E35,'T3'!$D$15:$AQ$44,MATCH($F$6,'T3'!$D$13:$AR$13,0),0))","v":""},{"$f":"IF($G35=\"\",\"\",VLOOKUP($E35,'T4'!$D$15:$AQ$44,MATCH($F$6,'T4'!$D$13:$AR$13,0),0))","v":""},{"$f":"IF($G35=\"\",\"\",VLOOKUP($E35,'T5'!$D$15:$AQ$44,MATCH($F$6,'T5'!$D$13:$AR$13,0),0))","v":""},{"$f":"IF($G35=\"\",\"\",VLOOKUP($E35,'T6'!$D$15:$AQ$44,MATCH($F$6,'T6'!$D$13:$AR$13,0),0))","v":""},{"$f":"IF($G35=\"\",\"\",VLOOKUP($E35,'T7'!$D$15:$AQ$44,MATCH($F$6,'T7'!$D$13:$AR$13,0),0))","v":""},{"$f":"IF($G35=\"\",\"\",VLOOKUP($E35,'T8'!$D$15:$AQ$44,MATCH($F$6,'T8'!$D$13:$AR$13,0),0))","v":""},{"$f":"IF($G35=\"\",\"\",VLOOKUP($E35,'T9'!$D$15:$AQ$44,MATCH($F$6,'T9'!$D$13:$AR$13,0),0))","v":""},{"$f":"IF($G35=\"\",\"\",VLOOKUP($E35,'T10'!$D$15:$AQ$44,MATCH($F$6,'T10'!$D$13:$AR$13,0),0))","v":""},{"$f":"IF($G35=\"\",\"\",VLOOKUP($E35,'T11'!$D$15:$AQ$44,MATCH($F$6,'T11'!$D$13:$AR$13,0),0))","v":""},{"$f":"IF($G35=\"\",\"\",VLOOKUP($E35,'T12'!$D$15:$AQ$44,MATCH($F$6,'T12'!$D$13:$AR$13,0),0))","v":""}]
[null,null,{"$f":"'Danh muc nhan vien'!C34","v":23},{"$f":"'Danh muc nhan vien'!D34","v":0},{"$f":"'Danh muc nhan vien'!E34","v":0},{"$f":"'Danh muc nhan vien'!F34","v":0},{"$f":"IF('Danh muc nhan vien'!H34=\"\",\"\",'Danh muc nhan vien'!H34)","v":""},{"$f":"IF('Danh muc nhan vien'!I34=\"\",\"\",'Danh muc nhan vien'!I34)","v":""},{"$f":"IF($G36=\"\",\"\",VLOOKUP($E36,'T1'!$D$15:$AQ$44,MATCH($F$6,'T1'!$D$13:$AR$13,0),0))","v":""},{"$f":"IF($G36=\"\",\"\",VLOOKUP($E36,'T2'!$D$15:$AQ$44,MATCH($F$6,'T2'!$D$13:$AR$13,0),0))","v":""},{"$f":"IF($G36=\"\",\"\",VLOOKUP($E36,'T3'!$D$15:$AQ$44,MATCH($F$6,'T3'!$D$13:$AR$13,0),0))","v":""},{"$f":"IF($G36=\"\",\"\",VLOOKUP($E36,'T4'!$D$15:$AQ$44,MATCH($F$6,'T4'!$D$13:$AR$13,0),0))","v":""},{"$f":"IF($G36=\"\",\"\",VLOOKUP($E36,'T5'!$D$15:$AQ$44,MATCH($F$6,'T5'!$D$13:$AR$13,0),0))","v":""},{"$f":"IF($G36=\"\",\"\",VLOOKUP($E36,'T6'!$D$15:$AQ$44,MATCH($F$6,'T6'!$D$13:$AR$13,0),0))","v":""},{"$f":"IF($G36=\"\",\"\",VLOOKUP($E36,'T7'!$D$15:$AQ$44,MATCH($F$6,'T7'!$D$13:$AR$13,0),0))","v":""},{"$f":"IF($G36=\"\",\"\",VLOOKUP($E36,'T8'!$D$15:$AQ$44,MATCH($F$6,'T8'!$D$13:$AR$13,0),0))","v":""},{"$f":"IF($G36=\"\",\"\",VLOOKUP($E36,'T9'!$D$15:$AQ$44,MATCH($F$6,'T9'!$D$13:$AR$13,0),0))","v":""},{"$f":"IF($G36=\"\",\"\",VLOOKUP($E36,'T10'!$D$15:$AQ$44,MATCH($F$6,'T10'!$D$13:$AR$13,0),0))","v":""},{"$f":"IF($G36=\"\",\"\",VLOOKUP($E36,'T11'!$D$15:$AQ$44,MATCH($F$6,'T11'!$D$13:$AR$13,0),0))","v":""},{"$f":"IF($G36=\"\",\"\",VLOOKUP($E36,'T12'!$D$15:$AQ$44,MATCH($F$6,'T12'!$D$13:$AR$13,0),0))","v":""}]
[null,null,{"$f":"'Danh muc nhan vien'!C35","v":24},{"$f":"'Danh muc nhan vien'!D35","v":0},{"$f":"'Danh muc nhan vien'!E35","v":0},{"$f":"'Danh muc nhan vien'!F35","v":0},{"$f":"IF('Danh muc nhan vien'!H35=\"\",\"\",'Danh muc nhan vien'!H35)","v":""},{"$f":"IF('Danh muc nhan vien'!I35=\"\",\"\",'Danh muc nhan vien'!I35)","v":""},{"$f":"IF($G37=\"\",\"\",VLOOKUP($E37,'T1'!$D$15:$AQ$44,MATCH($F$6,'T1'!$D$13:$AR$13,0),0))","v":""},{"$f":"IF($G37=\"\",\"\",VLOOKUP($E37,'T2'!$D$15:$AQ$44,MATCH($F$6,'T2'!$D$13:$AR$13,0),0))","v":""},{"$f":"IF($G37=\"\",\"\",VLOOKUP($E37,'T3'!$D$15:$AQ$44,MATCH($F$6,'T3'!$D$13:$AR$13,0),0))","v":""},{"$f":"IF($G37=\"\",\"\",VLOOKUP($E37,'T4'!$D$15:$AQ$44,MATCH($F$6,'T4'!$D$13:$AR$13,0),0))","v":""},{"$f":"IF($G37=\"\",\"\",VLOOKUP($E37,'T5'!$D$15:$AQ$44,MATCH($F$6,'T5'!$D$13:$AR$13,0),0))","v":""},{"$f":"IF($G37=\"\",\"\",VLOOKUP($E37,'T6'!$D$15:$AQ$44,MATCH($F$6,'T6'!$D$13:$AR$13,0),0))","v":""},{"$f":"IF($G37=\"\",\"\",VLOOKUP($E37,'T7'!$D$15:$AQ$44,MATCH($F$6,'T7'!$D$13:$AR$13,0),0))","v":""},{"$f":"IF($G37=\"\",\"\",VLOOKUP($E37,'T8'!$D$15:$AQ$44,MATCH($F$6,'T8'!$D$13:$AR$13,0),0))","v":""},{"$f":"IF($G37=\"\",\"\",VLOOKUP($E37,'T9'!$D$15:$AQ$44,MATCH($F$6,'T9'!$D$13:$AR$13,0),0))","v":""},{"$f":"IF($G37=\"\",\"\",VLOOKUP($E37,'T10'!$D$15:$AQ$44,MATCH($F$6,'T10'!$D$13:$AR$13,0),0))","v":""},{"$f":"IF($G37=\"\",\"\",VLOOKUP($E37,'T11'!$D$15:$AQ$44,MATCH($F$6,'T11'!$D$13:$AR$13,0),0))","v":""},{"$f":"IF($G37=\"\",\"\",VLOOKUP($E37,'T12'!$D$15:$AQ$44,MATCH($F$6,'T12'!$D$13:$AR$13,0),0))","v":""}]
[null,null,{"$f":"'Danh muc nhan vien'!C36","v":25},{"$f":"'Danh muc nhan vien'!D36","v":0},{"$f":"'Danh muc nhan vien'!E36","v":0},{"$f":"'Danh muc nhan vien'!F36","v":0},{"$f":"IF('Danh muc nhan vien'!H36=\"\",\"\",'Danh muc nhan vien'!H36)","v":""},{"$f":"IF('Danh muc nhan vien'!I36=\"\",\"\",'Danh muc nhan vien'!I36)","v":""},{"$f":"IF($G38=\"\",\"\",VLOOKUP($E38,'T1'!$D$15:$AQ$44,MATCH($F$6,'T1'!$D$13:$AR$13,0),0))","v":""},{"$f":"IF($G38=\"\",\"\",VLOOKUP($E38,'T2'!$D$15:$AQ$44,MATCH($F$6,'T2'!$D$13:$AR$13,0),0))","v":""},{"$f":"IF($G38=\"\",\"\",VLOOKUP($E38,'T3'!$D$15:$AQ$44,MATCH($F$6,'T3'!$D$13:$AR$13,0),0))","v":""},{"$f":"IF($G38=\"\",\"\",VLOOKUP($E38,'T4'!$D$15:$AQ$44,MATCH($F$6,'T4'!$D$13:$AR$13,0),0))","v":""},{"$f":"IF($G38=\"\",\"\",VLOOKUP($E38,'T5'!$D$15:$AQ$44,MATCH($F$6,'T5'!$D$13:$AR$13,0),0))","v":""},{"$f":"IF($G38=\"\",\"\",VLOOKUP($E38,'T6'!$D$15:$AQ$44,MATCH($F$6,'T6'!$D$13:$AR$13,0),0))","v":""},{"$f":"IF($G38=\"\",\"\",VLOOKUP($E38,'T7'!$D$15:$AQ$44,MATCH($F$6,'T7'!$D$13:$AR$13,0),0))","v":""},{"$f":"IF($G38=\"\",\"\",VLOOKUP($E38,'T8'!$D$15:$AQ$44,MATCH($F$6,'T8'!$D$13:$AR$13,0),0))","v":""},{"$f":"IF($G38=\"\",\"\",VLOOKUP($E38,'T9'!$D$15:$AQ$44,MATCH($F$6,'T9'!$D$13:$AR$13,0),0))","v":""},{"$f":"IF($G38=\"\",\"\",VLOOKUP($E38,'T10'!$D$15:$AQ$44,MATCH($F$6,'T10'!$D$13:$AR$13,0),0))","v":""},{"$f":"IF($G38=\"\",\"\",VLOOKUP($E38,'T11'!$D$15:$AQ$44,MATCH($F$6,'T11'!$D$13:$AR$13,0),0))","v":""},{"$f":"IF($G38=\"\",\"\",VLOOKUP($E38,'T12'!$D$15:$AQ$44,MATCH($F$6,'T12'!$D$13:$AR$13,0),0))","v":""}]
[null,null,{"$f":"'Danh muc nhan vien'!C37","v":26},{"$f":"'Danh muc nhan vien'!D37","v":0},{"$f":"'Danh muc nhan vien'!E37","v":0},{"$f":"'Danh muc nhan vien'!F37","v":0},{"$f":"IF('Danh muc nhan vien'!H37=\"\",\"\",'Danh muc nhan vien'!H37)","v":""},{"$f":"IF('Danh muc nhan vien'!I37=\"\",\"\",'Danh muc nhan vien'!I37)","v":""},{"$f":"IF($G39=\"\",\"\",VLOOKUP($E39,'T1'!$D$15:$AQ$44,MATCH($F$6,'T1'!$D$13:$AR$13,0),0))","v":""},{"$f":"IF($G39=\"\",\"\",VLOOKUP($E39,'T2'!$D$15:$AQ$44,MATCH($F$6,'T2'!$D$13:$AR$13,0),0))","v":""},{"$f":"IF($G39=\"\",\"\",VLOOKUP($E39,'T3'!$D$15:$AQ$44,MATCH($F$6,'T3'!$D$13:$AR$13,0),0))","v":""},{"$f":"IF($G39=\"\",\"\",VLOOKUP($E39,'T4'!$D$15:$AQ$44,MATCH($F$6,'T4'!$D$13:$AR$13,0),0))","v":""},{"$f":"IF($G39=\"\",\"\",VLOOKUP($E39,'T5'!$D$15:$AQ$44,MATCH($F$6,'T5'!$D$13:$AR$13,0),0))","v":""},{"$f":"IF($G39=\"\",\"\",VLOOKUP($E39,'T6'!$D$15:$AQ$44,MATCH($F$6,'T6'!$D$13:$AR$13,0),0))","v":""},{"$f":"IF($G39=\"\",\"\",VLOOKUP($E39,'T7'!$D$15:$AQ$44,MATCH($F$6,'T7'!$D$13:$AR$13,0),0))","v":""},{"$f":"IF($G39=\"\",\"\",VLOOKUP($E39,'T8'!$D$15:$AQ$44,MATCH($F$6,'T8'!$D$13:$AR$13,0),0))","v":""},{"$f":"IF($G39=\"\",\"\",VLOOKUP($E39,'T9'!$D$15:$AQ$44,MATCH($F$6,'T9'!$D$13:$AR$13,0),0))","v":""},{"$f":"IF($G39=\"\",\"\",VLOOKUP($E39,'T10'!$D$15:$AQ$44,MATCH($F$6,'T10'!$D$13:$AR$13,0),0))","v":""},{"$f":"IF($G39=\"\",\"\",VLOOKUP($E39,'T11'!$D$15:$AQ$44,MATCH($F$6,'T11'!$D$13:$AR$13,0),0))","v":""},{"$f":"IF($G39=\"\",\"\",VLOOKUP($E39,'T12'!$D$15:$AQ$44,MATCH($F$6,'T12'!$D$13:$AR$13,0),0))","v":""}]
[null,null,{"$f":"'Danh muc nhan vien'!C38","v":27},{"$f":"'Danh muc nhan vien'!D38","v":0},{"$f":"'Danh muc nhan vien'!E38","v":0},{"$f":"'Danh muc nhan vien'!F38","v":0},{"$f":"IF('Danh muc nhan vien'!H38=\"\",\"\",'Danh muc nhan vien'!H38)","v":""},{"$f":"IF('Danh muc nhan vien'!I38=\"\",\"\",'Danh muc nhan vien'!I38)","v":""},{"$f":"IF($G40=\"\",\"\",VLOOKUP($E40,'T1'!$D$15:$AQ$44,MATCH($F$6,'T1'!$D$13:$AR$13,0),0))","v":""},{"$f":"IF($G40=\"\",\"\",VLOOKUP($E40,'T2'!$D$15:$AQ$44,MATCH($F$6,'T2'!$D$13:$AR$13,0),0))","v":""},{"$f":"IF($G40=\"\",\"\",VLOOKUP($E40,'T3'!$D$15:$AQ$44,MATCH($F$6,'T3'!$D$13:$AR$13,0),0))","v":""},{"$f":"IF($G40=\"\",\"\",VLOOKUP($E40,'T4'!$D$15:$AQ$44,MATCH($F$6,'T4'!$D$13:$AR$13,0),0))","v":""},{"$f":"IF($G40=\"\",\"\",VLOOKUP($E40,'T5'!$D$15:$AQ$44,MATCH($F$6,'T5'!$D$13:$AR$13,0),0))","v":""},{"$f":"IF($G40=\"\",\"\",VLOOKUP($E40,'T6'!$D$15:$AQ$44,MATCH($F$6,'T6'!$D$13:$AR$13,0),0))","v":""},{"$f":"IF($G40=\"\",\"\",VLOOKUP($E40,'T7'!$D$15:$AQ$44,MATCH($F$6,'T7'!$D$13:$AR$13,0),0))","v":""},{"$f":"IF($G40=\"\",\"\",VLOOKUP($E40,'T8'!$D$15:$AQ$44,MATCH($F$6,'T8'!$D$13:$AR$13,0),0))","v":""},{"$f":"IF($G40=\"\",\"\",VLOOKUP($E40,'T9'!$D$15:$AQ$44,MATCH($F$6,'T9'!$D$13:$AR$13,0),0))","v":""},{"$f":"IF($G40=\"\",\"\",VLOOKUP($E40,'T10'!$D$15:$AQ$44,MATCH($F$6,'T10'!$D$13:$AR$13,0),0))","v":""},{"$f":"IF($G40=\"\",\"\",VLOOKUP($E40,'T11'!$D$15:$AQ$44,MATCH($F$6,'T11'!$D$13:$AR$13,0),0))","v":""},{"$f":"IF($G40=\"\",\"\",VLOOKUP($E40,'T12'!$D$15:$AQ$44,MATCH($F$6,'T12'!$D$13:$AR$13,0),0))","v":""}]
[null,null,{"$f":"'Danh muc nhan vien'!C39","v":28},{"$f":"'Danh muc nhan vien'!D39","v":0},{"$f":"'Danh muc nhan vien'!E39","v":0},{"$f":"'Danh muc nhan vien'!F39","v":0},{"$f":"IF('Danh muc nhan vien'!H39=\"\",\"\",'Danh muc nhan vien'!H39)","v":""},{"$f":"IF('Danh muc nhan vien'!I39=\"\",\"\",'Danh muc nhan vien'!I39)","v":""},{"$f":"IF($G41=\"\",\"\",VLOOKUP($E41,'T1'!$D$15:$AQ$44,MATCH($F$6,'T1'!$D$13:$AR$13,0),0))","v":""},{"$f":"IF($G41=\"\",\"\",VLOOKUP($E41,'T2'!$D$15:$AQ$44,MATCH($F$6,'T2'!$D$13:$AR$13,0),0))","v":""},{"$f":"IF($G41=\"\",\"\",VLOOKUP($E41,'T3'!$D$15:$AQ$44,MATCH($F$6,'T3'!$D$13:$AR$13,0),0))","v":""},{"$f":"IF($G41=\"\",\"\",VLOOKUP($E41,'T4'!$D$15:$AQ$44,MATCH($F$6,'T4'!$D$13:$AR$13,0),0))","v":""},{"$f":"IF($G41=\"\",\"\",VLOOKUP($E41,'T5'!$D$15:$AQ$44,MATCH($F$6,'T5'!$D$13:$AR$13,0),0))","v":""},{"$f":"IF($G41=\"\",\"\",VLOOKUP($E41,'T6'!$D$15:$AQ$44,MATCH($F$6,'T6'!$D$13:$AR$13,0),0))","v":""},{"$f":"IF($G41=\"\",\"\",VLOOKUP($E41,'T7'!$D$15:$AQ$44,MATCH($F$6,'T7'!$D$13:$AR$13,0),0))","v":""},{"$f":"IF($G41=\"\",\"\",VLOOKUP($E41,'T8'!$D$15:$AQ$44,MATCH($F$6,'T8'!$D$13:$AR$13,0),0))","v":""},{"$f":"IF($G41=\"\",\"\",VLOOKUP($E41,'T9'!$D$15:$AQ$44,MATCH($F$6,'T9'!$D$13:$AR$13,0),0))","v":""},{"$f":"IF($G41=\"\",\"\",VLOOKUP($E41,'T10'!$D$15:$AQ$44,MATCH($F$6,'T10'!$D$13:$AR$13,0),0))","v":""},{"$f":"IF($G41=\"\",\"\",VLOOKUP($E41,'T11'!$D$15:$AQ$44,MATCH($F$6,'T11'!$D$13:$AR$13,0),0))","v":""},{"$f":"IF($G41=\"\",\"\",VLOOKUP($E41,'T12'!$D$15:$AQ$44,MATCH($F$6,'T12'!$D$13:$AR$13,0),0))","v":""}]
[null,null,{"$f":"'Danh muc nhan vien'!C40","v":29},{"$f":"'Danh muc nhan vien'!D40","v":0},{"$f":"'Danh muc nhan vien'!E40","v":0},{"$f":"'Danh muc nhan vien'!F40","v":0},{"$f":"IF('Danh muc nhan vien'!H40=\"\",\"\",'Danh muc nhan vien'!H40)","v":""},{"$f":"IF('Danh muc nhan vien'!I40=\"\",\"\",'Danh muc nhan vien'!I40)","v":""},{"$f":"IF($G42=\"\",\"\",VLOOKUP($E42,'T1'!$D$15:$AQ$44,MATCH($F$6,'T1'!$D$13:$AR$13,0),0))","v":""},{"$f":"IF($G42=\"\",\"\",VLOOKUP($E42,'T2'!$D$15:$AQ$44,MATCH($F$6,'T2'!$D$13:$AR$13,0),0))","v":""},{"$f":"IF($G42=\"\",\"\",VLOOKUP($E42,'T3'!$D$15:$AQ$44,MATCH($F$6,'T3'!$D$13:$AR$13,0),0))","v":""},{"$f":"IF($G42=\"\",\"\",VLOOKUP($E42,'T4'!$D$15:$AQ$44,MATCH($F$6,'T4'!$D$13:$AR$13,0),0))","v":""},{"$f":"IF($G42=\"\",\"\",VLOOKUP($E42,'T5'!$D$15:$AQ$44,MATCH($F$6,'T5'!$D$13:$AR$13,0),0))","v":""},{"$f":"IF($G42=\"\",\"\",VLOOKUP($E42,'T6'!$D$15:$AQ$44,MATCH($F$6,'T6'!$D$13:$AR$13,0),0))","v":""},{"$f":"IF($G42=\"\",\"\",VLOOKUP($E42,'T7'!$D$15:$AQ$44,MATCH($F$6,'T7'!$D$13:$AR$13,0),0))","v":""},{"$f":"IF($G42=\"\",\"\",VLOOKUP($E42,'T8'!$D$15:$AQ$44,MATCH($F$6,'T8'!$D$13:$AR$13,0),0))","v":""},{"$f":"IF($G42=\"\",\"\",VLOOKUP($E42,'T9'!$D$15:$AQ$44,MATCH($F$6,'T9'!$D$13:$AR$13,0),0))","v":""},{"$f":"IF($G42=\"\",\"\",VLOOKUP($E42,'T10'!$D$15:$AQ$44,MATCH($F$6,'T10'!$D$13:$AR$13,0),0))","v":""},{"$f":"IF($G42=\"\",\"\",VLOOKUP($E42,'T11'!$D$15:$AQ$44,MATCH($F$6,'T11'!$D$13:$AR$13,0),0))","v":""},{"$f":"IF($G42=\"\",\"\",VLOOKUP($E42,'T12'!$D$15:$AQ$44,MATCH($F$6,'T12'!$D$13:$AR$13,0),0))","v":""}]
[null,null,{"$f":"'Danh muc nhan vien'!C41","v":30},{"$f":"'Danh muc nhan vien'!D41","v":0},{"$f":"'Danh muc nhan vien'!E41","v":0},{"$f":"'Danh muc nhan vien'!F41","v":0},{"$f":"IF('Danh muc nhan vien'!H41=\"\",\"\",'Danh muc nhan vien'!H41)","v":""},{"$f":"IF('Danh muc nhan vien'!I41=\"\",\"\",'Danh muc nhan vien'!I41)","v":""},{"$f":"IF($G43=\"\",\"\",VLOOKUP($E43,'T1'!$D$15:$AQ$44,MATCH($F$6,'T1'!$D$13:$AR$13,0),0))","v":""},{"$f":"IF($G43=\"\",\"\",VLOOKUP($E43,'T2'!$D$15:$AQ$44,MATCH($F$6,'T2'!$D$13:$AR$13,0),0))","v":""},{"$f":"IF($G43=\"\",\"\",VLOOKUP($E43,'T3'!$D$15:$AQ$44,MATCH($F$6,'T3'!$D$13:$AR$13,0),0))","v":""},{"$f":"IF($G43=\"\",\"\",VLOOKUP($E43,'T4'!$D$15:$AQ$44,MATCH($F$6,'T4'!$D$13:$AR$13,0),0))","v":""},{"$f":"IF($G43=\"\",\"\",VLOOKUP($E43,'T5'!$D$15:$AQ$44,MATCH($F$6,'T5'!$D$13:$AR$13,0),0))","v":""},{"$f":"IF($G43=\"\",\"\",VLOOKUP($E43,'T6'!$D$15:$AQ$44,MATCH($F$6,'T6'!$D$13:$AR$13,0),0))","v":""},{"$f":"IF($G43=\"\",\"\",VLOOKUP($E43,'T7'!$D$15:$AQ$44,MATCH($F$6,'T7'!$D$13:$AR$13,0),0))","v":""},{"$f":"IF($G43=\"\",\"\",VLOOKUP($E43,'T8'!$D$15:$AQ$44,MATCH($F$6,'T8'!$D$13:$AR$13,0),0))","v":""},{"$f":"IF($G43=\"\",\"\",VLOOKUP($E43,'T9'!$D$15:$AQ$44,MATCH($F$6,'T9'!$D$13:$AR$13,0),0))","v":""},{"$f":"IF($G43=\"\",\"\",VLOOKUP($E43,'T10'!$D$15:$AQ$44,MATCH($F$6,'T10'!$D$13:$AR$13,0),0))","v":""},{"$f":"IF($G43=\"\",\"\",VLOOKUP($E43,'T11'!$D$15:$AQ$44,MATCH($F$6,'T11'!$D$13:$AR$13,0),0))","v":""},{"$f":"IF($G43=\"\",\"\",VLOOKUP($E43,'T12'!$D$15:$AQ$44,MATCH($F$6,'T12'!$D$13:$AR$13,0),0))","v":""}]
[]
[null,null,".",".",".",".",".",".",".",".",".",".",".",".",".",".",".",".",".",".","."]

{"sheet":"Report-1","index":17,"n_rows":38,"n_cols":22,"rows_kept":38,"cut":false,"hidden":false,"merged":[[6,2,7,21],[24,2,24,5],[25,2,25,5],[26,2,26,5],[11,7,11,11],[11,18,11,20],[13,18,13,20],[15,18,15,20],[20,7,20,21],[33,2,33,5],[34,2,34,5],[35,2,35,5],[23,2,23,5],[20,2,21,5],[27,2,27,5],[28,2,28,5],[29,2,29,5],[30,2,30,5],[31,2,31,5],[32,2,32,5]]}
[]
[]
[]
[]
[]
[]
[null,null,{"$f":"Setup!F10","v":"Công ty TNHH Webkynang Việt Nam"}]
[]
[]
[]
[]
[null,null,"Tên Nhân viên",null,null,null,":","Lâm Thị Cành",null,null,null,null,null,null,"Năm",null,null,":",{"$f":"year","v":2021}]
[]
[null,null,"Chức danh",null,null,null,":",{"$f":"VLOOKUP(H12,DSNV,2,0)","v":"Nhân sự"},null,null,null,null,null,null,"Ngày bắt đầu",null,null,":",{"$f":"VLOOKUP(H12,DSNV,4,0)","v":"2014-09-22"}]
[]
[null,null,"Bộ phận",null,null,null,":",{"$f":"VLOOKUP(H12,DSNV,3,0)","v":"HC - NS"},null,null,null,null,null,null,"Ngày kết thúc",null,null,":",{"$f":"IF(VLOOKUP(H12,DSNV,5,0)<1,\"\",VLOOKUP(H12,DSNV,5,0))","v":""}]
[]
[]
[]
[]
[null,null,"Tháng",null,null,null,null,"TỔNG HỢP CHẤM CÔNG THEO TỪNG LOẠI"]
[null,null,null,null,null,null,null,"X","X2","NC","NO","…","…","…","…","…","…",null,"…","…","…","…"]
[]
[null,null,{"$f":"year","v":2021},null,null,null,null,{"$f":"SUM(H25:H36)","v":0},0,0,0,0,0,0,0,0,0,0,0,0,0,0]
[null,null,1,null,null,null,null,{"$f":"IF(H$22=\"…\",\"\",HLOOKUP(H$22,'T1'!$C$13:$AP$44,MATCH($H$12,'T1'!$D$13:$D$44,0),0))","v":0},{"$f":"IF(I$22=\"…\",\"\",HLOOKUP(I$22,'T1'!$C$13:$AP$44,MATCH($H$12,'T1'!$D$13:$D$44,0),0))","v":0},{"$f":"IF(J$22=\"…\",\"\",HLOOKUP(J$22,'T1'!$C$13:$AP$44,MATCH($H$12,'T1'!$D$13:$D$44,0),0))","v":0},{"$f":"IF(K$22=\"…\",\"\",HLOOKUP(K$22,'T1'!$C$13:$AP$44,MATCH($H$12,'T1'!$D$13:$D$44,0),0))","v":0},{"$f":"IF(L$22=\"…\",\"\",HLOOKUP(L$22,'T1'!$C$13:$AP$44,MATCH($H$12,'T1'!$D$13:$D$44,0),0))","v":""},{"$f":"IF(M$22=\"…\",\"\",HLOOKUP(M$22,'T1'!$C$13:$AP$44,MATCH($H$12,'T1'!$D$13:$D$44,0),0))","v":""},{"$f":"IF(N$22=\"…\",\"\",HLOOKUP(N$22,'T1'!$C$13:$AP$44,MATCH($H$12,'T1'!$D$13:$D$44,0),0))","v":""},{"$f":"IF(O$22=\"…\",\"\",HLOOKUP(O$22,'T1'!$C$13:$AP$44,MATCH($H$12,'T1'!$D$13:$D$44,0),0))","v":""},{"$f":"IF(P$22=\"…\",\"\",HLOOKUP(P$22,'T1'!$C$13:$AP$44,MATCH($H$12,'T1'!$D$13:$D$44,0),0))","v":""},{"$f":"IF(Q$22=\"…\",\"\",HLOOKUP(Q$22,'T1'!$C$13:$AP$44,MATCH($H$12,'T1'!$D$13:$D$44,0),0))","v":""}," ",{"$f":"IF(S$22=\"…\",\"\",HLOOKUP(S$22,'T1'!$C$13:$AP$44,MATCH($H$12,'T1'!$D$13:$D$44,0),0))","v":""},{"$f":"IF(T$22=\"…\",\"\",HLOOKUP(T$22,'T1'!$C$13:$AP$44,MATCH($H$12,'T1'!$D$13:$D$44,0),0))","v":""},{"$f":"IF(U$22=\"…\",\"\",HLOOKUP(U$22,'T1'!$C$13:$AP$44,MATCH($H$12,'T1'!$D$13:$D$44,0),0))","v":""},{"$f":"IF(V$22=\"…\",\"\",HLOOKUP(V$22,'T1'!$C$13:$AP$44,MATCH($H$12,'T1'!$D$13:$D$44,0),0))","v":""}]
[null,null,{"$f":"C25+1","v":2},null,null,null,null,{"$f":"IF(H$22=\"…\",\"\",HLOOKUP(H$22,'T2'!$C$13:$AP$44,MATCH($H$12,'T2'!$D$13:$D$44,0),0))","v":0},{"$f":"IF(I$22=\"…\",\"\",HLOOKUP(I$22,'T2'!$C$13:$AP$44,MATCH($H$12,'T2'!$D$13:$D$44,0),0))","v":0},{"$f":"IF(J$22=\"…\",\"\",HLOOKUP(J$22,'T2'!$C$13:$AP$44,MATCH($H$12,'T2'!$D$13:$D$44,0),0))","v":0},{"$f":"IF(K$22=\"…\",\"\",HLOOKUP(K$22,'T2'!$C$13:$AP$44,MATCH($H$12,'T2'!$D$13:$D$44,0),0))","v":0},{"$f":"IF(L$22=\"…\",\"\",HLOOKUP(L$22,'T2'!$C$13:$AP$44,MATCH($H$12,'T2'!$D$13:$D$44,0),0))","v":""},{"$f":"IF(M$22=\"…\",\"\",HLOOKUP(M$22,'T2'!$C$13:$AP$44,MATCH($H$12,'T2'!$D$13:$D$44,0),0))","v":""},{"$f":"IF(N$22=\"…\",\"\",HLOOKUP(N$22,'T2'!$C$13:$AP$44,MATCH($H$12,'T2'!$D$13:$D$44,0),0))","v":""},{"$f":"IF(O$22=\"…\",\"\",HLOOKUP(O$22,'T2'!$C$13:$AP$44,MATCH($H$12,'T2'!$D$13:$D$44,0),0))","v":""},{"$f":"IF(P$22=\"…\",\"\",HLOOKUP(P$22,'T2'!$C$13:$AP$44,MATCH($H$12,'T2'!$D$13:$D$44,0),0))","v":""},{"$f":"IF(Q$22=\"…\",\"\",HLOOKUP(Q$22,'T2'!$C$13:$AP$44,MATCH($H$12,'T2'!$D$13:$D$44,0),0))","v":""}," ",{"$f":"IF(S$22=\"…\",\"\",HLOOKUP(S$22,'T2'!$C$13:$AP$44,MATCH($H$12,'T2'!$D$13:$D$44,0),0))","v":""},{"$f":"IF(T$22=\"…\",\"\",HLOOKUP(T$22,'T2'!$C$13:$AP$44,MATCH($H$12,'T2'!$D$13:$D$44,0),0))","v":""},{"$f":"IF(U$22=\"…\",\"\",HLOOKUP(U$22,'T2'!$C$13:$AP$44,MATCH($H$12,'T2'!$D$13:$D$44,0),0))","v":""},{"$f":"IF(V$22=\"…\",\"\",HLOOKUP(V$22,'T2'!$C$13:$AP$44,MATCH($H$12,'T2'!$D$13:$D$44,0),0))","v":""}]
[null,null,{"$f":"C26+1","v":3},null,null,null,null,{"$f":"IF(H$22=\"…\",\"\",HLOOKUP(H$22,'T3'!$C$13:$AP$44,MATCH($H$12,'T3'!$D$13:$D$44,0),0))","v":0},{"$f":"IF(I$22=\"…\",\"\",HLOOKUP(I$22,'T3'!$C$13:$AP$44,MATCH($H$12,'T3'!$D$13:$D$44,0),0))","v":0},{"$f":"IF(J$22=\"…\",\"\",HLOOKUP(J$22,'T3'!$C$13:$AP$44,MATCH($H$12,'T3'!$D$13:$D$44,0),0))","v":0},{"$f":"IF(K$22=\"…\",\"\",HLOOKUP(K$22,'T3'!$C$13:$AP$44,MATCH($H$12,'T3'!$D$13:$D$44,0),0))","v":0},{"$f":"IF(L$22=\"…\",\"\",HLOOKUP(L$22,'T3'!$C$13:$AP$44,MATCH($H$12,'T3'!$D$13:$D$44,0),0))","v":""},{"$f":"IF(M$22=\"…\",\"\",HLOOKUP(M$22,'T3'!$C$13:$AP$44,MATCH($H$12,'T3'!$D$13:$D$44,0),0))","v":""},{"$f":"IF(N$22=\"…\",\"\",HLOOKUP(N$22,'T3'!$C$13:$AP$44,MATCH($H$12,'T3'!$D$13:$D$44,0),0))","v":""},{"$f":"IF(O$22=\"…\",\"\",HLOOKUP(O$22,'T3'!$C$13:$AP$44,MATCH($H$12,'T3'!$D$13:$D$44,0),0))","v":""},{"$f":"IF(P$22=\"…\",\"\",HLOOKUP(P$22,'T3'!$C$13:$AP$44,MATCH($H$12,'T3'!$D$13:$D$44,0),0))","v":""},{"$f":"IF(Q$22=\"…\",\"\",HLOOKUP(Q$22,'T3'!$C$13:$AP$44,MATCH($H$12,'T3'!$D$13:$D$44,0),0))","v":""}," ",{"$f":"IF(S$22=\"…\",\"\",HLOOKUP(S$22,'T3'!$C$13:$AP$44,MATCH($H$12,'T3'!$D$13:$D$44,0),0))","v":""},{"$f":"IF(T$22=\"…\",\"\",HLOOKUP(T$22,'T3'!$C$13:$AP$44,MATCH($H$12,'T3'!$D$13:$D$44,0),0))","v":""},{"$f":"IF(U$22=\"…\",\"\",HLOOKUP(U$22,'T3'!$C$13:$AP$44,MATCH($H$12,'T3'!$D$13:$D$44,0),0))","v":""},{"$f":"IF(V$22=\"…\",\"\",HLOOKUP(V$22,'T3'!$C$13:$AP$44,MATCH($H$12,'T3'!$D$13:$D$44,0),0))","v":""}]
[null,null,4,null,null,null,null,{"$f":"IF(H$22=\"…\",\"\",HLOOKUP(H$22,'T4'!$C$13:$AP$44,MATCH($H$12,'T4'!$D$13:$D$44,0),0))","v":0},{"$f":"IF(I$22=\"…\",\"\",HLOOKUP(I$22,'T4'!$C$13:$AP$44,MATCH($H$12,'T4'!$D$13:$D$44,0),0))","v":0},{"$f":"IF(J$22=\"…\",\"\",HLOOKUP(J$22,'T4'!$C$13:$AP$44,MATCH($H$12,'T4'!$D$13:$D$44,0),0))","v":0},{"$f":"IF(K$22=\"…\",\"\",HLOOKUP(K$22,'T4'!$C$13:$AP$44,MATCH($H$12,'T4'!$D$13:$D$44,0),0))","v":0},{"$f":"IF(L$22=\"…\",\"\",HLOOKUP(L$22,'T4'!$C$13:$AP$44,MATCH($H$12,'T4'!$D$13:$D$44,0),0))","v":""},{"$f":"IF(M$22=\"…\",\"\",HLOOKUP(M$22,'T4'!$C$13:$AP$44,MATCH($H$12,'T4'!$D$13:$D$44,0),0))","v":""},{"$f":"IF(N$22=\"…\",\"\",HLOOKUP(N$22,'T4'!$C$13:$AP$44,MATCH($H$12,'T4'!$D$13:$D$44,0),0))","v":""},{"$f":"IF(O$22=\"…\",\"\",HLOOKUP(O$22,'T4'!$C$13:$AP$44,MATCH($H$12,'T4'!$D$13:$D$44,0),0))","v":""},{"$f":"IF(P$22=\"…\",\"\",HLOOKUP(P$22,'T4'!$C$13:$AP$44,MATCH($H$12,'T4'!$D$13:$D$44,0),0))","v":""},{"$f":"IF(Q$22=\"…\",\"\",HLOOKUP(Q$22,'T4'!$C$13:$AP$44,MATCH($H$12,'T4'!$D$13:$D$44,0),0))","v":""}," ",{"$f":"IF(S$22=\"…\",\"\",HLOOKUP(S$22,'T4'!$C$13:$AP$44,MATCH($H$12,'T4'!$D$13:$D$44,0),0))","v":""},{"$f":"IF(T$22=\"…\",\"\",HLOOKUP(T$22,'T4'!$C$13:$AP$44,MATCH($H$12,'T4'!$D$13:$D$44,0),0))","v":""},{"$f":"IF(U$22=\"…\",\"\",HLOOKUP(U$22,'T4'!$C$13:$AP$44,MATCH($H$12,'T4'!$D$13:$D$44,0),0))","v":""},{"$f":"IF(V$22=\"…\",\"\",HLOOKUP(V$22,'T4'!$C$13:$AP$44,MATCH($H$12,'T4'!$D$13:$D$44,0),0))","v":""}]
[null,null,5,null,null,null,null,{"$f":"IF(H$22=\"…\",\"\",HLOOKUP(H$22,'T5'!$C$13:$AP$44,MATCH($H$12,'T5'!$D$13:$D$44,0),0))","v":0},{"$f":"IF(I$22=\"…\",\"\",HLOOKUP(I$22,'T5'!$C$13:$AP$44,MATCH($H$12,'T5'!$D$13:$D$44,0),0))","v":0},{"$f":"IF(J$22=\"…\",\"\",HLOOKUP(J$22,'T5'!$C$13:$AP$44,MATCH($H$12,'T5'!$D$13:$D$44,0),0))","v":0},{"$f":"IF(K$22=\"…\",\"\",HLOOKUP(K$22,'T5'!$C$13:$AP$44,MATCH($H$12,'T5'!$D$13:$D$44,0),0))","v":0},{"$f":"IF(L$22=\"…\",\"\",HLOOKUP(L$22,'T5'!$C$13:$AP$44,MATCH($H$12,'T5'!$D$13:$D$44,0),0))","v":""},{"$f":"IF(M$22=\"…\",\"\",HLOOKUP(M$22,'T5'!$C$13:$AP$44,MATCH($H$12,'T5'!$D$13:$D$44,0),0))","v":""},{"$f":"IF(N$22=\"…\",\"\",HLOOKUP(N$22,'T5'!$C$13:$AP$44,MATCH($H$12,'T5'!$D$13:$D$44,0),0))","v":""},{"$f":"IF(O$22=\"…\",\"\",HLOOKUP(O$22,'T5'!$C$13:$AP$44,MATCH($H$12,'T5'!$D$13:$D$44,0),0))","v":""},{"$f":"IF(P$22=\"…\",\"\",HLOOKUP(P$22,'T5'!$C$13:$AP$44,MATCH($H$12,'T5'!$D$13:$D$44,0),0))","v":""},{"$f":"IF(Q$22=\"…\",\"\",HLOOKUP(Q$22,'T5'!$C$13:$AP$44,MATCH($H$12,'T5'!$D$13:$D$44,0),0))","v":""}," ",{"$f":"IF(S$22=\"…\",\"\",HLOOKUP(S$22,'T5'!$C$13:$AP$44,MATCH($H$12,'T5'!$D$13:$D$44,0),0))","v":""},{"$f":"IF(T$22=\"…\",\"\",HLOOKUP(T$22,'T5'!$C$13:$AP$44,MATCH($H$12,'T5'!$D$13:$D$44,0),0))","v":""},{"$f":"IF(U$22=\"…\",\"\",HLOOKUP(U$22,'T5'!$C$13:$AP$44,MATCH($H$12,'T5'!$D$13:$D$44,0),0))","v":""},{"$f":"IF(V$22=\"…\",\"\",HLOOKUP(V$22,'T5'!$C$13:$AP$44,MATCH($H$12,'T5'!$D$13:$D$44,0),0))","v":""}]
[null,null,6,null,null,null,null,{"$f":"IF(H$22=\"…\",\"\",HLOOKUP(H$22,'T6'!$C$13:$AP$44,MATCH($H$12,'T6'!$D$13:$D$44,0),0))","v":0},{"$f":"IF(I$22=\"…\",\"\",HLOOKUP(I$22,'T6'!$C$13:$AP$44,MATCH($H$12,'T6'!$D$13:$D$44,0),0))","v":0},{"$f":"IF(J$22=\"…\",\"\",HLOOKUP(J$22,'T6'!$C$13:$AP$44,MATCH($H$12,'T6'!$D$13:$D$44,0),0))","v":0},{"$f":"IF(K$22=\"…\",\"\",HLOOKUP(K$22,'T6'!$C$13:$AP$44,MATCH($H$12,'T6'!$D$13:$D$44,0),0))","v":0},{"$f":"IF(L$22=\"…\",\"\",HLOOKUP(L$22,'T6'!$C$13:$AP$44,MATCH($H$12,'T6'!$D$13:$D$44,0),0))","v":""},{"$f":"IF(M$22=\"…\",\"\",HLOOKUP(M$22,'T6'!$C$13:$AP$44,MATCH($H$12,'T6'!$D$13:$D$44,0),0))","v":""},{"$f":"IF(N$22=\"…\",\"\",HLOOKUP(N$22,'T6'!$C$13:$AP$44,MATCH($H$12,'T6'!$D$13:$D$44,0),0))","v":""},{"$f":"IF(O$22=\"…\",\"\",HLOOKUP(O$22,'T6'!$C$13:$AP$44,MATCH($H$12,'T6'!$D$13:$D$44,0),0))","v":""},{"$f":"IF(P$22=\"…\",\"\",HLOOKUP(P$22,'T6'!$C$13:$AP$44,MATCH($H$12,'T6'!$D$13:$D$44,0),0))","v":""},{"$f":"IF(Q$22=\"…\",\"\",HLOOKUP(Q$22,'T6'!$C$13:$AP$44,MATCH($H$12,'T6'!$D$13:$D$44,0),0))","v":""}," ",{"$f":"IF(S$22=\"…\",\"\",HLOOKUP(S$22,'T6'!$C$13:$AP$44,MATCH($H$12,'T6'!$D$13:$D$44,0),0))","v":""},{"$f":"IF(T$22=\"…\",\"\",HLOOKUP(T$22,'T6'!$C$13:$AP$44,MATCH($H$12,'T6'!$D$13:$D$44,0),0))","v":""},{"$f":"IF(U$22=\"…\",\"\",HLOOKUP(U$22,'T6'!$C$13:$AP$44,MATCH($H$12,'T6'!$D$13:$D$44,0),0))","v":""},{"$f":"IF(V$22=\"…\",\"\",HLOOKUP(V$22,'T6'!$C$13:$AP$44,MATCH($H$12,'T6'!$D$13:$D$44,0),0))","v":""}]
[null,null,7,null,null,null,null,{"$f":"IF(H$22=\"…\",\"\",HLOOKUP(H$22,'T7'!$C$13:$AP$44,MATCH($H$12,'T7'!$D$13:$D$44,0),0))","v":0},{"$f":"IF(I$22=\"…\",\"\",HLOOKUP(I$22,'T7'!$C$13:$AP$44,MATCH($H$12,'T7'!$D$13:$D$44,0),0))","v":0},{"$f":"IF(J$22=\"…\",\"\",HLOOKUP(J$22,'T7'!$C$13:$AP$44,MATCH($H$12,'T7'!$D$13:$D$44,0),0))","v":0},{"$f":"IF(K$22=\"…\",\"\",HLOOKUP(K$22,'T7'!$C$13:$AP$44,MATCH($H$12,'T7'!$D$13:$D$44,0),0))","v":0},{"$f":"IF(L$22=\"…\",\"\",HLOOKUP(L$22,'T7'!$C$13:$AP$44,MATCH($H$12,'T7'!$D$13:$D$44,0),0))","v":""},{"$f":"IF(M$22=\"…\",\"\",HLOOKUP(M$22,'T7'!$C$13:$AP$44,MATCH($H$12,'T7'!$D$13:$D$44,0),0))","v":""},{"$f":"IF(N$22=\"…\",\"\",HLOOKUP(N$22,'T7'!$C$13:$AP$44,MATCH($H$12,'T7'!$D$13:$D$44,0),0))","v":""},{"$f":"IF(O$22=\"…\",\"\",HLOOKUP(O$22,'T7'!$C$13:$AP$44,MATCH($H$12,'T7'!$D$13:$D$44,0),0))","v":""},{"$f":"IF(P$22=\"…\",\"\",HLOOKUP(P$22,'T7'!$C$13:$AP$44,MATCH($H$12,'T7'!$D$13:$D$44,0),0))","v":""},{"$f":"IF(Q$22=\"…\",\"\",HLOOKUP(Q$22,'T7'!$C$13:$AP$44,MATCH($H$12,'T7'!$D$13:$D$44,0),0))","v":""}," ",{"$f":"IF(S$22=\"…\",\"\",HLOOKUP(S$22,'T7'!$C$13:$AP$44,MATCH($H$12,'T7'!$D$13:$D$44,0),0))","v":""},{"$f":"IF(T$22=\"…\",\"\",HLOOKUP(T$22,'T7'!$C$13:$AP$44,MATCH($H$12,'T7'!$D$13:$D$44,0),0))","v":""},{"$f":"IF(U$22=\"…\",\"\",HLOOKUP(U$22,'T7'!$C$13:$AP$44,MATCH($H$12,'T7'!$D$13:$D$44,0),0))","v":""},{"$f":"IF(V$22=\"…\",\"\",HLOOKUP(V$22,'T7'!$C$13:$AP$44,MATCH($H$12,'T7'!$D$13:$D$44,0),0))","v":""}]
[null,null,8,null,null,null,null,{"$f":"IF(H$22=\"…\",\"\",HLOOKUP(H$22,'T8'!$C$13:$AP$44,MATCH($H$12,'T8'!$D$13:$D$44,0),0))","v":0},{"$f":"IF(I$22=\"…\",\"\",HLOOKUP(I$22,'T8'!$C$13:$AP$44,MATCH($H$12,'T8'!$D$13:$D$44,0),0))","v":0},{"$f":"IF(J$22=\"…\",\"\",HLOOKUP(J$22,'T8'!$C$13:$AP$44,MATCH($H$12,'T8'!$D$13:$D$44,0),0))","v":0},{"$f":"IF(K$22=\"…\",\"\",HLOOKUP(K$22,'T8'!$C$13:$AP$44,MATCH($H$12,'T8'!$D$13:$D$44,0),0))","v":0},{"$f":"IF(L$22=\"…\",\"\",HLOOKUP(L$22,'T8'!$C$13:$AP$44,MATCH($H$12,'T8'!$D$13:$D$44,0),0))","v":""},{"$f":"IF(M$22=\"…\",\"\",HLOOKUP(M$22,'T8'!$C$13:$AP$44,MATCH($H$12,'T8'!$D$13:$D$44,0),0))","v":""},{"$f":"IF(N$22=\"…\",\"\",HLOOKUP(N$22,'T8'!$C$13:$AP$44,MATCH($H$12,'T8'!$D$13:$D$44,0),0))","v":""},{"$f":"IF(O$22=\"…\",\"\",HLOOKUP(O$22,'T8'!$C$13:$AP$44,MATCH($H$12,'T8'!$D$13:$D$44,0),0))","v":""},{"$f":"IF(P$22=\"…\",\"\",HLOOKUP(P$22,'T8'!$C$13:$AP$44,MATCH($H$12,'T8'!$D$13:$D$44,0),0))","v":""},{"$f":"IF(Q$22=\"…\",\"\",HLOOKUP(Q$22,'T8'!$C$13:$AP$44,MATCH($H$12,'T8'!$D$13:$D$44,0),0))","v":""}," ",{"$f":"IF(S$22=\"…\",\"\",HLOOKUP(S$22,'T8'!$C$13:$AP$44,MATCH($H$12,'T8'!$D$13:$D$44,0),0))","v":""},{"$f":"IF(T$22=\"…\",\"\",HLOOKUP(T$22,'T8'!$C$13:$AP$44,MATCH($H$12,'T8'!$D$13:$D$44,0),0))","v":""},{"$f":"IF(U$22=\"…\",\"\",HLOOKUP(U$22,'T8'!$C$13:$AP$44,MATCH($H$12,'T8'!$D$13:$D$44,0),0))","v":""},{"$f":"IF(V$22=\"…\",\"\",HLOOKUP(V$22,'T8'!$C$13:$AP$44,MATCH($H$12,'T8'!$D$13:$D$44,0),0))","v":""}]
[null,null,9,null,null,null,null,{"$f":"IF(H$22=\"…\",\"\",HLOOKUP(H$22,'T9'!$C$13:$AP$44,MATCH($H$12,'T9'!$D$13:$D$44,0),0))","v":0},{"$f":"IF(I$22=\"…\",\"\",HLOOKUP(I$22,'T9'!$C$13:$AP$44,MATCH($H$12,'T9'!$D$13:$D$44,0),0))","v":0},{"$f":"IF(J$22=\"…\",\"\",HLOOKUP(J$22,'T9'!$C$13:$AP$44,MATCH($H$12,'T9'!$D$13:$D$44,0),0))","v":0},{"$f":"IF(K$22=\"…\",\"\",HLOOKUP(K$22,'T9'!$C$13:$AP$44,MATCH($H$12,'T9'!$D$13:$D$44,0),0))","v":0},{"$f":"IF(L$22=\"…\",\"\",HLOOKUP(L$22,'T9'!$C$13:$AP$44,MATCH($H$12,'T9'!$D$13:$D$44,0),0))","v":""},{"$f":"IF(M$22=\"…\",\"\",HLOOKUP(M$22,'T9'!$C$13:$AP$44,MATCH($H$12,'T9'!$D$13:$D$44,0),0))","v":""},{"$f":"IF(N$22=\"…\",\"\",HLOOKUP(N$22,'T9'!$C$13:$AP$44,MATCH($H$12,'T9'!$D$13:$D$44,0),0))","v":""},{"$f":"IF(O$22=\"…\",\"\",HLOOKUP(O$22,'T9'!$C$13:$AP$44,MATCH($H$12,'T9'!$D$13:$D$44,0),0))","v":""},{"$f":"IF(P$22=\"…\",\"\",HLOOKUP(P$22,'T9'!$C$13:$AP$44,MATCH($H$12,'T9'!$D$13:$D$44,0),0))","v":""},{"$f":"IF(Q$22=\"…\",\"\",HLOOKUP(Q$22,'T9'!$C$13:$AP$44,MATCH($H$12,'T9'!$D$13:$D$44,0),0))","v":""}," ",{"$f":"IF(S$22=\"…\",\"\",HLOOKUP(S$22,'T9'!$C$13:$AP$44,MATCH($H$12,'T9'!$D$13:$D$44,0),0))","v":""},{"$f":"IF(T$22=\"…\",\"\",HLOOKUP(T$22,'T9'!$C$13:$AP$44,MATCH($H$12,'T9'!$D$13:$D$44,0),0))","v":""},{"$f":"IF(U$22=\"…\",\"\",HLOOKUP(U$22,'T9'!$C$13:$AP$44,MATCH($H$12,'T9'!$D$13:$D$44,0),0))","v":""},{"$f":"IF(V$22=\"…\",\"\",HLOOKUP(V$22,'T9'!$C$13:$AP$44,MATCH($H$12,'T9'!$D$13:$D$44,0),0))","v":""}]
[null,null,10,null,null,null,null,{"$f":"IF(H$22=\"…\",\"\",HLOOKUP(H$22,'T10'!$C$13:$AP$44,MATCH($H$12,'T10'!$D$13:$D$44,0),0))","v":0},{"$f":"IF(I$22=\"…\",\"\",HLOOKUP(I$22,'T10'!$C$13:$AP$44,MATCH($H$12,'T10'!$D$13:$D$44,0),0))","v":0},{"$f":"IF(J$22=\"…\",\"\",HLOOKUP(J$22,'T10'!$C$13:$AP$44,MATCH($H$12,'T10'!$D$13:$D$44,0),0))","v":0},{"$f":"IF(K$22=\"…\",\"\",HLOOKUP(K$22,'T10'!$C$13:$AP$44,MATCH($H$12,'T10'!$D$13:$D$44,0),0))","v":0},{"$f":"IF(L$22=\"…\",\"\",HLOOKUP(L$22,'T10'!$C$13:$AP$44,MATCH($H$12,'T10'!$D$13:$D$44,0),0))","v":""},{"$f":"IF(M$22=\"…\",\"\",HLOOKUP(M$22,'T10'!$C$13:$AP$44,MATCH($H$12,'T10'!$D$13:$D$44,0),0))","v":""},{"$f":"IF(N$22=\"…\",\"\",HLOOKUP(N$22,'T10'!$C$13:$AP$44,MATCH($H$12,'T10'!$D$13:$D$44,0),0))","v":""},{"$f":"IF(O$22=\"…\",\"\",HLOOKUP(O$22,'T10'!$C$13:$AP$44,MATCH($H$12,'T10'!$D$13:$D$44,0),0))","v":""},{"$f":"IF(P$22=\"…\",\"\",HLOOKUP(P$22,'T10'!$C$13:$AP$44,MATCH($H$12,'T10'!$D$13:$D$44,0),0))","v":""},{"$f":"IF(Q$22=\"…\",\"\",HLOOKUP(Q$22,'T10'!$C$13:$AP$44,MATCH($H$12,'T10'!$D$13:$D$44,0),0))","v":""}," ",{"$f":"IF(S$22=\"…\",\"\",HLOOKUP(S$22,'T10'!$C$13:$AP$44,MATCH($H$12,'T10'!$D$13:$D$44,0),0))","v":""},{"$f":"IF(T$22=\"…\",\"\",HLOOKUP(T$22,'T10'!$C$13:$AP$44,MATCH($H$12,'T10'!$D$13:$D$44,0),0))","v":""},{"$f":"IF(U$22=\"…\",\"\",HLOOKUP(U$22,'T10'!$C$13:$AP$44,MATCH($H$12,'T10'!$D$13:$D$44,0),0))","v":""},{"$f":"IF(V$22=\"…\",\"\",HLOOKUP(V$22,'T10'!$C$13:$AP$44,MATCH($H$12,'T10'!$D$13:$D$44,0),0))","v":""}]
[null,null,11,null,null,null,null,{"$f":"IF(H$22=\"…\",\"\",HLOOKUP(H$22,'T11'!$C$13:$AP$44,MATCH($H$12,'T11'!$D$13:$D$44,0),0))","v":0},{"$f":"IF(I$22=\"…\",\"\",HLOOKUP(I$22,'T11'!$C$13:$AP$44,MATCH($H$12,'T11'!$D$13:$D$44,0),0))","v":0},{"$f":"IF(J$22=\"…\",\"\",HLOOKUP(J$22,'T11'!$C$13:$AP$44,MATCH($H$12,'T11'!$D$13:$D$44,0),0))","v":0},{"$f":"IF(K$22=\"…\",\"\",HLOOKUP(K$22,'T11'!$C$13:$AP$44,MATCH($H$12,'T11'!$D$13:$D$44,0),0))","v":0},{"$f":"IF(L$22=\"…\",\"\",HLOOKUP(L$22,'T11'!$C$13:$AP$44,MATCH($H$12,'T11'!$D$13:$D$44,0),0))","v":""},{"$f":"IF(M$22=\"…\",\"\",HLOOKUP(M$22,'T11'!$C$13:$AP$44,MATCH($H$12,'T11'!$D$13:$D$44,0),0))","v":""},{"$f":"IF(N$22=\"…\",\"\",HLOOKUP(N$22,'T11'!$C$13:$AP$44,MATCH($H$12,'T11'!$D$13:$D$44,0),0))","v":""},{"$f":"IF(O$22=\"…\",\"\",HLOOKUP(O$22,'T11'!$C$13:$AP$44,MATCH($H$12,'T11'!$D$13:$D$44,0),0))","v":""},{"$f":"IF(P$22=\"…\",\"\",HLOOKUP(P$22,'T11'!$C$13:$AP$44,MATCH($H$12,'T11'!$D$13:$D$44,0),0))","v":""},{"$f":"IF(Q$22=\"…\",\"\",HLOOKUP(Q$22,'T11'!$C$13:$AP$44,MATCH($H$12,'T11'!$D$13:$D$44,0),0))","v":""}," ",{"$f":"IF(S$22=\"…\",\"\",HLOOKUP(S$22,'T11'!$C$13:$AP$44,MATCH($H$12,'T11'!$D$13:$D$44,0),0))","v":""},{"$f":"IF(T$22=\"…\",\"\",HLOOKUP(T$22,'T11'!$C$13:$AP$44,MATCH($H$12,'T11'!$D$13:$D$44,0),0))","v":""},{"$f":"IF(U$22=\"…\",\"\",HLOOKUP(U$22,'T11'!$C$13:$AP$44,MATCH($H$12,'T11'!$D$13:$D$44,0),0))","v":""},{"$f":"IF(V$22=\"…\",\"\",HLOOKUP(V$22,'T11'!$C$13:$AP$44,MATCH($H$12,'T11'!$D$13:$D$44,0),0))","v":""}]
[null,null,12,null,null,null,null,{"$f":"IF(H$22=\"…\",\"\",HLOOKUP(H$22,'T12'!$C$13:$AP$44,MATCH($H$12,'T12'!$D$13:$D$44,0),0))","v":0},{"$f":"IF(I$22=\"…\",\"\",HLOOKUP(I$22,'T12'!$C$13:$AP$44,MATCH($H$12,'T12'!$D$13:$D$44,0),0))","v":0},{"$f":"IF(J$22=\"…\",\"\",HLOOKUP(J$22,'T12'!$C$13:$AP$44,MATCH($H$12,'T12'!$D$13:$D$44,0),0))","v":0},{"$f":"IF(K$22=\"…\",\"\",HLOOKUP(K$22,'T12'!$C$13:$AP$44,MATCH($H$12,'T12'!$D$13:$D$44,0),0))","v":0},{"$f":"IF(L$22=\"…\",\"\",HLOOKUP(L$22,'T12'!$C$13:$AP$44,MATCH($H$12,'T12'!$D$13:$D$44,0),0))","v":""},{"$f":"IF(M$22=\"…\",\"\",HLOOKUP(M$22,'T12'!$C$13:$AP$44,MATCH($H$12,'T12'!$D$13:$D$44,0),0))","v":""},{"$f":"IF(N$22=\"…\",\"\",HLOOKUP(N$22,'T12'!$C$13:$AP$44,MATCH($H$12,'T12'!$D$13:$D$44,0),0))","v":""},{"$f":"IF(O$22=\"…\",\"\",HLOOKUP(O$22,'T12'!$C$13:$AP$44,MATCH($H$12,'T12'!$D$13:$D$44,0),0))","v":""},{"$f":"IF(P$22=\"…\",\"\",HLOOKUP(P$22,'T12'!$C$13:$AP$44,MATCH($H$12,'T12'!$D$13:$D$44,0),0))","v":""},{"$f":"IF(Q$22=\"…\",\"\",HLOOKUP(Q$22,'T12'!$C$13:$AP$44,MATCH($H$12,'T12'!$D$13:$D$44,0),0))","v":""}," ",{"$f":"IF(S$22=\"…\",\"\",HLOOKUP(S$22,'T12'!$C$13:$AP$44,MATCH($H$12,'T12'!$D$13:$D$44,0),0))","v":""},{"$f":"IF(T$22=\"…\",\"\",HLOOKUP(T$22,'T12'!$C$13:$AP$44,MATCH($H$12,'T12'!$D$13:$D$44,0),0))","v":""},{"$f":"IF(U$22=\"…\",\"\",HLOOKUP(U$22,'T12'!$C$13:$AP$44,MATCH($H$12,'T12'!$D$13:$D$44,0),0))","v":""},{"$f":"IF(V$22=\"…\",\"\",HLOOKUP(V$22,'T12'!$C$13:$AP$44,MATCH($H$12,'T12'!$D$13:$D$44,0),0))","v":""}]
[]
[null,null,".",".",".",".",".",".",null,null,null,null,null,null,null,null,null,null,".",".",".","."]

{"sheet":"Calendar","index":18,"n_rows":79,"n_cols":32,"rows_kept":79,"cut":false,"hidden":false,"merged":[[16,20,16,27],[43,20,43,27],[43,11,43,18],[43,2,43,9],[25,20,25,27],[25,11,25,18],[25,2,25,9],[34,2,34,9],[34,11,34,18],[34,20,34,27],[14,2,14,4],[14,16,14,17],[14,10,14,15],[16,2,16,9],[16,11,16,18]]}
[null,null,null,"Jan","Apr","Jul","Oct",null,null,null,null,null,null,"Feb","May","Aug","Nov",null,null,null,null,"Mar","Jun","Sep","Dec"]
[null,null,null,{"$f":"\"1/1/\" &C15","v":"1/1/2019"},{"$f":"V2+31","v":"2019-04-01"},{"$f":"W2+30","v":"2019-07-01"},{"$f":"X2+30","v":"2019-10-01"},null,null,null,null,null,{"$f":"IF(OR((AND(MOD(YEAR(D2),4)=0,MOD(YEAR(D2),100)<>0)), (MOD(YEAR(D2),400)=0)), 29,28)","v":28},{"$f":"D2+31","v":"2019-02-01"},{"$f":"E2+30","v":"2019-05-01"},{"$f":"F2+31","v":"2019-08-01"},{"$f":"G2+31","v":"2019-11-01"},null,null,null,null,{"$f":"N2+M2","v":"2019-03-01"},{"$f":"O2+31","v":"2019-06-01"},{"$f":"P2+31","v":"2019-09-01"},{"$f":"Q2+30","v":"2019-12-01"}]
[null,"Jan",null,{"$f":"IF(WEEKDAY($D$2)=1,1,0)","v":0},{"$f":"IF(WEEKDAY($D$2)=2,1,0)","v":0},{"$f":"IF(WEEKDAY($D$2)=3,1,0)","v":1},{"$f":"IF(WEEKDAY($D$2)=4,1,0)","v":0},{"$f":"IF(WEEKDAY($D$2)=5,1,0)","v":0},{"$f":"IF(WEEKDAY($D$2)=6,1,0)","v":0},{"$f":"IF(WEEKDAY($D$2)=7,1,0)","v":0},"Feb",null,{"$f":"IF(WEEKDAY($N$2)=1,1,0)","v":0},{"$f":"IF(WEEKDAY($N$2)=2,1,0)","v":0},{"$f":"IF(WEEKDAY($N$2)=3,1,0)","v":0},{"$f":"IF(WEEKDAY($N$2)=4,1,0)","v":0},{"$f":"IF(WEEKDAY($N$2)=5,1,0)","v":0},{"$f":"IF(WEEKDAY($N$2)=6,1,0)","v":1},{"$f":"IF(WEEKDAY($N$2)=7,1,0)","v":0},"Mar",null,{"$f":"IF(WEEKDAY($V$2)=1,1,0)","v":0},{"$f":"IF(WEEKDAY($V$2)=2,1,0)","v":0},{"$f":"IF(WEEKDAY($V$2)=3,1,0)","v":0},{"$f":"IF(WEEKDAY($V$2)=4,1,0)","v":0},{"$f":"IF(WEEKDAY($V$2)=5,1,0)","v":0},{"$f":"IF(WEEKDAY($V$2)=6,1,0)","v":1},{"$f":"IF(WEEKDAY($V$2)=7,1,0)","v":0}]
[null,"Apr",null,{"$f":"IF(WEEKDAY($E$2)=1,1,0)","v":0},{"$f":"IF(WEEKDAY($E$2)=2,1,0)","v":1},{"$f":"IF(WEEKDAY($E$2)=3,1,0)","v":0},{"$f":"IF(WEEKDAY($E$2)=4,1,0)","v":0},{"$f":"IF(WEEKDAY($E$2)=5,1,0)","v":0},{"$f":"IF(WEEKDAY($E$2)=6,1,0)","v":0},{"$f":"IF(WEEKDAY($E$2)=7,1,0)","v":0},"May",null,{"$f":"IF(WEEKDAY($O$2)=1,1,0)","v":0},{"$f":"IF(WEEKDAY($O$2)=2,1,0)","v":0},{"$f":"IF(WEEKDAY($O$2)=3,1,0)","v":0},{"$f":"IF(WEEKDAY($O$2)=4,1,0)","v":1},{"$f":"IF(WEEKDAY($O$2)=5,1,0)","v":0},{"$f":"IF(WEEKDAY($O$2)=6,1,0)","v":0},{"$f":"IF(WEEKDAY($O$2)=7,1,0)","v":0},"Jun",null,{"$f":"IF(WEEKDAY($W$2)=1,1,0)","v":0},{"$f":"IF(WEEKDAY($W$2)=2,1,0)","v":0},{"$f":"IF(WEEKDAY($W$2)=3,1,0)","v":0},{"$f":"IF(WEEKDAY($W$2)=4,1,0)","v":0},{"$f":"IF(WEEKDAY($W$2)=5,1,0)","v":0},{"$f":"IF(WEEKDAY($W$2)=6,1,0)","v":0},{"$f":"IF(WEEKDAY($W$2)=7,1,0)","v":1}]
[null,"Jul",null,{"$f":"IF(WEEKDAY($F$2)=1,1,0)","v":0},{"$f":"IF(WEEKDAY($F$2)=2,1,0)","v":1},{"$f":"IF(WEEKDAY($F$2)=3,1,0)","v":0},{"$f":"IF(WEEKDAY($F$2)=4,1,0)","v":0},{"$f":"IF(WEEKDAY($F$2)=5,1,0)","v":0},{"$f":"IF(WEEKDAY($F$2)=6,1,0)","v":0},{"$f":"IF(WEEKDAY($F$2)=7,1,0)","v":0},"Aug",null,{"$f":"IF(WEEKDAY($P$2)=1,1,0)","v":0},{"$f":"IF(WEEKDAY($P$2)=2,1,0)","v":0},{"$f":"IF(WEEKDAY($P$2)=3,1,0)","v":0},{"$f":"IF(WEEKDAY($P$2)=4,1,0)","v":0},{"$f":"IF(WEEKDAY($P$2)=5,1,0)","v":1},{"$f":"IF(WEEKDAY($P$2)=6,1,0)","v":0},{"$f":"IF(WEEKDAY($P$2)=7,1,0)","v":0},"Sep",null,{"$f":"IF(WEEKDAY($X$2)=1,1,0)","v":1},{"$f":"IF(WEEKDAY($X$2)=2,1,0)","v":0},{"$f":"IF(WEEKDAY($X$2)=3,1,0)","v":0},{"$f":"IF(WEEKDAY($X$2)=4,1,0)","v":0},{"$f":"IF(WEEKDAY($X$2)=5,1,0)","v":0},{"$f":"IF(WEEKDAY($X$2)=6,1,0)","v":0},{"$f":"IF(WEEKDAY($X$2)=7,1,0)","v":0}]
[null,"Oct",null,{"$f":"IF(WEEKDAY($G$2)=1,1,0)","v":0},{"$f":"IF(WEEKDAY($G$2)=2,1,0)","v":0},{"$f":"IF(WEEKDAY($G$2)=3,1,0)","v":1},{"$f":"IF(WEEKDAY($G$2)=4,1,0)","v":0},{"$f":"IF(WEEKDAY($G$2)=5,1,0)","v":0},{"$f":"IF(WEEKDAY($G$2)=6,1,0)","v":0},{"$f":"IF(WEEKDAY($G$2)=7,1,0)","v":0},"Nov",null,{"$f":"IF(WEEKDAY($Q$2)=1,1,0)","v":0},{"$f":"IF(WEEKDAY($Q$2)=2,1,0)","v":0},{"$f":"IF(WEEKDAY($Q$2)=3,1,0)","v":0},{"$f":"IF(WEEKDAY($Q$2)=4,1,0)","v":0},{"$f":"IF(WEEKDAY($Q$2)=5,1,0)","v":0},{"$f":"IF(WEEKDAY($Q$2)=6,1,0)","v":1},{"$f":"IF(WEEKDAY($Q$2)=7,1,0)","v":0},"Dec",null,{"$f":"IF(WEEKDAY($Y$2)=1,1,0)","v":1},{"$f":"IF(WEEKDAY($Y$2)=2,1,0)","v":0},{"$f":"IF(WEEKDAY($Y$2)=3,1,0)","v":0},{"$f":"IF(WEEKDAY($Y$2)=4,1,0)","v":0},{"$f":"IF(WEEKDAY($Y$2)=5,1,0)","v":0},{"$f":"IF(WEEKDAY($Y$2)=6,1,0)","v":0},{"$f":"IF(WEEKDAY($Y$2)=7,1,0)","v":0}]
[]
[]
[]
[]
[]
[]
[]
[]
[null,null,2019,null,null,null,null,null,null,null,"LỊCH NĂM",null,null,null,null,null,{"$f":"C15","v":2019}]
[]
[null,null,"THÁNG 1",null,null,null,null,null,null,null,null,"THÁNG 2",null,null,null,null,null,null,null,null,"THÁNG 3"]
[null,null,"WK","SUN","MON","TUE","WED","THU","FRI","SAT",null,"WK","SUN","MON","TUE","WED","THU","FRI","SAT",null,"WK","SUN","MON","TUE","WED","THU","FRI","SAT"]
[null,null,1,{"$f":"IF($D$3=1,1,0)","v":0},{"$f":"IF($E$3=1,1, IF(D19>0,D19+1, 0))","v":0},{"$f":"IF($F$3=1,1, IF(E19>0,E19+1, 0))","v":1},{"$f":"IF($G$3=1,1, IF(F19>0,F19+1, 0))","v":2},{"$f":"IF($H$3=1,1, IF(G19>0,G19+1, 0))","v":3},{"$f":"IF($I$3=1,1, IF(H19>0,H19+1, 0))","v":4},{"$f":"IF($J$3=1,1, IF(I19>0,I19+1, 0))","v":5},null,{"$f":"IF(MIN(D22:J22)=0,C22,IF(MIN(D23:J23)=0,C23,IF(MIN(D24:J24)=0,C23+1,0)))","v":5},{"$f":"IF($M$3=1,1,0)","v":0},{"$f":"IF($N$3=1,1, IF(M19>0,M19+1, 0))","v":0},{"$f":"IF($O$3=1,1, IF(N19>0,N19+1, 0))","v":0},{"$f":"IF($P$3=1,1, IF(O19>0,O19+1, 0))","v":0},{"$f":"IF($Q$3=1,1, IF(P19>0,P19+1, 0))","v":0},{"$f":"IF($R$3=1,1, IF(Q19>0,Q19+1, 0))","v":1},{"$f":"IF($S$3=1,1, IF(R19>0,R19+1, 0))","v":2},null,{"$f":"IF(MIN(M22:S22)=0,L22,IF(MIN(M23:S23)=0,L23,IF(MIN(M24:S24)=0,L23+1,0)))","v":9},{"$f":"IF($V$3=1,1,0)","v":0},{"$f":"IF($W$3=1,1, IF(V19>0,V19+1, 0))","v":0},{"$f":"IF($X$3=1,1, IF(W19>0,W19+1, 0))","v":0},{"$f":"IF($Y$3=1,1, IF(X19>0,X19+1, 0))","v":0},{"$f":"IF($Z$3=1,1, IF(Y19>0,Y19+1, 0))","v":0},{"$f":"IF($AA$3=1,1, IF(Z19>0,Z19+1, 0))","v":1},{"$f":"IF($AB$3=1,1, IF(AA19>0,AA19+1, 0))","v":2}]
[null,null,{"$f":"C19+1","v":2},{"$f":"IF(AND(J19>0,J19<31),J19+1,0)","v":6},{"$f":"IF(AND(D20>0,D20<31),D20+1,0)","v":7},8,9,10,11,12,null,{"$f":"L19+1","v":6},{"$f":"IF(AND(S19>0,S19<$M$2),S19+1,0)","v":3},{"$f":"IF(AND(M20>0,M20<$M$2),M20+1,0)","v":4},5,6,7,8,{"$f":"IF(AND(R20>0,R20<$M$2),R20+1,0)","v":9},null,{"$f":"U19+1","v":10},{"$f":"IF(AND(AB19>0,AB19<31),AB19+1,0)","v":3},{"$f":"IF(AND(V20>0,V20<31),V20+1,0)","v":4},5,6,7,8,9]
[null,null,{"$f":"C20+1","v":3},{"$f":"IF(AND(J20>0,J20<31),J20+1,0)","v":13},14,15,16,17,18,19,null,{"$f":"L20+1","v":7},{"$f":"IF(AND(S20>0,S20<$M$2),S20+1,0)","v":10},11,12,13,14,15,16,null,{"$f":"U20+1","v":11},{"$f":"IF(AND(AB20>0,AB20<31),AB20+1,0)","v":10},11,12,13,14,15,16]
[null,null,{"$f":"C21+1","v":4},{"$f":"IF(AND(J21>0,J21<31),J21+1,0)","v":20},21,22,23,24,25,26,null,{"$f":"L21+1","v":8},{"$f":"IF(AND(S21>0,S21<$M$2),S21+1,0)","v":17},18,19,20,21,22,23,null,{"$f":"U21+1","v":12},{"$f":"IF(AND(AB21>0,AB21<31),AB21+1,0)","v":17},18,19,20,21,22,23]
[null,null,{"$f":"C22+1","v":5},{"$f":"IF(AND(J22>0,J22<31),J22+1,0)","v":27},28,29,30,31,0,0,null,{"$f":"L22+1","v":9},{"$f":"IF(AND(S22>0,S22<$M$2),S22+1,0)","v":24},25,26,27,28,0,0,null,{"$f":"U22+1","v":13},{"$f":"IF(AND(AB22>0,AB22<31),AB22+1,0)","v":24},25,26,27,28,29,30]
[null,null,{"$f":"IF(D24=0,0,C23+1)","v":0},{"$f":"IF(AND(J23>0,J23<31),J23+1,0)","v":0},0,0,0,0,0,0,null,{"$f":"IF(M24=0,0,L23+1)","v":0},{"$f":"IF(AND(S23>0,S23<$M$2),S23+1,0)","v":0},0,0,0,0,0,0,null,{"$f":"IF(V24=0,0,U23+1)","v":14},{"$f":"IF(AND(AB23>0,AB23<31),AB23+1,0)","v":31},0,0,0,0,0,0]
[null,null,null,null,null,null,null,null,null,null,null,null,null,null,null,{"$f":"IF(TODAY()=DATE(C15,2,14),\"Sinh Nhat Tam\",\"\")","v":""},0,0,0,null,null,null,null,null,null,null,null,null,null,null,null,2013]
[null,null,"THÁNG 4",null,null,null,null,null,null,null,null,"THÁNG 5",null,null,null,null,null,null,null,null,"THÁNG 6",null,null,null,null,null,null,null,null,null,null,{"$f":"AF25+1","v":2014}]
[null,null,"WK","SUN","MON","TUE","WED","THU","FRI","SAT",null,"WK","SUN","MON","TUE","WED","THU","FRI","SAT",null,"WK","SUN","MON","TUE","WED","THU","FRI","SAT",null,null,null,2015]
[null,null,{"$f":"IF(MIN(V22:AB22)=0,U22,IF(MIN(V23:AB23)=0,U23,IF(MIN(V24:AB24)=0,U23+1,0)))","v":14},{"$f":"IF($D$4=1,1,0)","v":0},{"$f":"IF($E$4=1,1, IF(D28>0,D28+1, 0))","v":1},{"$f":"IF($F$4=1,1, IF(E28>0,E28+1, 0))","v":2},{"$f":"IF($G$4=1,1, IF(F28>0,F28+1, 0))","v":3},{"$f":"IF($H$4=1,1, IF(G28>0,G28+1, 0))","v":4},{"$f":"IF($I$4=1,1, IF(H28>0,H28+1, 0))","v":5},{"$f":"IF($J$4=1,1, IF(I28>0,I28+1, 0))","v":6},null,{"$f":"IF(MIN(D31:J31)=0,C31,IF(MIN(D32:J32)=0,C32,IF(MIN(D33:J33)=0,C32+1,0)))","v":18},{"$f":"IF($M$4=1,1,0)","v":0},{"$f":"IF($N$4=1,1, IF(M28>0,M28+1, 0))","v":0},{"$f":"IF($O$4=1,1, IF(N28>0,N28+1, 0))","v":0},{"$f":"IF($P$4=1,1, IF(O28>0,O28+1, 0))","v":1},{"$f":"IF($Q$4=1,1, IF(P28>0,P28+1, 0))","v":2},{"$f":"IF($R$4=1,1, IF(Q28>0,Q28+1, 0))","v":3},{"$f":"IF($S$4=1,1, IF(R28>0,R28+1, 0))","v":4},null,{"$f":"IF(MIN(M31:S31)=0,L31,IF(MIN(M32:S32)=0,L32,IF(MIN(M33:S33)=0,L32+1,0)))","v":22},{"$f":"IF($V$4=1,1,0)","v":0},{"$f":"IF($W$4=1,1, IF(V28>0,V28+1, 0))","v":0},{"$f":"IF($X$4=1,1, IF(W28>0,W28+1, 0))","v":0},{"$f":"IF($Y$4=1,1, IF(X28>0,X28+1, 0))","v":0},{"$f":"IF($Z$4=1,1, IF(Y28>0,Y28+1, 0))","v":0},{"$f":"IF($AA$4=1,1, IF(Z28>0,Z28+1, 0))","v":0},{"$f":"IF($AB$4=1,1, IF(AA28>0,AA28+1, 0))","v":1},null,null,null,2016]
[null,null,{"$f":"C28+1","v":15},{"$f":"IF(AND(J28>0,J28<30),J28+1,0)","v":7},{"$f":"IF(AND(D29>0,D29<30),D29+1,0)","v":8},9,10,11,12,13,null,{"$f":"L28+1","v":19},{"$f":"IF(AND(S28>0,S28<31),S28+1,0)","v":5},{"$f":"IF(AND(M29>0,M29<31),M29+1,0)","v":6},7,8,9,10,11,null,{"$f":"U28+1","v":23},{"$f":"IF(AND(AB28>0,AB28<30),AB28+1,0)","v":2},{"$f":"IF(AND(V29>0,V29<30),V29+1,0)","v":3},4,5,6,7,8,null,null,null,2017]
[null,null,{"$f":"C29+1","v":16},{"$f":"IF(AND(J29>0,J29<30),J29+1,0)","v":14},15,16,17,18,19,20,null,{"$f":"L29+1","v":20},{"$f":"IF(AND(S29>0,S29<31),S29+1,0)","v":12},13,14,15,16,17,18,null,{"$f":"U29+1","v":24},{"$f":"IF(AND(AB29>0,AB29<30),AB29+1,0)","v":9},10,11,12,13,14,15,null,null,null,2018]
[null,null,{"$f":"C30+1","v":17},{"$f":"IF(AND(J30>0,J30<30),J30+1,0)","v":21},22,23,24,25,26,27,null,{"$f":"L30+1","v":21},{"$f":"IF(AND(S30>0,S30<31),S30+1,0)","v":19},20,21,22,23,24,25,null,{"$f":"U30+1","v":25},{"$f":"IF(AND(AB30>0,AB30<30),AB30+1,0)","v":16},17,18,19,20,21,22,null,null,null,2019]
[null,null,{"$f":"C31+1","v":18},{"$f":"IF(AND(J31>0,J31<30),J31+1,0)","v":28},29,30,0,0,0,0,null,{"$f":"L31+1","v":22},{"$f":"IF(AND(S31>0,S31<31),S31+1,0)","v":26},27,28,29,30,31,0,null,{"$f":"U31+1","v":26},{"$f":"IF(AND(AB31>0,AB31<30),AB31+1,0)","v":23},24,25,26,27,28,29,null,null,null,2020]
[null,null,{"$f":"IF(D33=0,0,C32+1)","v":0},{"$f":"IF(AND(J32>0,J32<30),J32+1,0)","v":0},0,0,0,0,0,0,null,{"$f":"IF(M33=0,0,L32+1)","v":0},{"$f":"IF(AND(S32>0,S32<31),S32+1,0)","v":0},0,0,0,0,0,0,null,{"$f":"IF(V33=0,0,U32+1)","v":27},{"$f":"IF(AND(AB32>0,AB32<30),AB32+1,0)","v":30},0,0,0,0,0,0,null,null,null,2021]
[null,null,null,null,null,null,null,null,null,null,null,null,null,null,null,null,null,null,null,null,null,null,null,null,null,null,null,null,null,null,null,2022]
[null,null,"THÁNG 7",null,null,null,null,null,null,null,null,"THÁNG 8",null,null,null,null,null,null,null,null,"THÁNG 9",null,null,null,null,null,null,null,null,null,null,2023]
[null,null,"WK","SUN","MON","TUE","WED","THU","FRI","SAT",null,"WK","SUN","MON","TUE","WED","THU","FRI","SAT",null,"WK","SUN","MON","TUE","WED","THU","FRI","SAT",null,null,null,2024]
[null,null,{"$f":"IF(MIN(V31:AB31)=0,U31,IF(MIN(V32:AB32)=0,U32,IF(MIN(V33:AB33)=0,U32+1,0)))","v":27},{"$f":"IF($D$5=1,1,0)","v":0},{"$f":"IF($E$5=1,1, IF(D37>0,D37+1, 0))","v":1},{"$f":"IF($F$5=1,1, IF(E37>0,E37+1, 0))","v":2},{"$f":"IF($G$5=1,1, IF(F37>0,F37+1, 0))","v":3},{"$f":"IF($H$5=1,1, IF(G37>0,G37+1, 0))","v":4},{"$f":"IF($I$5=1,1, IF(H37>0,H37+1, 0))","v":5},{"$f":"IF($J$5=1,1, IF(I37>0,I37+1, 0))","v":6},null,{"$f":"IF(MIN(D40:J40)=0,C40,IF(MIN(D41:J41)=0,C41,IF(MIN(D42:J42)=0,C41+1,0)))","v":31},{"$f":"IF($M$5=1,1,0)","v":0},{"$f":"IF($N$5=1,1, IF(M37>0,M37+1, 0))","v":0},{"$f":"IF($O$5=1,1, IF(N37>0,N37+1, 0))","v":0},{"$f":"IF($P$5=1,1, IF(O37>0,O37+1, 0))","v":0},{"$f":"IF($Q$5=1,1, IF(P37>0,P37+1, 0))","v":1},{"$f":"IF($R$5=1,1, IF(Q37>0,Q37+1, 0))","v":2},{"$f":"IF($S$5=1,1, IF(R37>0,R37+1, 0))","v":3},null,{"$f":"IF(MIN(M40:S40)=0,L40,IF(MIN(M41:S41)=0,L41,IF(MIN(M42:S42)=0,L41+1,0)))","v":36},{"$f":"IF($V$5=1,1,0)","v":1},{"$f":"IF($W$5=1,1, IF(V37>0,V37+1, 0))","v":2},{"$f":"IF($X$5=1,1, IF(W37>0,W37+1, 0))","v":3},{"$f":"IF($Y$5=1,1, IF(X37>0,X37+1, 0))","v":4},{"$f":"IF($Z$5=1,1, IF(Y37>0,Y37+1, 0))","v":5},{"$f":"IF($AA$5=1,1, IF(Z37>0,Z37+1, 0))","v":6},{"$f":"IF($AB$5=1,1, IF(AA37>0,AA37+1, 0))","v":7},null,null,null,2025]
[null,null,{"$f":"C37+1","v":28},{"$f":"IF(AND(J37>0,J37<31),J37+1,0)","v":7},{"$f":"IF(AND(D38>0,D38<31),D38+1,0)","v":8},9,10,11,12,13,null,{"$f":"L37+1","v":32},{"$f":"IF(AND(S37>0,S37<31),S37+1,0)","v":4},{"$f":"IF(AND(M38>0,M38<31),M38+1,0)","v":5},6,7,8,9,10,null,{"$f":"U37+1","v":37},{"$f":"IF(AND(AB37>0,AB37<30),AB37+1,0)","v":8},{"$f":"IF(AND(V38>0,V38<30),V38+1,0)","v":9},10,11,12,13,14,null,null,null,2026]
[null,null,{"$f":"C38+1","v":29},{"$f":"IF(AND(J38>0,J38<31),J38+1,0)","v":14},15,16,17,18,19,20,null,{"$f":"L38+1","v":33},{"$f":"IF(AND(S38>0,S38<31),S38+1,0)","v":11},12,13,14,15,16,17,null,{"$f":"U38+1","v":38},{"$f":"IF(AND(AB38>0,AB38<30),AB38+1,0)","v":15},16,17,18,19,20,21,null,null,null,2027]
[null,null,{"$f":"C39+1","v":30},{"$f":"IF(AND(J39>0,J39<31),J39+1,0)","v":21},22,23,24,25,26,27,null,{"$f":"L39+1","v":34},{"$f":"IF(AND(S39>0,S39<31),S39+1,0)","v":18},19,20,21,22,23,24,null,{"$f":"U39+1","v":39},{"$f":"IF(AND(AB39>0,AB39<30),AB39+1,0)","v":22},23,24,25,26,27,28,null,null,null,2028]
[null,null,{"$f":"C40+1","v":31},{"$f":"IF(AND(J40>0,J40<31),J40+1,0)","v":28},29,30,31,0,0,0,null,{"$f":"L40+1","v":35},{"$f":"IF(AND(S40>0,S40<31),S40+1,0)","v":25},26,27,28,29,30,31,null,{"$f":"U40+1","v":40},{"$f":"IF(AND(AB40>0,AB40<30),AB40+1,0)","v":29},30,0,0,0,0,0,null,null,null,2029]
[null,null,{"$f":"IF(D42=0,0,C41+1)","v":0},{"$f":"IF(AND(J41>0,J41<31),J41+1,0)","v":0},0,0,0,0,0,0,null,{"$f":"IF(M42=0,0,L41+1)","v":0},{"$f":"IF(AND(S41>0,S41<31),S41+1,0)","v":0},0,0,0,0,0,0,null,{"$f":"IF(V42=0,0,U41+1)","v":0},{"$f":"IF(AND(AB41>0,AB41<30),AB41+1,0)","v":0},0,0,0,0,0,0,null,null,null,2030]
[null,null,null,null,null,null,null,null,null,null,null,null,null,null,null,null,null,null,null,null,null,null,null,null,null,null,null,null,null,null,null,2031]
[null,null,"THÁNG 10",null,null,null,null,null,null,null,null,"THÁNG 11",null,null,null,null,null,null,null,null,"THÁNG 12",null,null,null,null,null,null,null,null,null,null,2032]
[null,null,"WK","SUN","MON","TUE","WED","THU","FRI","SAT",null,"WK","SUN","MON","TUE","WED","THU","FRI","SAT",null,"WK","SUN","MON","TUE","WED","THU","FRI","SAT",null,null,null,2033]
[null,null,{"$f":"IF(MIN(V40:AB40)=0,U40,IF(MIN(V41:AB41)=0,U41,IF(MIN(V42:AB42)=0,U41+1,0)))","v":40},{"$f":"IF($D$6=1,1,0)","v":0},{"$f":"IF($E$6=1,1, IF(D46>0,D46+1, 0))","v":0},{"$f":"IF($F$6=1,1, IF(E46>0,E46+1, 0))","v":1},{"$f":"IF($G$6=1,1, IF(F46>0,F46+1, 0))","v":2},{"$f":"IF($H$6=1,1, IF(G46>0,G46+1, 0))","v":3},{"$f":"IF($I$6=1,1, IF(H46>0,H46+1, 0))","v":4},{"$f":"IF($J$6=1,1, IF(I46>0,I46+1, 0))","v":5},null,{"$f":"IF(MIN(D49:J49)=0,C49,IF(MIN(D50:J50)=0,C50,IF(MIN(D51:J51)=0,C50+1,0)))","v":44},{"$f":"IF($M$6=1,1,0)","v":0},{"$f":"IF($N$6=1,1, IF(M46>0,M46+1, 0))","v":0},{"$f":"IF($O$6=1,1, IF(N46>0,N46+1, 0))","v":0},{"$f":"IF($P$6=1,1, IF(O46>0,O46+1, 0))","v":0},{"$f":"IF($Q$6=1,1, IF(P46>0,P46+1, 0))","v":0},{"$f":"IF($R$6=1,1, IF(Q46>0,Q46+1, 0))","v":1},{"$f":"IF($S$6=1,1, IF(R46>0,R46+1, 0))","v":2},null,{"$f":"IF(MIN(M49:S49)=0,L49,IF(MIN(M50:S50)=0,L50,IF(MIN(M51:S51)=0,L50+1,0)))","v":49},{"$f":"IF($V$6=1,1,0)","v":1},{"$f":"IF($W$6=1,1, IF(V46>0,V46+1, 0))","v":2},{"$f":"IF($X$6=1,1, IF(W46>0,W46+1, 0))","v":3},{"$f":"IF($Y$6=1,1, IF(X46>0,X46+1, 0))","v":4},{"$f":"IF($Z$6=1,1, IF(Y46>0,Y46+1, 0))","v":5},{"$f":"IF($AA$6=1,1, IF(Z46>0,Z46+1, 0))","v":6},{"$f":"IF($AB$6=1,1, IF(AA46>0,AA46+1, 0))","v":7},null,null,null,2034]
[null,null,{"$f":"C46+1","v":41},{"$f":"IF(AND(J46>0,J46<31),J46+1,0)","v":6},{"$f":"IF(AND(D47>0,D47<31),D47+1,0)","v":7},8,9,10,11,12,null,{"$f":"L46+1","v":45},{"$f":"IF(AND(S46>0,S46<30),S46+1,0)","v":3},{"$f":"IF(AND(M47>0,M47<30),M47+1,0)","v":4},5,6,7,8,9,null,{"$f":"U46+1","v":50},{"$f":"IF(AND(AB46>0,AB46<31),AB46+1,0)","v":8},{"$f":"IF(AND(V47>0,V47<31),V47+1,0)","v":9},10,11,12,13,14,null,null,null,2035]
[null,null,{"$f":"C47+1","v":42},{"$f":"IF(AND(J47>0,J47<31),J47+1,0)","v":13},14,15,16,17,18,19,null,{"$f":"L47+1","v":46},{"$f":"IF(AND(S47>0,S47<30),S47+1,0)","v":10},11,12,13,14,15,16,null,{"$f":"U47+1","v":51},{"$f":"IF(AND(AB47>0,AB47<31),AB47+1,0)","v":15},16,17,18,19,20,21,null,null,null,2036]
[null,null,{"$f":"C48+1","v":43},{"$f":"IF(AND(J48>0,J48<31),J48+1,0)","v":20},21,22,23,24,25,26,null,{"$f":"L48+1","v":47},{"$f":"IF(AND(S48>0,S48<30),S48+1,0)","v":17},18,19,20,21,22,23,null,{"$f":"U48+1","v":52},{"$f":"IF(AND(AB48>0,AB48<31),AB48+1,0)","v":22},23,24,25,26,27,28,null,null,null,2037]
[null,null,{"$f":"C49+1","v":44},{"$f":"IF(AND(J49>0,J49<31),J49+1,0)","v":27},28,29,30,31,0,0,null,{"$f":"L49+1","v":48},{"$f":"IF(AND(S49>0,S49<30),S49+1,0)","v":24},25,26,27,28,29,30,null,{"$f":"U49+1","v":53},{"$f":"IF(AND(AB49>0,AB49<31),AB49+1,0)","v":29},30,31,0,0,0,0,null,null,null,2038]
[null,null,{"$f":"IF(D51=0,0,C50+1)","v":0},{"$f":"IF(AND(J50>0,J50<31),J50+1,0)","v":0},0,0,0,0,0,0,null,{"$f":"IF(M51=0,0,L50+1)","v":0},{"$f":"IF(AND(S50>0,S50<30),S50+1,0)","v":0},0,0,0,0,0,0,null,{"$f":"IF(V51=0,0,U50+1)","v":0},{"$f":"IF(AND(AB50>0,AB50<31),AB50+1,0)","v":0},0,0,0,0,0,0,null,null,null,2039]
[null,null,null,null,null,null,null,null,null,null,null,null,null,null,null,null,null,null,null,null,null,null,null,null,null,null,null,null,null,null,null,2040]
[null,null,null,null,null,null,null,null,null,null,null,null,null,null,null,null,null,null,null,null,null,null,null,null,null,null,null,null,null,null,null,2041]
[null,null,null,null,null,null,null,null,null,null,null,null,null,null,null,null,null,null,null,null,null,null,null,null,null,null,null,null,null,null,null,2042]
[null,null,null,null,null,null,null,null,null,null,null,null,null,null,null,null,null,null,null,null,null,null,null,null,null,null,null,null,null,null,null,2043]
[null,null,null,null,null,null,null,null,null,null,null,null,null,null,null,null,null,null,null,null,null,null,null,null,null,null,null,null,null,null,null,2044]
[null,null,null,null,null,null,null,null,null,null,null,null,null,null,null,null,null,null,null,null,null,null,null,null,null,null,null,null,null,null,null,2045]
[null,null,null,null,null,null,null,null,null,null,null,null,null,null,null,null,null,null,null,null,null,null,null,null,null,null,null,null,null,null,null,2046]
[null,null,null,null,null,null,null,null,null,null,null,null,null,null,null,null,null,null,null,null,null,null,null,null,null,null,null,null,null,null,null,2047]
[null,null,null,null,null,null,null,null,null,null,null,null,null,null,null,null,null,null,null,null,null,null,null,null,null,null,null,null,null,null,null,2048]
[null,null,null,null,null,null,null,null,null,null,null,null,null,null,null,null,null,null,null,null,null,null,null,null,null,null,null,null,null,null,null,2049]
[null,null,null,null,null,null,null,null,null,null,null,null,null,null,null,null,null,null,null,null,null,null,null,null,null,null,null,null,null,null,null,2050]
[null,null,null,null,null,null,null,null,null,null,null,null,null,null,null,null,null,null,null,null,null,null,null,null,null,null,null,null,null,null,null,2051]
[null,null,null,null,null,null,null,null,null,null,null,null,null,null,null,null,null,null,null,null,null,null,null,null,null,null,null,null,null,null,null,2052]
[null,null,null,null,null,null,null,null,null,null,null,null,null,null,null,null,null,null,null,null,null,null,null,null,null,null,null,null,null,null,null,2053]
[null,null,null,null,null,null,null,null,null,null,null,null,null,null,null,null,null,null,null,null,null,null,null,null,null,null,null,null,null,null,null,2054]
[null,null,null,null,null,null,null,null,null,null,null,null,null,null,null,null,null,null,null,null,null,null,null,null,null,null,null,null,null,null,null,2055]
[null,null,null,null,null,null,null,null,null,null,null,null,null,null,null,null,null,null,null,null,null,null,null,null,null,null,null,null,null,null,null,2056]
[null,null,null,null,null,null,null,null,null,null,null,null,null,null,null,null,null,null,null,null,null,null,null,null,null,null,null,null,null,null,null,2057]
[null,null,null,null,null,null,null,null,null,null,null,null,null,null,null,null,null,null,null,null,null,null,null,null,null,null,null,null,null,null,null,2058]
[null,null,null,null,null,null,null,null,null,null,null,null,null,null,null,null,null,null,null,null,null,null,null,null,null,null,null,null,null,null,null,2059]
[null,null,null,null,null,null,null,null,null,null,null,null,null,null,null,null,null,null,null,null,null,null,null,null,null,null,null,null,null,null,null,2060]
[null,null,null,null,null,null,null,null,null,null,null,null,null,null,null,null,null,null,null,null,null,null,null,null,null,null,null,null,null,null,null,2061]
[null,null,null,null,null,null,null,null,null,null,null,null,null,null,null,null,null,null,null,null,null,null,null,null,null,null,null,null,null,null,null,2062]
[null,null,null,null,null,null,null,null,null,null,null,null,null,null,null,null,null,null,null,null,null,null,null,null,null,null,null,null,null,null,null,2063]
[null,null,null,null,null,null,null,null,null,null,null,null,null,null,null,null,null,null,null,null,null,null,null,null,null,null,null,null,null,null,null,2064]
[null,null,null,null,null,null,null,null,null,null,null,null,null,null,null,null,null,null,null,null,null,null,null,null,null,null,null,null,null,null,null,2065]
[null,null,null,null,null,null,null,null,null,null,null,null,null,null,null,null,null,null,null,null,null,null,null,null,null,null,null,null,null,null,null,2066]
[null,null,null,null,null,null,null,null,null,null,null,null,null,null,null,null,null,null,null,null,null,null,null,null,null,null,null,null,null,null,null,2067]

{"sheet":"Bang luong","index":19,"n_rows":1048236,"n_cols":16360,"rows_kept":33,"cut":true,"hidden":false,"merged":[[7,2,7,22],[8,2,8,22],[9,2,11,2],[9,3,11,3],[9,4,11,4],[9,5,11,5],[9,6,11,6],[9,7,11,7],[9,8,11,8],[9,9,9,11],[9,21,11,21],[9,22,9,23],[10,19,10,20],[10,22,11,22],[10,23,11,23],[10,9,11,9],[46,22,46,23],[10,10,11,10],[10,11,11,11],[10,17,10,18],[9,12,11,12],[9,13,9,16],[9,17,9,20],[47,8,47,11],[47,22,47,23],[48,22,48,23],[53,8,53,11],[53,22,53,23]],"bounds":{"rows_first":15,"rows_last":3,"rows_between":15,"halvings":7}}
[]
[]
[]
[]
[null,null,{"$f":"Setup!F10","v":"Công ty TNHH Webkynang Việt Nam"},null,null,null,null,null,null,null,null,null,null,null,null,null,null,null,null,null,null,null,null,{"$f":"COLUMNS(D:V)","v":19}]
[null,null,{"$f":"Setup!F11","v":"Tầng 6, Tòa nhà Sannam, Duy Tân, Cầu Giấy, Hà Nội"}]
[]
[null,null,"BẢNG THANH TOÁN TIỀN LƯƠNG ",null,null,null,null,null,null,null,null,null,null,null,null,null,null,null,null,null,null,null,null,null,null,null,null,null,null,null,null,null,null,null,null,null,null,null,null,null,null,null,null,null,null,null,null,null,null,null,null,null,null,null,null,null,null,null,null,null,null,null,null,null,null,null,null,null,null,null,null,null,null,null,null,null,null,null,null,null,1]
[null,null,{"$f":"VLOOKUP(code_thang2,code_thang1,2,0)","v":"Tháng 01"},null,null,null,null,null,null,null,null,null,null,null,null,null,null,null,null,null,null,null,null,"ĐVT: VNĐ",null,null,null,null,null,null,null,null,null,null,null,null,null,null,null,null,null,null,null,null,null,null,null,null,null,null,null,null,null,null,null,null,null,null,null,null,null,null,null,null,null,null,null,null,null,null,null,null,null,null,null,null,null,null,null,null,{"$f":"\"T\"&CC8","v":"T1"}]
[null,null,"Số\nTT","Họ và Tên ","Chức vụ","Lương \nCB","Lương căn cứ Tham Gia BHXH, BHYT,BHTN","Ngày công","Lương tháng","Phụ cấp ",null,null,"Tổng thu\n nhập tháng","Các Khoản Khấu Trừ Vào Lương",null,null,null,"THUẾ THU NHẬP CÁ NHÂN",null,null,null,"Tạm ứng","THỰC LĨNH"]
[null,null,null,null,null,null,null,null,null,"Trách nhiệm","Tiền cơm","Tổng",null,"BHXH","BHYT","BHTN","Tổng","Giảm trừ phụ thuộc",null,"Thuế TNCN",null,null,"Số tiền ","Ký \nnhận"]
[null,null,null,null,null,null,null,null,null,null,null,null,null,{"$f":"BHXH","v":0.08},{"$f":"BHYT","v":1.4999999999999999E-2},{"$f":"BHTN","v":0.01},{"$f":"SUM(N12:P12)","v":0.105},"Số người","Số tiền","TN chịu thuế","Tiền thuế TNCN"]
[]
[null,null,1,{"$f":"'Danh muc nhan vien'!E12","v":"Trần Văn Tám"},{"$f":"IF(ISNA(VLOOKUP($D14,DSNV,2,0)),\"\",VLOOKUP($D14,DSNV,2,0))","v":"Giám Đốc"},{"$f":"IF(ISNA(VLOOKUP($D14,DSNV,8+RIGHT(code_thang2,LEN(code_thang2)-1),0)),0,VLOOKUP($D14,DSNV,8+RIGHT(code_thang2,LEN(code_thang2)-1),0))","v":100000000},{"$f":"IF(ISNA(VLOOKUP($D14,DSNV,21+RIGHT(code_thang2,LEN(code_thang2)-1),0)),0,VLOOKUP($D14,DSNV,21+RIGHT(code_thang2,LEN(code_thang2)-1),0))","v":23000000},{"$f":"VLOOKUP($D14,BCC,39,0)","v":2},{"$f":"ROUND(F14/NTL*H14,0)","v":7407407},{"$f":"IF(ISNA(VLOOKUP($D14,DSNV,34+RIGHT(code_thang2,LEN(code_thang2)-1),0)),0,VLOOKUP($D14,DSNV,34+RIGHT(code_thang2,LEN(code_thang2)-1),0))","v":1000000},{"$f":"IF(ISNA(VLOOKUP($D14,DSNV,47+RIGHT(code_thang2,LEN(code_thang2)-1),0)),0,VLOOKUP($D14,DSNV,47+RIGHT(code_thang2,LEN(code_thang2)-1),0))","v":500000},{"$f":"ROUND(SUM(J14:K14),0)","v":1500000},{"$f":"ROUND(I14+L14,0)","v":8907407},{"$f":"ROUND($G14*$N$12,0)","v":1840000},{"$f":"ROUND($G14*$O$12,0)","v":345000},{"$f":"ROUND($G14*$P$12,0)","v":230000},{"$f":"SUM(N14:P14)","v":2415000},{"$f":"IF(ISNA(VLOOKUP($D14,DSNV,7,0)),0,VLOOKUP($D14,DSNV,7,0))","v":2},{"$f":"R14*Giamtru_NT","v":7200000},{"$f":"IF(M14-Q14-S14-K14>Giamtru_BT,M14-Q14-Giamtru_NT-S14-K14+IF(K14>680000,(K14-680000),0),0)","v":0},{"$f":"IF(T14<=Bac_1,T14*thueBac_1,IF(T14<=Bac_2,(T14-Bac_1)*Thuebac_2+thuebac_21,IF(T14<=Bac_3,(T14-Bac_2)*Thuebac_3+thuebac_31,IF(T14<=Bac_4,(T14-Bac_3)*THuebac_4+thuebac_41,IF(T14<=Bac_5,(T14-Bac_4)*Thuebac_5+thuebac_51,IF(T14<=Bac_6,(T14-Bac_5)*THuebac_6+thuebac_61,(T14-Bac_6)*Thuebac_7+thuebac_71))))))","v":0},{"$f":"IF(ISNA(VLOOKUP($D14,DSNV,60+RIGHT(code_thang2,LEN(code_thang2)-1),0)),0,VLOOKUP($D14,DSNV,60+RIGHT(code_thang2,LEN(code_thang2)-1),0))","v":1000000},{"$f":"ROUND(M14-Q14-U14-V14,0)","v":5492407}]
[null,null,{"$f":"IF(D15=\"\",\"\",C14+1)","v":2},{"$f":"'Danh muc nhan vien'!E13","v":"Đặng Văn Thành"},"Phó GĐ",70000000,23000000,0,0,700000,500000,{"$f":"ROUND(SUM(J15:K15),0)","v":1200000},{"$f":"ROUND(I15+L15,0)","v":1200000},{"$f":"ROUND($G15*$N$12,0)","v":1840000},345000,230000,{"$f":"SUM(N15:P15)","v":2415000},2,7200000,{"$f":"IF(M15-Q15-S15-K15>9000000,M15-Q15-9000000-S15-K15+IF(K15>680000,(K15-680000),0),0)","v":0},0,0,-1215000]
[]
[]
[]
[]
[]
[]
[]
[]
[]
[]
[]
[]
[]
[]
[]
[null,null,null,null,null,null,null,null,null,null,null,null,null,null,null,null,null,null,null,null,null,null,null,null,null,null,null,null,null,null,null,null,null,null,null,null,null,null,null,null,null,null,null,null,null,null,null,null,null,null,null,null,null,null,null,null,null,null,null,null,null,null,null,null,null,null,null,null,null,null,null,null,null,null,null,null,null,null,null,null,null,null,null,null,null,null,null,null,null,null,null,null,null,null,null,null,null,null,null,null,null,null,null,null,null,null,null,null,null,null,null,null,null,null,null,null,null,null,null,null,null,null,null,null,null,null,null,null,null,null,null,null,null,null,null,null,null,null,null,null,null,null,null,null,null,null,null,null,null,null,null,null,null,null,null,null,null,null,null,null,null,null,null,null,null,null,null,null,null,null,null,null,null,null,null,null,null,null,null,null,null,null,null,null,null,null,null,null,null,null,null,null,null,null,null,null,null,null,null,null,null,null,null,null,null,null,null,null,null,null,null,null,null,null,null,null,null,null,null,null,null,null,null,null,null,null,null,null,null,null,null,null,null,null,null,null,null,null,null,null,null,null,null,null,null,null,null,null,null,null,null,null,null,null,null,null,null,null,null,null,null,null,null,null,null,null,null,null,null,null,null,null,null,null,null,null,null,null,null,null,null,null,null,null,null,null,null,null,null,null,null,null,null,null,null,null,null,null,null,null,null,null,null,null,null,null,null,null,null,null,null,null,null,null,null,null,null,null,null,null,null,null,null,null,null,null,null,null,null,null,null,null,null,null,null,null,null,null,null,null,null,null,null,null,null,null,null,null,null,null,null,null,null,null,null,null,null,null,null,null,null,null,null,null,null,null,null,null,null,null,null,null,null,null,null,null,null,null,null,null,null,null,null,null,null,null,null,null,null,null,null,null,null,null,null,null,null,null,null,null,null,null,null,null,null,null,null,null,null,null,null,null,null,null,null,null,null,null,null,null,null,null,null,null,null,null,null,null,null,null,null,null,null,null,null,null,null,null,null,null,null,null,null,null,null,null,null,null,null,null,null,null,null,null,null,null,null,null,null,null,null,null,null,null,null,null,null,null,null,null,null,null,null,null,null,null,null,null,null,null,null,null,null,null,null,null,null,null,null,null,null,null,null,null,null,null,null,null,null,null,null,null,null,null,null,null,null,null,null,null,null,null,null,null,null,null,null,null,null,null,null,null,null,null,null,null,null,null,null,null,null,null,null,null,null,null,null,null,null,null,null,null,null,null,null,null,null,null,null,null,null,null,null,null,null,null,null,null,null,null,null,null,null,null,null,null,null,null,null,null,null,null,null,null,null,null,null,null,null,null,null,null,null,null,null,null,null,null,null,null,null,null,null,null,null,null,null,null,null,null,null,null,null,null,null,null,null,null,null,null,null,null,null,null,null,null,null,null,null,null,null,null,null,null,null,null,null,null,null,null,null,null,null,null,null,null,null,null,null,null,null,null,null,null,null,null,null,null,null,null,null,null,null,null,null,null,null,null,null,null,null,null,null,null,null,null,null,null,null,null,null,null,null,null,null,null,null,null,null,null,null,null,null,null,null,null,null,null,null,null,null,null,null,null,null,null,null,null,null,null,null,null,null,null,null,null,null,null,null,null,null,null,null,null,null,null,null,null,null,null,null,null,null,null,null,null,null,null,null,null,null,null,null,null,null,null,null,null,null,null,null,null,null,null,null,null,null,null,null,null,null,null,null,null,null,null,null,null,null,null,null,null,null,null,null,null,null,null,null,null,null,null,null,null,null,null,null,null,null,null,null,null,null,null,null,null,null,null,null,null,null,null,null,null,null,null,null,null,null,null,null,null,null,null,null,null,null,null,null,null,null,null,null,null,null,null,null,null,null,null,null,null,null,null,null,null,null,null,null,null,null,null,null,null,null,null,null,null,null,null,null,null,null,null,null,null,null,null,null,null,null,null,null,null,null,null,null,null,null,null,null,null,null,null,null,null,null,null,null,null,null,null,null,null,null,null,null,null,null,null,null,null,null,null,null,null,null,null,null,null,null,null,null,null,null,null,null,null,null,null,null,null,null,null,null,null,null,null,null,null,null,null,null,null,null,null,null,null,null,null,null,null,null,null,null,null,null,null,null,null,null,null,null,null,null,null,null,null,null,null,null,null,null,null,null,null,null,null,null,null,null,null,null,null,null,null,null,null,null,null,null,null,null,null,null,null,null,null,null,null,null,null,null,null,null,null,null,null,null,null,null,null,null,null,null,null,null,null,null,null,null,null,null,null,null,null,null,null,null,null,null,null,null,null,null,null,null,null,null,null,null,null,null,null,null,null,null,null,null,null,null,null,null,null,null,null,null,null,null,null,null,null,null,null,null,null,null,null,null,null,null,null,null,null,null,null,null,null,null,null,null,null,null,null,null,null,null,null,null,null,null,null,null,null,null,null,null,null,null,null,null,null,null,null,null,null,null,null,null,null,null,null,null,null,null,null,null,null,null,null,null,null,null,null,null,null,null,null,null,null,null,null,null,null,null,null,null,null,null,null,null,null,null,null,null,null,null,null,null,null,null,null,null,null,null,null,null,null,null,null,null,null,null,null,null,null,null,null,null,null,null,null,null,null,null,null,null,null,null,null,null,null,null,null,null,null,null,null,null,null,null,null,null,null,null,null,null,null,null,null,null,null,null,null,null,null,null,null,null,null,null,null,null,null,null,null,null,null,null,null,null,null,null,null,null,null,null,null,null,null,null,null,null,null,null,null,null,null,null,null,null,null,null,null,null,null,null,null,null,null,null,null,null,null,null,null,null,null,null,null,null,null,null,null,null,null,null,null,null,null,null,null,null,null,null,null,null,null,null,null,null,null,null,null,null,null,null,null,null,null,null,null,null,null,null,null,null,null,null,null,null,null,null,null,null,null,null,null,null,null,null,null,null,null,null,null,null,null,null,null,null,null,null,null,null,null,null,null,null,null,null,null,null,null,null,null,null,null,null,null,null,null,null,null,null,null,null,null,null,null,null,null,null,null,null,null,null,null,null,null,null,null,null,null,null,null,null,null,null,null,null,null,null,null,null,null,null,null,null,null,null,null,null,null,null,null,null,null,null,null,null,null,null,null,null,null,null,null,null,null,null,null,null,null,null,null,null,null,null,null,null,null,null,null,null,null,null,null,null,null,null,null,null,null,null,null,null,null,null,null,null,null,null,null,null,null,null,null,null,null,null,null,null,null,null,null,null,null,null,null,null,null,null,null,null,null,null,null,null,null,null,null,null,null,null,null,null,null,null,null,null,null,null,null,null,null,null,null,null,null,null,null,null,null,null,null,null,null,null,null,null,null,null,null,null,null,null,null,null,null,null,null,null,null,null,null,null,null,null,null,null,null,null,null,null,null,null,null,null,null,null,null,null,null,null,null,null,null,null,null,null,null,null,null,null,null,null,null,null,null,null,null,null,null,null,null,null,null,null,null,null,null,null,null,null,null,null,null,null,null,null,null,null,null,null,null,null,null,null,null,null,null,null,null,null,null,null,null,null,null,null,null,null,null,null,null,null,null,null,null,null,null,null,null,null,null,null,null,null,null,null,null,null,null,null,null,null,null,null,null,null,null,null,null,null,null,null,null,null,null,null,null,null,null,null,null,null,null,null,null,null,null,null,null,null,null,null,null,null,null,null,null,null,null,null,null,null,null,null,null,null,null,null,null,null,null,null,null,null,null,null,null,null,null,null,null,null,null,null,null,null,null,null,null,null,null,null,null,null,null,null,null,null,null,null,null,null,null,null,null,null,null,null,null,null,null,null,null,null,null,null,null,null,null,null,null,null,null,null,null,null,null,null,null,null,null,null,null,null,null,null,null,null,null,null,null,null,null,null,null,null,null,null,null,null,null,null,null,null,null,null,null,null,null,null,null,null,null,null,null,null,null,null,null,null,null,null,null,null,null,null,null,null,null,null,null,null,null,null,null,null,null,null,null,null,null,null,null,null,null,null,null,null,null,null,null,null,null,null,null,null,null,null,null,null,null,null,null,null,null,null,null,null,null,null,null,null,null,null,null,null,null,null,null,null,null,null,null,null,null,null,null,null,null,null,null,null,null,null,null,null,null,null,null,null,null,null,null,null,null,null,null,null,null,null,null,null,null,null,null,null,null,null,null,null,null,null,null,null,null,null,null,null,null,null,null,null,null,null,null,null,null,null,null,null,null,null,null,null,null,null,null,null,null,null,null,null,null,null,null,null,null,null,null,null,null,null,null,null,null,null,null,null,null,null,null,null,null,null,null,null,null,null,null,null,null,null,null,null,null,null,null,null,null,null,null,null,null,null,null,null,null,null,null,null,null,null,null,null,null,null,null,null,null,null,null,null,null,null,null,null,null,null,null,null,null,null,null,null,null,null,null,null,null,null,null,null,null,null,null,null,null,null,null,null,null,null,null,null,null,null,null,null,null,null,null,null,null,null,null,null,null,null,null,null,null,null,null,null,null,null,null,null,null,null,null,null,null,null,null,null,null,null,null,null,null,null,null,null,null,null,null,null,null,null,null,null,null,null,null,null,null,null,null,null,null,null,null,null,null,null,null,null,null,null,null,null,null,null,null,null,null,null,null,null,null,null,null,null,null,null,null,null,null,null,null,null,null,null,null,null,null,null,null,null,null,null,null,null,null,null,null,null,null,null,null,null,null,null,null,null,null,null,null,null,null,null,null,null,null,null,null,null,null,null,null,null,null,null,null,null,null,null,null,null,null,null,null,null,null,null,null,null,null,null,null,null,null,null,null,null,null,null,null,null,null,null,null,null,null,null,null,null,null,null,null,null,null,null,null,null,null,null,null,null,null,null,null,null,null,null,null,null,null,null,null,null,null,null,null,null,null,null,null,null,null,null,null,null,null,null,null,null,null,null,null,null,null,null,null,null,null,null,null,null,null,null,null,null,null,null,null,null,null,null,null,null,null,null,null,null,null,null,null,null,null,null,null,null,null,null,null,null,null,null,null,null,null,null,null,null,null,null,null,null,null,null,null,null,null,null,null,null,null,null,null,null,null,null,null,null,null,null,null,null,null,null,null,null,null,null,null,null,null,null,null,null,null,null,null,null,null,null,null,null,null,null,null,null,null,null,null,null,null,null,null,null,null,null,null,null,null,null,null,null,null,null,null,null,null,null,null,null,null,null,null,null,null,null,null,null,null,null,null,null,null,null,null,null,null,null,null,null,null,null,null,null,null,null,null,null,null,null,null,null,null,null,null,null,null,null,null,null,null,null,null,null,null,null,null,null,null,null,null,null,null,null,null,null,null,null,null,null,null,null,null,null,null,null,null,null,null,null,null,null,null,null,null,null,null,null,null,null,null,null,null,null,null,null,null,null,null,null,null,null,null,null,null,null,null,null,null,null,null,null,null,null,null,null,null,null,null,null,null,null,null,null,null,null,null,null,null,null,null,null,null,null,null,null,null,null,null,null,null,null,null,null,null,null,null,null,null,null,null,null,null,null,null,null,null,null,null,null,null,null,null,null,null,null,null,null,null,null,null,null,null,null,null,null,null,null,null,null,null,null,null,null,null,null,null,null,null,null,null,null,null,null,null,null,null,null,null,null,null,null,null,null,null,null,null,null,null,null,null,null,null,null,null,null,null,null,null,null,null,null,null,null,null,null,null,null,null,null,null,null,null,null,null,null,null,null,null,null,null,null,null,null,null,null,null,null,null,null,null,null,null,null,null,null,null,null,null,null,null,null,null,null,null,null,null,null,null,null,null,null,null,null,null,null,null,null,null,null,null,null,null,null,null,null,null,null,null,null,null,null,null,null,null,null,null,null,null,null,null,null,null,null,null,null,null,null,null,null,null,null,null,null,null,null,null,null,null,null,null,null,null,null,null,null,null,null,null,null,null,null,null,null,null,null,null,null,null,null,null,null,null,null,null,null,null,null,null,null,null,null,null,null,null,null,null,null,null,null,null,null,null,null,null,null,null,null,null,null,null,null,null,null,null,null,null,null,null,null,null,null,null,null,null,null,null,null,null,null,null,null,null,null,null,null,null,null,null,null,null,null,null,null,null,null,null,null,null,null,null,null,null,null,null,null,null,null,null,null,null,null,null,null,null,null,null,null,null,null,null,null,null,null,null,null,null,null,null,null,null,null,null,null,null,null,null,null,null,null,null,null,null,null,null,null,null,null,null,null,null,null,null,null,null,null,null,null,null,null,null,null,null,null,null,null,null,null,null,null,null,null,null,null,null,null,null,null,null,null,null,null,null,null,null,null,null,null,null,null,null,null,null,null,null,null,null,null,null,null,null,null,null,null,null,null,null,null,null,null,null,null,null,null,null,null,null,null,null,null,null,null,null,null,null,null,null,null,null,null,null,null,null,null,null,null,null,null,null,null,null,null,null,null,null,null,null,null,null,null,null,null,null,null,null,null,null,null,null,null,null,null,null,null,null,null,null,null,null,null,null,null,null,null,null,null,null,null,null,null,null,null,null,null,null,null,null,null,null,null,null,null,null,null,null,null,null,null,null,null,null,null,null,null,null,null,null,null,null,null,null,null,null,null,null,null,null,null,null,null,null,null,null,null,null,null,null,null,null,null,null,null,null,null,null,null,null,null,null,null,null,null,null,null,null,null,null,null,null,null,null,null,null,null,null,null,null,null,null,null,null,null,null,null,null,null,null,null,null,null,null,null,null,null,null,null,null,null,null,null,null,null,null,null,null,null,null,null,null,null,null,null,null,null,null,null,null,null,null,null,null,null,null,null,null,null,null,null,null,null,null,null,null,null,null,null,null,null,null,null,null,null,null,null,null,null,null,null,null,null,null,null,null,null,null,null,null,null,null,null,null,null,null,null,null,null,null,null,null,null,null,null,null,null,null,null,null,null,null,null,null,null,null,null,null,null,null,null,null,null,null,null,null,null,null,null,null,null,null,null,null,null,null,null,null,null,null,null,null,null,null,null,null,null,null,null,null,null,null,null,null,null,null,null,null,null,null,null,null,null,null,null,null,null,null,null,null,null,null,null,null,null,null,null,null,null,null,null,null,null,null,null,null,null,null,null,null,null,null,null,null,null,null,null,null,null,null,null,null,null,null,null,null,null,null,null,null,null,null,null,null,null,null,null,null,null,null,null,null,null,null,null,null,null,null,null,null,null,null,null,null,null,null,null,null,null,null,null,null,null,null,null,null,null,null,null,null,null,null,null,null,null,null,null,null,null,null,null,null,null,null,null,null,null,null,null,null,null,null,null,null,null,null,null,null,null,null,null,null,null,null,null,null,null,null,null,null,null,null,null,null,null,null,null,null,null,null,null,null,null,null,null,null,null,null,null,null,null,null,null,null,null,null,null,null,null,null,null,null,null,null,null,null,null,null,null,null,null,null,null,null,null,null,null,null,null,null,null,null,null,null,null,null,null,null,null,null,null,null,null,null,null,null,null,null,null,null,null,null,null,null,null,null,null,null,null,null,null,null,null,null,null,null,null,null,null,null,null,null,null,null,null,null,null,null,null,null,null,null,null,null,null,null,null,null,null,null,null,null,null,null,null,null,null,null,null,null,null,null,null,null,null,null,null,null,null,null,null,null,null,null,null,null,null,null,null,null,null,null,null,null,null,null,null,null,null,null,null,null,null,null,null,null,null,null,null,null,null,null,null,null,null,null,null,null,null,null,null,null,null,null,null,null,null,null,null,null,null,null,null,null,null,null,null,null,null,null,null,null,null,null,null,null,null,null,null,null,null,null,null,null,null,null,null,null,null,null,null,null,null,null,null,null,null,null,null,null,null,null,null,null,null,null,null,null,null,null,null,null,null,null,null,null,null,null,null,null,null,null,null,null,null,null,null,null,null,null,null,null,null,null,null,null,null,null,null,null,null,null,null,null,null,null,null,null,null,null,null,null,null,null,null,null,null,null,null,null,null,null,null,null,null,null,null,null,null,null,null,null,null,null,null,null,null,null,null,null,null,null,null,null,null,null,null,null,null,null,null,null,null,null,null,null,null,null,null,null,null,null,null,null,null,null,null,null,null,null,null,null,null,null,null,null,null,null,null,null,null,null,null,null,null,null,null,null,null,null,null,null,null,null,null,null,null,null,null,null,null,null,null,null,null,null,null,null,null,null,null,null,null,null,null,null,null,null,null,null,null,null,null,null,null,null,null,null,null,null,null,null,null,null,null,null,null,null,null,null,null,null,null,null,null,null,null,null,null,null,null,null,null,null,null,null,null,null,null,null,null,null,null,null,null,null,null,null,null,null,null,null,null,null,null,null,null,null,null,null,null,null,null,null,null,null,null,null,null,null,null,null,null,null,null,null,null,null,null,null,null,null,null,null,null,null,null,null,null,null,null,null,null,null,null,null,null,null,null,null,null,null,null,null,null,null,null,null,null,null,null,null,null,null,null,null,null,null,null,null,null,null,null,null,null,null,null,null,null,null,null,null,null,null,null,null,null,null,null,null,null,null,null,null,null,null,null,null,null,null,null,null,null,null,null,null,null,null,null,null,null,null,null,null,null,null,null,null,null,null,null,null,null,null,null,null,null,null,null,null,null,null,null,null,null,null,null,null,null,null,null,null,null,null,null,null,null,null,null,null,null,null,null,null,null,null,null,null,null,null,null,null,null,null,null,null,null,null,null,null,null,null,null,null,null,null,null,null,null,null,null,null,null,null,null,null,null,null,null,null,null,null,null,null,null,null,null,null,null,null,null,null,null,null,null,null,null,null,null,null,null,null,null,null,null,null,null,null,null,null,null,null,null,null,null,null,null,null,null,null,null,null,null,null,null,null,null,null,null,null,null,null,null,null,null,null,null,null,null,null,null,null,null,null,null,null,null,null,null,null,null,null,null,null,null,null,null,null,null,null,null,null,null,null,null,null,null,null,null,null,null,null,null,null,null,null,null,null,null,null,null,null,null,null,null,null,null,null,null,null,null,null,null,null,null,null,null,null,null,null,null,null,null,null,null,null,null,null,null,null,null,null,null,null,null,null,null,null,null,null,null,null,null,null,null,null,null,null,null,null,null,null,null,null,null,null,null,null,null,null,null,null,null,null,null,null,null,null,null,null,null,null,null,null,null,null,null,null,null,null,null,null,null,null,null,null,null,null,null,null,null,null,null,null,null,null,null,null,null,null,null,null,null,null,null,null,null,null,null,null,null,null,null,null,null,null,null,null,null,null,null,null,null,null,null,null,null,null,null,null,null,null,null,null,null,null,null,null,null,null,null,null,null,null,null,null,null,null,null,null,null,null,null,null,null,null,null,null,null,null,null,null,null,null,null,null,null,null,null,null,null,null,null,null,null,null,null,null,null,null,null,null,null,null,null,null,null,null,null,null,null,null,null,null,null,null,null,null,null,null,null,null,null,null,null,null,null,null,null,null,null,null,null,null,null,null,null,null,null,null,null,null,null,null,null,null,null,null,null,null,null,null,null,null,null,null,null,null,null,null,null,null,null,null,null,null,null,null,null,null,null,null,null,null,null,null,null,null,null,null,null,null,null,null,null,null,null,null,null,null,null,null,null,null,null,null,null,null,null,null,null,null,null,null,null,null,null,null,null,null,null,null,null,null,null,null,null,null,null,null,null,null,null,null,null,null,null,null,null,null,null,null,null,null,null,null,null,null,null,null,null,null,null,null,null,null,null,null,null,null,null,null,null,null,null,null,null,null,null,null,null,null,null,null,null,null,null,null,null,null,null,null,null,null,null,null,null,null,null,null,null,null,null,null,null,null,null,null,null,null,null,null,null,null,null,null,null,null,null,null,null,null,null,null,null,null,null,null,null,null,null,null,null,null,null,null,null,null,null,null,null,null,null,null,null,null,null,null,null,null,null,null,null,null,null,null,null,null,null,null,null,null,null,null,null,null,null,null,null,null,null,null,null,null,null,null,null,null,null,null,null,null,null,null,null,null,null,null,null,null,null,null,null,null,null,null,null,null,null,null,null,null,null,null,null,null,null,null,null,null,null,null,null,null,null,null,null,null,null,null,null,null,null,null,null,null,null,null,null,null,null,null,null,null,null,null,null,null,null,null,null,null,null,null,null,null,null,null,null,null,null,null,null,null,null,null,null,null,null,null,null,null,null,null,null,null,null,null,null,null,null,null,null,null,null,null,null,null,null,null,null,null,null,null,null,null,null,null,null,null,null,null,null,null,null,null,null,null,null,null,null,null,null,null,null,null,null,null,null,null,null,null,null,null,null,null,null,null,null,null,null,null,null,null,null,null,null,null,null,null,null,null,null,null,null,null,null,null,null,null,null,null,null,null,null,null,null,null,null,null,null,null,null,null,null,null,null,null,null,null,null,null,null,null,null,null,null,null,null,null,null,null,null,null,null,null,null,null,null,null,null,null,null,null,null,null,null,null,null,null,null,null,null,null,null,null,null,null,null,null,null,null,null,null,null,null,null,null,null,null,null,null,null,null,null,null,null,null,null,null,null,null,null,null,null,null,null,null,null,null,null,null,null,null,null,null,null,null,null,null,null,null,null,null,null,null,null,null,null,null,null,null,null,null,null,null,null,null,null,null,null,null,null,null,null,null,null,null,null,null,null,null,null,null,null,null,null,null,null,null,null,null,null,null,null,null,null,null,null,null,null,null,null,null,null,null,null,null,null,null,null,null,null,null,null,null,null,null,null,null,null,null,null,null,null,null,null,null,null,null,null,null,null,null,null,null,null,null,null,null,null,null,null,null,null,null,null,null,null,null,null,null,null,null,null,null,null,null,null,null,null,null,null,null,null,null,null,null,null,null,null,null,null,null,null,null,null,null,null,null,null,null,null,null,null,null,null,null,null,null,null,null,null,null,null,null,null,null,null,null,null,null,null,null,null,null,null,null,null,null,null,null,null,null,null,null,null,null,null,null,null,null,null,null,null,null,null,null,null,null,null,null,null,null,null,null,null,null,null,null,null,null,null,null,null,null,null,null,null,null,null,null,null,null,null,null,null,null,null,null,null,null,null,null,null,null,null,null,null,null,null,null,null,null,null,null,null,null,null,null,null,null,null,null,null,null,null,null,null,null,null,null,null,null,null,null,null,null,null,null,null,null,null,null,null,null,null,null,null,null,null,null,null,null,null,null,null,null,null,null,null,null,null,null,null,null,null,null,null,null,null,null,null,null,null,null,null,null,null,null,null,null,null,null,null,null,null,null,null,null,null,null,null,null,null,null,null,null,null,null,null,null,null,null,null,null,null,null,null,null,null,null,null,null,null,null,null,null,null,null,null,null,null,null,null,null,null,null,null,null,null,null,null,null,null,null,null,null,null,null,null,null,null,null,null,null,null,null,null,null,null,null,null,null,null,null,null,null,null,null,null,null,null,null,null,null,null,null,null,null,null,null,null,null,null,null,null,null,null,null,null,null,null,null,null,null,null,null,null,null,null,null,null,null,null,null,null,null,null,null,null,null,null,null,null,null,null,null,null,null,null,null,null,null,null,null,null,null,null,null,null,null,null,null,null,null,null,null,null,null,null,null,null,null,null,null,null,null,null,null,null,null,null,null,null,null,null,null,null,null,null,null,null,null,null,null,null,null,null,null,null,null,null,null,null,null,null,null,null,null,null,null,null,null,null,null,null,null,null,null,null,null,null,null,null,null,null,null,null,null,null,null,null,null,null,null,null,null,null,null,null,null,null,null,null,null,null,null,null,null,null,null,null,null,null,null,null,null,null,null,null,null,null,null,null,null,null,null,null,null,null,null,null,null,null,null,null,null,null,null,null,null,null,null,null,null,null,null,null,null,null,null,null,null,null,null,null,null,null,null,null,null,null,null,null,null,null,null,null,null,null,null,null,null,null,null,null,null,null,null,null,null,null,null,null,null,null,null,null,null,null,null,null,null,null,null,null,null,null,null,null,null,null,null,null,null,null,null,null,null,null,null,null,null,null,null,null,null,null,null,null,null,null,null,null,null,null,null,null,null,null,null,null,null,null,null,null,null,null,null,null,null,null,null,null,null,null,null,null,null,null,null,null,null,null,null,null,null,null,null,null,null,null,null,null,null,null,null,null,null,null,null,null,null,null,null,null,null,null,null,null,null,null,null,null,null,null,null,null,null,null,null,null,null,null,null,null,null,null,null,null,null,null,null,null,null,null,null,null,null,null,null,null,null,null,null,null,null,null,null,null,null,null,null,null,null,null,null,null,null,null,null,null,null,null,null,null,null,null,null,null,null,null,null,null,null,null,null,null,null,null,null,null,null,null,null,null,null,null,null,null,null,null,null,null,null,null,null,null,null,null,null,null,null,null,null,null,null,null,null,null,null,null,null,null,null,null,null,null,null,null,null,null,null,null,null,null,null,null,null,null,null,null,null,null,null,null,null,null,null,null,null,null,null,null,null,null,null,null,null,null,null,null,null,null,null,null,null,null,null,null,null,null,null,null,null,null,null,null,null,null,null,null,null,null,null,null,null,null,null,null,null,null,null,null,null,null,null,null,null,null,null,null,null,null,null,null,null,null,null,null,null,null,null,null,null,null,null,null,null,null,null,null,null,null,null,null,null,null,null,null,null,null,null,null,null,null,null,null,null,null,null,null,null,null,null,null,null,null,null,null,null,null,null,null,null,null,null,null,null,null,null,null,null,null,null,null,null,null,null,null,null,null,null,null,null,null,null,null,null,null,null,null,null,null,null,null,null,null,null,null,null,null,null,null,null,null,null,null,null,null,null,null,null,null,null,null,null,null,null,null,null,null,null,null,null,null,null,null,null,null,null,null,null,null,null,null,null,null,null,null,null,null,null,null,null,null,null,null,null,null,null,null,null,null,null,null,null,null,null,null,null,null,null,null,null,null,null,null,null,null,null,null,null,null,null,null,null,null,null,null,null,null,null,null,null,null,null,null,null,null,null,null,null,null,null,null,null,null,null,null,null,null,null,null,null,null,null,null,null,null,null,null,null,null,null,null,null,null,null,null,null,null,null,null,null,null,null,null,null,null,null,null,null,null,null,null,null,null,null,null,null,null,null,null,null,null,null,null,null,null,null,null,null,null,null,null,null,null,null,null,null,null,null,null,null,null,null,null,null,null,null,null,null,null,null,null,null,null,null,null,null,null,null,null,null,null,null,null,null,null,null,null,null,null,null,null,null,null,null,null,null,null,null,null,null,null,null,null,null,null,null,null,null,null,null,null,null,null,null,null,null,null,null,null,null,null,null,null,null,null,null,null,null,null,null,null,null,null,null,null,null,null,null,null,null,null,null,null,null,null,null,null,null,null,null,null,null,null,null,null,null,null,null,null,null,null,null,null,null,null,null,null,null,null,null,null,null,null,null,null,null,null,null,null,null,null,null,null,null,null,null,null,null,null,null,null,null,null,null,null,null,null,null,null,null,null,null,null,null,null,null,null,null,null,null,null,null,null,null,null,null,null,null,null,null,null,null,null,null,null,null,null,null,null,null,null,null,null,null,null,null,null,null,null,null,null,null,null,null,null,null,null,null,null,null,null,null,null,null,null,null,null,null,null,null,null,null,null,null,null,null,null,null,null,null,null,null,null,null,null,null,null,null,null,null,null,null,null,null,null,null,null,null,null,null,null,null,null,null,null,null,null,null,null,null,null,null,null,null,null,null,null,null,null,null,null,null,null,null,null,null,null,null,null,null,null,null,null,null,null,null,null,null,null,null,null,null,null,null,null,null,null,null,null,null,null,null,null,null,null,null,null,null,null,null,null,null,null,null,null,null,null,null,null,null,null,null,null,null,null,null,null,null,null,null,null,null,null,null,null,null,null,null,null,null,null,null,null,null,null,null,null,null,null,null,null,null,null,null,null,null,null,null,null,null,null,null,null,null,null,null,null,null,null,null,null,null,null,null,null,null,null,null,null,null,null,null,null,null,null,null,null,null,null,null,null,null,null,null,null,null,null,null,null,null,null,null,null,null,null,null,null,null,null,null,null,null,null,null,null,null,null,null,null,null,null,null,null,null,null,null,null,null,null,null,null,null,null,null,null,null,null,null,null,null,null,null,null,null,null,null,null,null,null,null,null,null,null,null,null,null,null,null,null,null,null,null,null,null,null,null,null,null,null,null,null,null,null,null,null,null,null,null,null,null,null,null,null,null,null,null,null,null,null,null,null,null,null,null,null,null,null,null,null,null,null,null,null,null,null,null,null,null,null,null,null,null,null,null,null,null,null,null,null,null,null,null,null,null,null,null,null,null,null,null,null,null,null,null,null,null,null,null,null,null,null,null,null,null,null,null,null,null,null,null,null,null,null,null,null,null,null,null,null,null,null,null,null,null,null,null,null,null,null,null,null,null,null,null,null,null,null,null,null,null,null,null,null,null,null,null,null,null,null,null,null,null,null,null,null,null,null,null,null,null,null,null,null,null,null,null,null,null,null,null,null,null,null,null,null,null,null,null,null,null,null,null,null,null,null,null,null,null,null,null,null,null,null,null,null,null,null,null,null,null,null,null,null,null,null,null,null,null,null,null,null,null,null,null,null,null,null,null,null,null,null,null,null,null,null,null,null,null,null,null,null,null,null,null,null,null,null,null,null,null,null,null,null,null,null,null,null,null,null,null,null,null,null,null,null,null,null,null,null,null,null,null,null,null,null,null,null,null,null,null,null,null,null,null,null,null,null,null,null,null,null,null,null,null,null,null,null,null,null,null,null,null,null,null,null,null,null,null,null,null,null,null,null,null,null,null,null,null,null,null,null,null,null,null,null,null,null,null,null,null,null,null,null,null,null,null,null,null,null,null,null,null,null,null,null,null,null,null,null,null,null,null,null,null,null,null,null,null,null,null,null,null,null,null,null,null,null,null,null,null,null,null,null,null,null,null,null,null,null,null,null,null,null,null,null,null,null,null,null,null,null,null,null,null,null,null,null,null,null,null,null,null,null,null,null,null,null,null,null,null,null,null,null,null,null,null,null,null,null,null,null,null,null,null,null,null,null,null,null,null,null,null,null,null,null,null,null,null,null,null,null,null,null,null,null,null,null,null,null,null,null,null,null,null,null,null,null,null,null,null,null,null,null,null,null,null,null,null,null,null,null,null,null,null,null,null,null,null,null,null,null,null,null,null,null,null,null,null,null,null,null,null,null,null,null,null,null,null,null,null,null,null,null,null,null,null,null,null,null,null,null,null,null,null,null,null,null,null,null,null,null,null,null,null,null,null,null,null,null,null,null,null,null,null,null,null,null,null,null,null,null,null,null,null,null,null,null,null,null,null,null,null,null,null,null,null,null,null,null,null,null,null,null,null,null,null,null,null,null,null,null,null,null,null,null,null,null,null,null,null,null,null,null,null,null,null,null,null,null,null,null,null,null,null,null,null,null,null,null,null,null,null,null,null,null,null,null,null,null,null,null,null,null,null,null,null,null,null,null,null,null,null,null,null,null,null,null,null,null,null,null,null,null,null,null,null,null,null,null,null,null,null,null,null,null,null,null,null,null,null,null,null,null,null,null,null,null,null,null,null,null,null,null,null,null,null,null,null,null,null,null,null,null,null,null,null,null,null,null,null,null,null,null,null,null,null,null,null,null,null,null,null,null,null,null,null,null,null,null,null,null,null,null,null,null,null,null,null,null,null,null,null,null,null,null,null,null,null,null,null,null,null,null,null,null,null,null,null,null,null,null,null,null,null,null,null,null,null,null,null,null,null,null,null,null,null,null,null,null,null,null,null,null,null,null,null,null,null,null,null,null,null,null,null,null,null,null,null,null,null,null,null,null,null,null,null,null,null,null,null,null,null,null,null,null,null,null,null,null,null,null,null,null,null,null,null,null,null,null,null,null,null,null,null,null,null,null,null,null,null,null,null,null,null,null,null,null,null,null,null,null,null,null,null,null,null,null,null,null,null,null,null,null,null,null,null,null,null,null,null,null,null,null,null,null,null,null,null,null,null,null,null,null,null,null,null,null,null,null,null,null,null,null,null,null,null,null,null,null,null,null,null,null,null,null,null,null,null,null,null,null,null,null,null,null,null,null,null,null,null,null,null,null,null,null,null,null,null,null,null,null,null,null,null,null,null,null,null,null,null,null,null,null,null,null,null,null,null,null,null,null,null,null,null,null,null,null,null,null,null,null,null,null,null,null,null,null,null,null,null,null,null,null,null,null,null,null,null,null,null,null,null,null,null,null,null,null,null,null,null,null,null,null,null,null,null,null,null,null,null,null,null,null,null,null,null,null,null,null,null,null,null,null,null,null,null,null,null,null,null,null,null,null,null,null,null,null,null,null,null,null,null,null,null,null,null,null,null,null,null,null,null,null,null,null,null,null,null,null,null,null,null,null,null,null,null,null,null,null,null,null,null,null,null,null,null,null,null,null,null,null,null,null,null,null,null,null,null,null,null,null,null,null,null,null,null,null,null,null,null,null,null,null,null,null,null,null,null,null,null,null,null,null,null,null,null,null,null,null,null,null,null,null,null,null,null,null,null,null,null,null,null,null,null,null,null,null,null,null,null,null,null,null,null,null,null,null,null,null,null,null,null,null,null,null,null,null,null,null,null,null,null,null,null,null,null,null,null,null,null,null,null,null,null,null,null,null,null,null,null,null,null,null,null,null,null,null,null,null,null,null,null,null,null,null,null,null,null,null,null,null,null,null,null,null,null,null,null,null,null,null,null,null,null,null,null,null,null,null,null,null,null,null,null,null,null,null,null,null,null,null,null,null,null,null,null,null,null,null,null,null,null,null,null,null,null,null,null,null,null,null,null,null,null,null,null,null,null,null,null,null,null,null,null,null,null,null,null,null,null,null,null,null,null,null,null,null,null,null,null,null,null,null,null,null,null,null,null,null,null,null,null,null,null,null,null,null,null,null,null,null,null,null,null,null,null,null,null,null,null,null,null,null,null,null,null,null,null,null,null,null,null,null,null,null,null,null,null,null,null,null,null,null,null,null,null,null,null,null,null,null,null,null,null,null,null,null,null,null,null,null,null,null,null,null,null,null,null,null,null,null,null,null,null,null,null,null,null,null,null,null,null,null,null,null,null,null,null,null,null,null,null,null,null,null,null,null,null,null,null,null,null,null,null,null,null,null,null,null,null,null,null,null,null,null,null,null,null,null,null,null,null,null,null,null,null,null,null,null,null,null,null,null,null,null,null,null,null,null,null,null,null,null,null,null,null,null,null,null,null,null,null,null,null,null,null,null,null,null,null,null,null,null,null,null,null,null,null,null,null,null,null,null,null,null,null,null,null,null,null,null,null,null,null,null,null,null,null,null,null,null,null,null,null,null,null,null,null,null,null,null,null,null,null,null,null,null,null,null,null,null,null,null,null,null,null,null,null,null,null,null,null,null,null,null,null,null,null,null,null,null,null,null,null,null,null,null,null,null,null,null,null,null,null,null,null,null,null,null,null,null,null,null,null,null,null,null,null,null,null,null,null,null,null,null,null,null,null,null,null,null,null,null,null,null,null,null,null,null,null,null,null,null,null,null,null,null,null,null,null,null,null,null,null,null,null,null,null,null,null,null,null,null,null,null,null,null,null,null,null,null,null,null,null,null,null,null,null,null,null,null,null,null,null,null,null,null,null,null,null,null,null,null,null,null,null,null,null,null,null,null,null,null,null,null,null,null,null,null,null,null,null,null,null,null,null,null,null,null,null,null,null,null,null,null,null,null,null,null,null,null,null,null,null,null,null,null,null,null,null,null,null,null,null,null,null,null,null,null,null,null,null,null,null,null,null,null,null,null,null,null,null,null,null,null,null,null,null,null,null,null,null,null,null,null,null,null,null,null,null,null,null,null,null,null,null,null,null,null,null,null,null,null,null,null,null,null,null,null,null,null,null,null,null,null,null,null,null,null,null,null,null,null,null,null,null,null,null,null,null,null,null,null,null,null,null,null,null,null,null,null,null,null,null,null,null,null,null,null,null,null,null,null,null,null,null,null,null,null,null,null,null,null,null,null,null,null,null,null,null,null,null,null,null,null,null,null,null,null,null,null,null,null,null,null,null,null,null,null,null,null,null,null,null,null,null,null,null,null,null,null,null,null,null,null,null,null,null,null,null,null,null,null,null,null,null,null,null,null,null,null,null,null,null,null,null,null,null,null,null,null,null,null,null,null,null,null,null,null,null,null,null,null,null,null,null,null,null,null,null,null,null,null,null,null,null,null,null,null,null,null,null,null,null,null,null,null,null,null,null,null,null,null,null,null,null,null,null,null,null,null,null,null,null,null,null,null,null,null,null,null,null,null,null,null,null,null,null,null,null,null,null,null,null,null,null,null,null,null,null,null,null,null,null,null,null,null,null,null,null,null,null,null,null,null,null,null,null,null,null,null,null,null,null,null,null,null,null,null,null,null,null,null,null,null,null,null,null,null,null,null,null,null,null,null,null,null,null,null,null,null,null,null,null,null,null,null,null,null,null,null,null,null,null,null,null,null,null,null,null,null,null,null,null,null,null,null,null,null,null,null,null,null,null,null,null,null,null,null,null,null,null,null,null,null,null,null,null,null,null,null,null,null,null,null,null,null,null,null,null,null,null,null,null,null,null,null,null,null,null,null,null,null,null,null,null,null,null,null,null,null,null,null,null,null,null,null,null,null,null,null,null,null,null,null,null,null,null,null,null,null,null,null,null,null,null,null,null,null,null,null,null,null,null,null,null,null,null,null,null,null,null,null,null,null,null,null,null,null,null,null,null,null,null,null,null,null,null,null,null,null,null,null,null,null,null,null,null,null,null,null,null,null,null,null,null,null,null,null,null,null,null,null,null,null,null,null,null,null,null,null,null,null,null,null,null,null,null,null,null,null,null,null,null,null,null,null,null,null,null,null,null,null,null,null,null,null,null,null,null,null,null,null,null,null,null,null,null,null,null,null,null,null,null,null,null,null,null,null,null,null,null,null,null,null,null,null,null,null,null,null,null,null,null,null,null,null,null,null,null,null,null,null,null,null,null,null,null,null,null,null,null,null,null,null,null,null,null,null,null,null,null,null,null,null,null,null,null,null,null,null,null,null,null,null,null,null,null,null,null,null,null,null,null,null,null,null,null,null,null,null,null,null,null,null,null,null,null,null,null,null,null,null,null,null,null,null,null,null,null,null,null,null,null,null,null,null,null,null,null,null,null,null,null,null,null,null,null,null,null,null,null,null,null,null,null,null,null,null,null,null,null,null,null,null,null,null,null,null,null,null,null,null,null,null,null,null,null,null,null,null,null,null,null,null,null,null,null,null,null,null,null,null,null,null,null,null,null,null,null,null,null,null,null,null,null,null,null,null,null,null,null,null,null,null,null,null,null,null,null,null,null,null,null,null,null,null,null,null,null,null,null,null,null,null,null,null,null,null,null,null,null,null,null,null,null,null,null,null,null,null,null,null,null,null,null,null,null,null,null,null,null,null,null,null,null,null,null,null,null,null,null,null,null,null,null,null,null,null,null,null,null,null,null,null,null,null,null,null,null,null,null,null,null,null,null,null,null,null,null,null,null,null,null,null,null,null,null,null,null,null,null,null,null,null,null,null,null,null,null,null,null,null,null,null,null,null,null,null,null,null,null,null,null,null,null,null,null,null,null,null,null,null,null,null,null,null,null,null,null,null,null,null,null,null,null,null,null,null,null,null,null,null,null,null,null,null,null,null,null,null,null,null,null,null,null,null,null,null,null,null,null,null,null,null,null,null,null,null,null,null,null,null,null,null,null,null,null,null,null,null,null,null,null,null,null,null,null,null,null,null,null,null,null,null,null,null,null,null,null,null,null,null,null,null,null,null,null,null,null,null,null,null,null,null,null,null,null,null,null,null,null,null,null,null,null,null,null,null,null,null,null,null,null,null,null,null,null,null,null,null,null,null,null,null,null,null,null,null,null,null,null,null,null,null,null,null,null,null,null,null,null,null,null,null,null,null,null,null,null,null,null,null,null,null,null,null,null,null,null,null,null,null,null,null,null,null,null,null,null,null,null,null,null,null,null,null,null,null,null,null,null,null,null,null,null,null,null,null,null,null,null,null,null,null,null,null,null,null,null,null,null,null,null,null,null,null,null,null,null,null,null,null,null,null,null,null,null,null,null,null,null,null,null,null,null,null,null,null,null,null,null,null,null,null,null,null,null,null,null,null,null,null,null,null,null,null,null,null,null,null,null,null,null,null,null,null,null,null,null,null,null,null,null,null,null,null,null,null,null,null,null,null,null,null,null,null,null,null,null,null,null,null,null,null,null,null,null,null,null,null,null,null,null,null,null,null,null,null,null,null,null,null,null,null,null,null,null,null,null,null,null,null,null,null,null,null,null,null,null,null,null,null,null,null,null,null,null,null,null,null,null,null,null,null,null,null,null,null,null,null,null,null,null,null,null,null,null,null,null,null,null,null,null,null,null,null,null,null,null,null,null,null,null,null,null,null,null,null,null,null,null,null,null,null,null,null,null,null,null,null,null,null,null,null,null,null,null,null,null,null,null,null,null,null,null,null,null,null,null,null,null,null,null,null,null,null,null,null,null,null,null,null,null,null,null,null,null,null,null,null,null,null,null,null,null,null,null,null,null,null,null,null,null,null,null,null,null,null,null,null,null,null,null,null,null,null,null,null,null,null,null,null,null,null,null,null,null,null,null,null,null,null,null,null,null,null,null,null,null,null,null,null,null,null,null,null,null,null,null,null,null,null,null,null,null,null,null,null,null,null,null,null,null,null,null,null,null,null,null,null,null,null,null,null,null,null,null,null,null,null,null,null,null,null,null,null,null,null,null,null,null,null,null,null,null,null,null,null,null,null,null,null,null,null,null,null,null,null,null,null,null,null,null,null,null,null,null,null,null,null,null,null,null,null,null,null,null,null,null,null,null,null,null,null,null,null,null,null,null,null,null,null,null,null,null,null,null,null,null,null,null,null,null,null,null,null,null,null,null,null,null,null,null,null,null,null,null,null,null,null,null,null,null,null,null,null,null,null,null,null,null,null,null,null,null,null,null,null,null,null,null,null,null,null,null,null,null,null,null,null,null,null,null,null,null,null,null,null,null,null,null,null,null,null,null,null,null,null,null,null,null,null,null,null,null,null,null,null,null,null,null,null,null,null,null,null,null,null,null,null,null,null,null,null,null,null,null,null,null,null,null,null,null,null,null,null,null,null,null,null,null,null,null,null,null,null,null,null,null,null,null,null,null,null,null,null,null,null,null,null,null,null,null,null,null,null,null,null,null,null,null,null,null,null,null,null,null,null,null,null,null,null,null,null,null,null,null,null,null,null,null,null,null,null,null,null,null,null,null,null,null,null,null,null,null,null,null,null,null,null,null,null,null,null,null,null,null,null,null,null,null,null,null,null,null,null,null,null,null,null,null,null,null,null,null,null,null,null,null,null,null,null,null,null,null,null,null,null,null,null,null,null,null,null,null,null,null,null,null,null,null,null,null,null,null,null,null,null,null,null,null,null,null,null,null,null,null,null,null,null,null,null,null,null,null,null,null,null,null,null,null,null,null,null,null,null,null,null,null,null,null,null,null,null,null,null,null,null,null,null,null,null,null,null,null,null,null,null,null,null,null,null,null,null,null,null,null,null,null,null,null,null,null,null,null,null,null,null,null,null,null,null,null,null,null,null,null,null,null,null,null,null,null,null,null,null,null,null,null,null,null,null,null,null,null,null,null,null,null,null,null,null,null,null,null,null,null,null,null,null,null,null,null,null,null,null,null,null,null,null,null,null,null,null,null,null,null,null,null,null,null,null,null,null,null,null,null,null,null,null,null,null,null,null,null,null,null,null,null,null,null,null,null,null,null,null,null,null,null,null,null,null,null,null,null,null,null,null,null,null,null,null,null,null,null,null,null,null,null,null,null,null,null,null,null,null,null,null,null,null,null,null,null,null,null,null,null,null,null,null,null,null,null,null,null,null,null,null,null,null,null,null,null,null,null,null,null,null,null,null,null,null,null,null,null,null,null,null,null,null,null,null,null,null,null,null,null,null,null,null,null,null,null,null,null,null,null,null,null,null,null,null,null,null,null,null,null,null,null,null,null,null,null,null,null,null,null,null,null,null,null,null,null,null,null,null,null,null,null,null,null,null,null,null,null,null,null,null,null,null,null,null,null,null,null,null,null,null,null,null,null,null,null,null,null,null,null,null,null,null,null,null,null,null,null,null,null,null,null,null,null,null,null,null,null,null,null,null,null,null,null,null,null,null,null,null,null,null,null,null,null,null,null,null,null,null,null,null,null,null,null,null,null,null,null,null,null,null,null,null,null,null,null,null,null,null,null,null,null,null,null,null,null,null,null,null,null,null,null,null,null,null,null,null,null,null,null,null,null,null,null,null,null,null,null,null,null,null,null,null,null,null,null,null,null,null,null,null,null,null,null,null,null,null,null,null,null,null,null,null,null,null,null,null,null,null,null,null,null,null,null,null,null,null,null,null,null,null,null,null,null,null,null,null,null,null,null,null,null,null,null,null,null,null,null,null,null,null,null,null,null,null,null,null,null,null,null,null,null,null,null,null,null,null,null,null,null,null,null,null,null,null,null,null,null,null,null,null,null,null,null,null,null,null,null,null,null,null,null,null,null,null,null,null,null,null,null,null,null,null,null,null,null,null,null,null,null,null,null,null,null,null,null,null,null,null,null,null,null,null,null,null,null,null,null,null,null,null,null,null,null,null,null,null,null,null,null,null,null,null,null,null,null,null,null,null,null,null,null,null,null,null,null,null,null,null,null,null,null,null,null,null,null,null,null,null,null,null,null,null,null,null,null,null,null,null,null,null,null,null,null,null,null,null,null,null,null,null,null,null,null,null,null,null,null,null,null,null,null,null,null,null,null,null,null,null,null,null,null,null,null,null,null,null,null,null,null,null,null,null,null,null,null,null,null,null,null,null,null,null,null,null,null,null,null,null,null,null,null,null,null,null,null,null,null,null,null,null,null,null,null,null,null,null,null,null,null,null,null,null,null,null,null,null,null,null,null,null,null,null,null,null,null,null,null,null,null,null,null,null,null,null,null,null,null,null,null,null,null,null,null,null,null,null,null,null,null,null,null,null,null,null,null,null,null,null,null,null,null,null,null,null,null,null,null,null,null,null,null,null,null,null,null,null,null,null,null,null,null,null,null,null,null,null,null,null,null,null,null,null,null,null,null,null,null,null,null,null,null,null,null,null,null,null,null,null,null,null,null,null,null,null,null,null,null,null,null,null,null,null,null,null,null,null,null,null,null,null,null,null,null,null,null,null,null,null,null,null,null,null,null,null,null,null,null,null,null,null,null,null,null,null,null,null,null,null,null,null,null,null,null,null,null,null,null,null,null,null,null,null,null,null,null,null,null,null,null,null,null,null,null,null,null,null,null,null,null,null,null,null,null,null,null,null,null,null,null,null,null,null,null,null,null,null,null,null,null,null,null,null,null,null,null,null,null,null,null,null,null,null,null,null,null,null,null,null,null,null,null,null,null,null,null,null,null,null,null,null,null,null,null,null,null,null,null,null,null,null,null,null,null,null,null,null,null,null,null,null,null,null,null,null,null,null,null,null,null,null,null,null,null,null,null,null,null,null,null,null,null,null,null,null,null,null,null,null,null,null,null,null,null,null,null,null,null,null,null,null,null,null,null,null,null,null,null,null,null,null,null,null,null,null,null,null,null,null,null,null,null,null,null,null,null,null,null,null,null,null,null,null,null,null,null,null,null,null,null,null,null,null,null,null,null,null,null,null,null,null,null,null,null,null,null,null,null,null,null,null,null,null,null,null,null,null,null,null,null,null,null,null,null,null,null,null,null,null,null,null,null,null,null,null,null,null,null,null,null,null,null,null,null,null,null,null,null,null,null,null,null,null,null,null,null,null,null,null,null,null,null,null,null,null,null,null,null,null,null,null,null,null,null,null,null,null,null,null,null,null,null,null,null,null,null,null,null,null,null,null,null,null,null,null,null,null,null,null,null,null,null,null,null,null,null,null,null,null,null,null,null,null,null,null,null,null,null,null,null,null,null,null,null,null,null,null,null,null,null,null,null,null,null,null,null,null,null,null,null,null,null,null,null,null,null,null,null,null,null,null,null,null,null,null,null,null,null,null,null,null,null,null,null,null,null,null,null,null,null,null,null,null,null,null,null,null,null,null,null,null,null,null,null,null,null,null,null,null,null,null,null,null,null,null,null,null,null,null,null,null,null,null,null,null,null,null,null,null,null,null,null,null,null,null,null,null,null,null,null,null,null,null,null,null,null,null,null,null,null,null,null,null,null,null,null,null,null,null,null,null,null,null,null,null,null,null,null,null,null,null,null,null,null,null,null,null,null,null,null,null,null,null,null,null,null,null,null,null,null,null,null,null,null,null,null,null,null,null,null,null,null,null,null,null,null,null,null,null,null,null,null,null,null,null,null,null,null,null,null,null,null,null,null,null,null,null,null,null,null,null,null,null,null,null,null,null,null,null,null,null,null,null,null,null,null,null,null,null,null,null,null,null,null,null,null,null,null,null,null,null,null,null,null,null,null,null,null,null,null,null,null,null,null,null,null,null,null,null,null,null,null,null,null,null,null,null,null,null,null,null,null,null,null,null,null,null,null,null,null,null,null,null,null,null,null,null,null,null,null,null,null,null,null,null,null,null,null,null,null,null,null,null,null,null,null,null,null,null,null,null,null,null,null,null,null,null,null,null,null,null,null,null,null,null,null,null,null,null,null,null,null,null,null,null,null,null,null,null,null,null,null,null,null,null,null,null,null,null,null,null,null,null,null,null,null,null,null,null,null,null,null,null,null,null,null,null,null,null,null,null,null,null,null,null,null,null,null,null,null,null,null,null,null,null,null,null,null,null,null,null,null,null,null,null,null,null,null,null,null,null,null,null,null,null,null,null,null,null,null,null,null,null,null,null,null,null,null,null,null,null,null,null,null,null,null,null,null,null,null,null,null,null,null,null,null,null,null,null,null,null,null,null,null,null,null,null,null,null,null,null,null,null,null,null,null,null,null,null,null,null,null,null,null,null,null,null,null,null,null,null,null,null,null,null,null,null,null,null,null,null,null,null,null,null,null,null,null,null,null,null,null,null,null,null,null,null,null,null,null,null,null,null,null,null,null,null,null,null,null,null,null,null,null,null,null,null,null,null,null,null,null,null,null,null,null,null,null,null,null,null,null,null,null,null,null,null,null,null,null,null,null,null,null,null,null,null,null,null,null,null,null,null,null,null,null,null,null,null,null,null,null,null,null,null,null,null,null,null,null,null,null,null,null,null,null,null,null,null,null,null,null,null,null,null,null,null,null,null,null,null,null,null,null,null,null,null,null,null,null,null,null,null,null,null,null,null,null,null,null,null,null,null,null,null,null,null,null,null,null,null,null,null,null,null,null,null,null,null,null,null,null,null,null,null,null,null,null,null,null,null,null,null,null,null,null,null,null,null,null,null,null,null,null,null,null,null,null,null,null,null,null,null,null,null,null,null,null,null,null,null,null,null,null,null,null,null,null,null,null,null,null,null,null,null,null,null,null,null,null,null,null,null,null,null,null,null,null,null,null,null,null,null,null,null,null,null,null,null,null,null,null,null,null,null,null,null,null,null,null,null,null,null,null,null,null,null,null,null,null,null,null,null,null,null,null,null,null,null,null,null,null,null,null,null,null,null,null,null,null,null,null,null,null,null,null,null,null,null,null,null,null,null,null,null,null,null,null,null,null,null,null,null,null,null,null,null,null,null,null,null,null,null,null,null,null,null,null,null,null,null,null,null,null,null,null,null,null,null,null,null,null,null,null,null,null,null,null,null,null,null,null,null,null,null,null,null,null,null,null,null,null,null,null,null,null,null,null,null,null,null,null,null,null,null,null,null,null,null,null,null,null,null,null,null,null,null,null,null,null,null,null,null,null,null,null,null,null,null,null,null,null,null,null,null,null,null,null,null,null,null,null,null,null,null,null,null,null,null,null,null,null,null,null,null,null,null,null,null,null,null,null,null,null,null,null,null,null,null,null,null,null,null,null,null,null,null,null,null,null,null,null,null,null,null,null,null,null,null,null,null,null,null,null,null,null,null,null,null,null,null,null,null,null,null,null,null,null,null,null,null,null,null,null,null,null,null,null,null,null,null,null,null,null,null,null,null,null,null,null,null,null,null,null,null,null,null,null,null,null,null,null,null,null,null,null,null,null,null,null,null,null,null,null,null,null,null,null,null,null,null,null,null,null,null,null,null,null,null,null,null,null,null,null,null,null,null,null,null,null,null,null,null,null,null,null,null,null,null,null,null,null,null,null,null,null,null,null,null,null,null,null,null,null,null,null,null,null,null,null,null,null,null,null,null,null,null,null,null,null,null,null,null,null,null,null,null,null,null,null,null,null,null,null,null,null,null,null,null,null,null,null,null,null,null,null,null,null,null,null,null,null,null,null,null,null,null,null,null,null,null,null,null,null,null,null,null,null,null,null,null,null,null,null,null,null,null,null,null,null,null,null,null,null,null,null,null,null,null,null,null,null,null,null,null,null,null,null,null,null,null,null,null,null,null,null,null,null,null,null,null,null,null,null,null,null,null,null,null,null,null,null,null,null,null,null,null,null,null,null,null,null,null,null,null,null,null,null,null,null,null,null,null,null,null,null,null,null,null,null,null,null,null,null,null,null,null,null,null,null,null,null,null,null,null,null,null,null,null,null,null,null,null,null,null,null,null,null,null,null,null,null,null,null,null,null,null,null,null,null,null,null,null,null,null,null,null,null,null,null,null,null,null,null,null,null,null,null,null,null,null,null,null,null,null,null,null,null,null,null,null,null,null,null,null,null,null,null,null,null,null,null,null,null,null,null,null,null,null,null,null,null,null,null,null,null,null,null,null,null,null,null,null,null,null,null,null,null,null,null,null,null,null,null,null,null,null,null,null,null,null,null,null,null,null,null,null,null,null,null,null,null,null,null,null,null,null,null,null,null,null,null,null,null,null,null,null,null,null,null,null,null,null,null,null,null,null,null,null,null,null,null,null,null,null,null,null,null,null,null,null,null,null,null,null,null,null,null,null,null,null,null,null,null,null,null,null,null,null,null,null,null,null,null,null,null,null,null,null,null,null,null,null,null,null,null,null,null,null,null,null,null,null,null,null,null,null,null,null,null,null,null,null,null,null,null,null,null,null,null,null,null,null,null,null,null,null,null,null,null,null,null,null,null,null,null,null,null,null,null,null,null,null,null,null,null,null,null,null,null,null,null,null,null,null,null,null,null,null,null,null,null,null,null,null,null,null,null,null,null,null,null,null,null,null,null,null,null,null,null,null,null,null,null,null,null,null,null,null,null,null,null,null,null,null,null,null,null,null,null,null,null,null,null,null,null,null,null,null,null,null,null,null,null,null,null,null,null,null,null,null,null,null,null,null,null,null,null,null,null,null,null,null,null,null,null,null,null,null,null,null,null,null,null,null,null,null,null,null,null,null,null,null,null,null,null,null,null,null,null,null,null,null,null,null,null,null,null,null,null,null,null,null,null,null,null,null,null,null,null,null,null,null,null,null,null,null,null,null,null,null,null,null,null,null,null,null,null,null,null,null,null,null,null,null,null,null,null,null,null,null,null,null,null,null,null,null,null,null,null,null,null,null,null,null,null,null,null,null,null,null,null,null,null,null,null,null,null,null,null,null,null,null,null,null,null,null,null,null,null,null,null,null,null,null,null,null,null,null,null,null,null,null,null,null,null,null,null,null,null,null,null,null,null,null,null,null,null,null,null,null,null,null,null,null,null,null,null,null,null,null,null,null,null,null,null,null,null,null,null,null,null,null,null,null,null,null,null,null,null,null,null,null,null,null,null,null,null,null,null,null,null,null,null,null,null,null,null,null,null,null,null,null,null,null,null,null,null,null,null,null,null,null,null,null,null,null,null,null,null,null,null,null,null,null,null,null,null,null,null,null,null,null,null,null,null,null,null,null,null,null,null,null,null,null,null,null,null,null,null,null,null,null,null,null,null,null,null,null,null,null,null,null,null,null,null,null,null,null,null,null,null,null,null,null,null,null,null,null,null,null,null,null,null,null,null,null,null,null,null,null,null,null,null,null,null,null,null,null,null,null,null,null,null,null,null,null,null,null,null,null,null,null,null,null,null,null,null,null,null,null,null,null,null,null,null,null,null,null,null,null,null,null,null,null,null,null,null,null,null,null,null,null,null,null,null,null,null,null,null,null,null,null,null,null,null,null,null,null,null,null,null,null,null,null,null,null,null,null,null,null,null,null,null,null,null,null,null,null,null,null,null,null,null,null,null,null,null,null,null,null,null,null,null,null,null,null,null,null,null,null,null,null,null,null,null,null,null,null,null,null,null,null,null,null,null,null,null,null,null,null,null,null,null,null,null,null,null,null,null,null,null,null,null,null,null,null,null,null,null,null,null,null,null,null,null,null,null,null,null,null,null,null,null,null,null,null,null,null,null,null,null,null,null,null,null,null,null,null,null,null,null,null,null,null,null,null,null,null,null,null,null,null,null,null,null,null,null,null,null,null,null,null,null,null,null,null,null,null,null,null,null,null,null,null,null,null,null,null,null,null,null,null,null,null,null,null,null,null,null,null,null,null,null,null,null,null,null,null,null,null,null,null,null,null,null,null,null,null,null,null,null,null,null,null,null,null,null,null,null,null,null,null,null,null,null,null,null,null,null,null,null,null,null,null,null,null,null,null,null,null,null,null,null,null,null,null,null,null,null,null,null,null,null,null,null,null,null,null,null,null,null,null,null,null,null,null,null,null,null,null,null,null,null,null,null,null,null,null,null,null,null,null,null,null,null,null,null,null,null,null,null,null,null,null,null,null,null,null,null,null,null,null,null,null,null,null,null,null,null,null,null,null,null,null,null,null,null,null,null,null,null,null,null,null,null,null,null,null,null,null,null,null,null,null,null,null,null,null,null,null,null,null,null,null,null,null,null,null,null,null,null,null,null,null,null,null,null,null,null,null,null,null,null,null,null,null,null,null,null,null,null,null,null,null,null,null,null,null,null,null,null,null,null,null,null,null,null,null,null,null,null,null,null,null,null,null,null,null,null,null,null,null,null,null,null,null,null,null,null,null,null,null,null,null,null,null,null,null,null,null,null,null,null,null,null,null,null,null,null,null,null,null,null,null,null,null,null,null,null,null,null,null,null,null,null,null,null,null,null,null,null,null,null,null,null,null,null,null,null,null,null,null,null,null,null,null,null,null,null,null,null,null,null,null,null,null,null,null,null,null,null,null,null,null,null,null,null,null,null,null,null,null,null,null,null,null,null,null,null,null,null,null,null,null,null,null,null,null,null,null,null,null,null,null,null,null,null,null,null,null,null,null,null,null,null,null,null,null,null,null,null,null,null,null,null,null,null,null,null,null,null,null,null,null,null,null,null,null,null,null,null,null,null,null,null,null,null,null,null,null,null,null,null,null,null,null,null,null,null,null,null,null,null,null,null,null,null,null,null,null,null,null,null,null,null,null,null,null,null,null,null,null,null,null,null,null,null,null,null,null,null,null,null,null,null,null,null,null,null,null,null,null,null,null,null,null,null,null,null,null,null,null,null,null,null,null,null,null,null,null,null,null,null,null,null,null,null,null,null,null,null,null,null,null,null,null,null,null,null,null,null,null,null,null,null,null,null,null,null,null,null,null,null,null,null,null,null,null,null,null,null,null,null,null,null,null,null,null,null,null,null,null,null,null,null,null,null,null,null,null,null,null,null,null,null,null,null,null,null,null,null,null,null,null,null,null,null,null,null,null,null,null,null,null,null,null,null,null,null,null,null,null,null,null,null,null,null,null,null,null,null,null,null,null,null,null,null,null,null,null,null,null,null,null,null,null,null,null,null,null,null,null,null,null,null,null,null,null,null,null,null,null,null,null,null,null,null,null,null,null,null,null,null,null,null,null,null,null,null,null,null,null,null,null,null,null,null,null,null,null,null,null,null,null,null,null,null,null,null,null,null,null,null,null,null,null,null,null,null,null,null,null,null,null,null,null,null,null,null,null,null,null,null,null,null,null,null,null,null,null,null,null,null,null,null,null,null,null,null,null,null,null,null,null,null,null,null,null,null,null,null,null,null,null,null,null,null,null,null,null,null,null,null,null,null,null,null,null,null,null,null,null,null,null,null,null,null,null,null,null,null,null,null,null,null,null,null,null,null,null,null,null,null,null,null,null,null,null,null,null,null,null,null,null,null,null,null,null,null,null,null,null,null,null,null,null,null,null,null,null,null,null,null,null,null,null,null,null,null,null,null,null,null,null,null,null,null,null,null,null,null,null,null,null,null,null,null,null,null,null,null,null,null,null,null,null,null,null,null,null,null,null,null,null,null,null,null,null,null,null,null,null,null,null,null,null,null,null,null,null,null,null,null,null,null,null,null,null,null,null,null,null,null,null,null,null,null,null,null,null,null,null,null,null,null,null,null,null,null,null,null,null,null,null,null,null,null,null,null,null,null,null,null,null,null,null,null,null,null,null,null,null,null,null,null,null,null,null,null,null,null,null,null,null,null,null,null,null,null,null,null,null,null,null,null,null,null,null,null,null,null,null,null,null,null,null,null,null,null,null,null,null,null,null,null,null,null,null,null,null,null,null,null,null,null,null,null,null,null,null,null,null,null,null,null,null,null,null,null,null,null,null,null,null,null,null,null,null,null,null,null,null,null,null,null,null,null,null,null,null,null,null,null,null,null,null,null,null,null,null,null,null,null,null,null,null,null,null,null,null,null,null,null,null,null,null,null,null,null,null,null,null,null,null,null,null,null,null,null,null,null,null,null,null,null,null,null,null,null,null,null,null,null,null,null,null,null,null,null,null,null,null,null,null,null,null,null,null,null,null,null,null,null,null,null,null,null,null,null,null,null,null,null,null,null,null,null,null,null,null,null,null,null,null,null,null,null,null,null,null,null,null,null,null,null,null,null,null,null,null,null,null,null,null,null,null,null,null,null,null,null,null,null,null,null,null,null,null,null,null,null,null,null,null,null,null,null,null,null,null,null,null,null,null,null,null,null,null,null,null,null,null,null,null,null,null,null,null,null,null,null,null,null,null,null,null,null,null,null,null,null,null,null,null,null,null,null,null,null,null,null,null,null,null,null,null,null,null,null,null,null,null,null,null,null,null,null,null,null,null,null,null,null,null,null,null,null,null,null,null,null,null,null,null,null,null,null,null,null,null,null,null,null,null,null,null,null,null,null,null,null,null,null,null,null,null,null,null,null,null,null,null,null,null,null,null,null,null,null,null,null,null,null,null,null,null,null,null,null,null,null,null,null,null,null,null,null,null,null,null,null,null,null,null,null,null,null,null,null,null,null,null,null,null,null,null,null,null,null,null,null,null,null,null,null,null,null,null,null,null,null,null,null,null,null,null,null,null,null,null,null,null,null,null,null,null,null,null,null,null,null,null,null,null,null,null,null,null,null,null,null,null,null,null,null,null,null,null,null,null,null,null,null,null,null,null,null,null,null,null,null,null,null,null,null,null,null,null,null,null,null,null,null,null,null,null,null,null,null,null,null,null,null,null,null,null,null,null,null,null,null,null,null,null,null,null,null,null,null,null,null,null,null,null,null,null,null,null,null,null,null,null,null,null,null,null,null,null,null,null,null,null,null,null,null,null,null,null,null,null,null,null,null,null,null,null,null,null,null,null,null,null,null,null,null,null,null,null,null,null,null,null,null,null,null,null,null,null,null,null,null,null,null,null,null,null,null,null,null,null,null,null,null,null,null,null,null,null,null,null,null,null,null,null,null,null,null,null,null,null,null,null,null,null,null,null,null,null,null,null,null,null,null,null,null,null,null,null,null,null,null,null,null,null,null,null,null,null,null,null,null,null,null,null,null,null,null,null,null,null,null,null,null,null,null,null,null,null,null,null,null,null,null,null,null,null,null,null,null,null,null,null,null,null,null,null,null,null,null,null,null,null,null,null,null,null,null,null,null,null,null,null,null,null,null,null,null,null,null,null,null,null,null,null,null,null,null,null,null,null,null,null,null,null,null,null,null,null,null,null,null,null,null,null,null,null,null,null,null,null,null,null,null,null,null,null,null,null,null,null,null,null,null,null,null,null,null,null,null,null,null,null,null,null,null,null,null,null,null,null,null,null,null,null,null,null,null,null,null,null,null,null,null,null,null,null,null,null,null,null,null,null,null,null,null,null,null,null,null,null,null,null,null,null,null,null,null,null,null,null,null,null,null,null,null,null,null,null,null,null,null,null,null,null,null,null,null,null,null,null,null,null,null,null,null,null,null,null,null,null,null,null,null,null,null,null,null,null,null,null,null,null,null,null,null,null,null,null,null,null,null,null,null,null,null,null,null,null,null,null,null,null,null,null,null,null,null,null,null,null,null,null,null,null,null,null,null,null,null,null,null,null,null,null,null,null,null,null,null,null,null,null,null,null,null,null,null,null,null,null,null,null,null,null,null,null,null,null,null,null,null,null,null,null,null,null,null,null,null,null,null,null,null,null,null,null,null,null,null,null,null,null,null,null,null,null,null,null,null,null,null,null,null,null,null,null,null,null,null,null,null,null,null,null,null,null,null,null,null,null,null,null,null,null,null,null,null,null,null,null,null,null,null,null,null,null,null,null,null,null,null,null,null,null,null,null,null,null,null,null,null,null,null,null,null,null,null,null,null,null,null,null,null,null,null,null,null,null,null,null,null,null,null,null,null,null,null,null,null,null,null,null,null,null,null,null,null,null,null,null,null,null,null,null,null,null,null,null,null,null,null,null,null,null,null,null,null,null,null,null,null,null,null,null,null,null,null,null,null,null,null,null,null,null,null,null,null,null,null,null,null,null,null,null,null,null,null,null,null,null,null,null,null,null,null,null,null,null,null,null,null,null,null,null,null,null,null,null,null,null,null,null,null,null,null,null,null,null,null,null,null,null,null,null,null,null,null,null,null,null,null,null,null,null,null,null,null,null,null,null,null,null,null,null,null,null,null,null,null,null,null,null,null,null,null,null,null,null,null,null,null,null,null,null,null,null,null,null,null,null,null,null,null,null,null,null,null,null,null,null,null,null,null,null,null,null,null,null,null,null,null,null,null,null,null,null,null,null,null,null,null,null,null,null,null,null,null,null,null,null,null,null,null,null,null,null,null,null,null,null,null,null,null,null,null,null,null,null,null,null,null,null,null,null,null,null,null,null,null,null,null,null,null,null,null,null,null,null,null,null,null,null,null,null,null,null,null,null,null,null,null,null,null,null,null,null,null,null,null,null,null,null,null,null,null,null,null,null,null,null,null,null,null,null,null,null,null,null,null,null,null,null,null,null,null,null,null,null,null,null,null,null,null,null,null,null,null,null,null,null,null,null,null,null,null,null,null,null,null,null,null,null,null,null,null,null,null,null,null,null,null,null,null,null,null,null,null,null,null,null,null,null,null,null,null,null,null,null,null,null,null,null,null,null,null,null,null,null,null,null,null,null,null,null,null,null,null,null,null,null,null,null,null,null,null,null,null,null,null,null,null,null,null,null,null,null,null,null,null,null,null,null,null,null,null,null,null,null,null,null,null,null,null,null,null,null,null,null,null,null,null,null,null,null,null,null,null,null,null,null,null,null,null,null,null,null,null,null,null,null,null,null,null,null,null,null,null,null,null,null,null,null,null,null,null,null,null,null,null,null,null,null,null,null,null,null,null,null,null,null,null,null,null,null,null,null,null,null,null,null,null,null,null,null,null,null,null,null,null,null,null,null,null,null,null,null,null,null,null,null,null,null,null,null,null,null,null,null,null,null,null,null,null,null,null,null,null,null,null,null,null,null,null,null,null,null,null,null,null,null,null,null,null,null,null,null,null,null,null,null,null,null,null,null,null,null,null,null,null,null,null,null,null,null,null,null,null,null,null,null,null,null,null,null,null,null,null,null,null,null,null,null,null,null,null,null,null,null,null,null,null,null,null,null,null,null,null,null,null,null,null,null,null,null,null,null,null,null,null,null,null,null,null,null,null,null,null,null,null,null,null,null,null,null,null,null,null,null,null,null,null,null,null,null,null,null,null,null,null,null,null,null,null,null,null,null,null,null,null,null,null,null,null,null,null,null,null,null,null,null,null,null,null,null,null,null,null,null,null,null,null,null,null,null,null,null,null,null,null,null,null,null,null,null,null,null,null,null,null,null,null,null,null,null,null,null,null,null,null,null,null,null,null,null,null,null,null,null,null,null,null,null,null,null,null,null,null,null,null,null,null,null,null,null,null,null,null,null,null,null,null,null,null,null,null,null,null,null,null,null,null,null,null,null,null,null,null,null,null,null,null,null,null,null,null,null,null,null,null,null,null,null,null,null,null,null,null,null,null,null,null,null,null,null,null,null,null,null,null,null,null,null,null,null,null,null,null,null,null,null,null,null,null,null,null,null,null,null,null,null,null,null,null,null,null,null,null,null,null,null,null,null,null,null,null,null,null,null,null,null,null,null,null,null,null,null,null,null,null,null,null,null,null,null,null,null,null,null,null,null,null,null,null,null,null,null,null,null,null,null,null,null,null,null,null,null,null,null,null,null,null,null,null,null,null,null,null,null,null,null,null,null,null,null,null,null,null,null,null,null,null,null,null,null,null,null,null,null,null,null,null,null,null,null,null,null,null,null,null,null,null,null,null,null,null,null,null,null,null,null,null,null,null,null,null,null,null,null,null,null,null,null,null,null,null,null,null,null,null,null,null,null,null,null,null,null,null,null,null,null,null,null,null,null,null,null,null,null,null,null,null,null,null,null,null,null,null,null,null,null,null,null,null,null,null,null,null,null,null,null,null,null,null,null,null,null,null,null,null,null,null,null,null,null,null,null,null,null,null,null,null,null,null,null,null,null,null,null,null,null,null,null,null,null,null,null,null,null,null,null,null,null,null,null,null,null,null,null,null,null,null,null,null,null,null,null,null,null,null,null,null,null,null,null,null,null,null,null,null,null,null,null,null,null,null,null,null,null,null,null,null,null,null,null,null,null,null,null,null,null,null,null,null,null,null,null,null,null,null,null,null,null,null,null,null,null,null,null,null,null,null,null,null,null,null,null,null,null,null,null,null,null,null,null,null,null,null,null,null,null,null,null,null,null,null,null,null,null,null,null,null,null,null,null,null,null,null,null,null,null,null,null,null,null,null,null,null,null,null,null,null,null,null,null,null,null,null,null,null,null,null,null,null,null,null,null,null,null,null,null,null,null,null,null,null,null,null,null,null,null,null,null,null,null,null,null,null,null,null,null,null,null,null,null,null,null,null,null,null,null,null,null,null,null,null,null,null,null,null,null,null,null,null,null,null,null,null,null,null,null,null,null,null,null,null,null,null,null,null,null,null,null,null,null,null,null,null,null,null,null,null,null,null,null,null,null,null,null,null,null,null,null,null,null,null,null,null,null,null,null,null,null,null,null,null,null,null,null,null,null,null,null,null,null,null,null,null,null,null,null,null,null,null,null,null,null,null,null,null,null,null,null,null,null,null,null,null,null,null,null,null,null,null,null,null,null,null,null,null,null,null,null,null,null,null,null,null,null,null,null,null,null,null,null,null,null,null,null,null,null,null,null,null,null,null,null,null,null,null,null,null,null,null,null,null,null,null,null,null,null,null,null,null,null,null,null,null,null,null,null,null,null,null,null,null,null,null,null,null,null,null,null,null,null,null,null,null,null,null,null,null,null,null,null,null,null,null,null,null,null,null,null,null,null,null,null,null,null,null,null,null,null,null,null,null,null,null,null,null,null,null,null,null,null,null,null,null,null,null,null,null,null,null,null,null,null,null,null,null,null,null,null,null,null,null,null,null,null,null,null,null,null,null,null,null,null,null,null,null,null,null,null,null,null,null,null,null,null,null,null,null,null,null,null,null,null,null,null,null,null,null,null,null,null,null,null,null,null,null,null,null,null,null,null,null,null,null,null,null,null,null,null,null,null,null,null,null,null,null,null,null,null,null,null,null,null,null,null,null,null,null,null,null,null,null,null,null,null,null,null,null,null,null,null,null,null,null,null,null,null,null,null,null,null,null,null,null,null,null,null,null,null,null,null,null,null,null,null,null,null,null,null,null,null,null,null,null,null,null,null,null,null,null,null,null,null,null,null,null,null,null,null,null,null,null,null,null,null,null,null,null,null,null,null,null,null,null,null,null,null,null,null,null,null,null,null,null,null,null,null,null,null,null,null,null,null,null,null,null,null,null,null,null,null,null,null,null,null,null,null,null,null,null,null,null,null,null,null,null,null,null,null,null,null,null,null,null,null,null,null,null,null,null,null,null,null,null,null,null,null,null,null,null,null,null,null,null,null,null,null,null,null,null,null,null,null,null,null,null,null,null,null,null,null,null,null,null,null,null,null,null,null,null,null,null,null,null,null,null,null,null,null,null,null,null,null,null,null,null,null,null,null,null,null,null,null,null,null,null,null,null,null,null,null,null,null,null,null,null,null,null,null,null,null,null,null,null,null,null,null,null,null,null,null,null,null,null,null,null,null,null,null,null,null,null,null,null,null,null,null,null,null,null,null,null,null,null,null,null,null,null,null,null,null,null,null,null,null,null,null,null,null,null,null,null,null,null,null,null,null,null,null,null,null,null,null,null,null,null,null,null,null,null,null,null,null,null,null,null,null,null,null,null,null,null,null,null,null,null,null,null,null,null,null,null,null,null,null,null,null,null,null,null,null,null,null,null,null,null,null,null,null,null,null,null,null,null,null,null,null,null,null,null,null,null,null,null,null,null,null,null,null,null,null,null,null,null,null,null,null,null,null,null,null,null,null,null,null,null,null,null,null,null,null,null,null,null,null,null,null,null,null,null,null,null,null,null,null,null,null,null,null,null,null,null,null,null,null,null,null,null,null,null,null,null,null,null,null,null,null,null,null,null,null,null,null,null,null,null,null,null,null,null,null,null,null,null,null,null,null,null,null,null,null,null,null,null,null,null,null,null,null,null,null,null,null,null,null,null,null,null,null,null,null,null,null,null,null,null,null,null,null,null,null,null,null,null,null,null,null,null,null,null,null,null,null,null,null,null,null,null,null,null,null,null,null,null,null,null,null,null,null,null,null,null,null,null,null,null,null,null,null,null,null,null,null,null,null,null,null,null,null,null,"T10","Tháng 10"]
[null,null,null,null,null,null,null,null,null,null,null,null,null,null,null,null,null,null,null,null,null,null,null,null,null,null,null,null,null,null,null,null,null,null,null,null,null,null,null,null,null,null,null,null,null,null,null,null,null,null,null,null,null,null,null,null,null,null,null,null,null,null,null,null,null,null,null,null,null,null,null,null,null,null,null,null,null,null,null,null,null,null,null,null,null,null,null,null,null,null,null,null,null,null,null,null,null,null,null,null,null,null,null,null,null,null,null,null,null,null,null,null,null,null,null,null,null,null,null,null,null,null,null,null,null,null,null,null,null,null,null,null,null,null,null,null,null,null,null,null,null,null,null,null,null,null,null,null,null,null,null,null,null,null,null,null,null,null,null,null,null,null,null,null,null,null,null,null,null,null,null,null,null,null,null,null,null,null,null,null,null,null,null,null,null,null,null,null,null,null,null,null,null,null,null,null,null,null,null,null,null,null,null,null,null,null,null,null,null,null,null,null,null,null,null,null,null,null,null,null,null,null,null,null,null,null,null,null,null,null,null,null,null,null,null,null,null,null,null,null,null,null,null,null,null,null,null,null,null,null,null,null,null,null,null,null,null,null,null,null,null,null,null,null,null,null,null,null,null,null,null,null,null,null,null,null,null,null,null,null,null,null,null,null,null,null,null,null,null,null,null,null,null,null,null,null,null,null,null,null,null,null,null,null,null,null,null,null,null,null,null,null,null,null,null,null,null,null,null,null,null,null,null,null,null,null,null,null,null,null,null,null,null,null,null,null,null,null,null,null,null,null,null,null,null,null,null,null,null,null,null,null,null,null,null,null,null,null,null,null,null,null,null,null,null,null,null,null,null,null,null,null,null,null,null,null,null,null,null,null,null,null,null,null,null,null,null,null,null,null,null,null,null,null,null,null,null,null,null,null,null,null,null,null,null,null,null,null,null,null,null,null,null,null,null,null,null,null,null,null,null,null,null,null,null,null,null,null,null,null,null,null,null,null,null,null,null,null,null,null,null,null,null,null,null,null,null,null,null,null,null,null,null,null,null,null,null,null,null,null,null,null,null,null,null,null,null,null,null,null,null,null,null,null,null,null,null,null,null,null,null,null,null,null,null,null,null,null,null,null,null,null,null,null,null,null,null,null,null,null,null,null,null,null,null,null,null,null,null,null,null,null,null,null,null,null,null,null,null,null,null,null,null,null,null,null,null,null,null,null,null,null,null,null,null,null,null,null,null,null,null,null,null,null,null,null,null,null,null,null,null,null,null,null,null,null,null,null,null,null,null,null,null,null,null,null,null,null,null,null,null,null,null,null,null,null,null,null,null,null,null,null,null,null,null,null,null,null,null,null,null,null,null,null,null,null,null,null,null,null,null,null,null,null,null,null,null,null,null,null,null,null,null,null,null,null,null,null,null,null,null,null,null,null,null,null,null,null,null,null,null,null,null,null,null,null,null,null,null,null,null,null,null,null,null,null,null,null,null,null,null,null,null,null,null,null,null,null,null,null,null,null,null,null,null,null,null,null,null,null,null,null,null,null,null,null,null,null,null,null,null,null,null,null,null,null,null,null,null,null,null,null,null,null,null,null,null,null,null,null,null,null,null,null,null,null,null,null,null,null,null,null,null,null,null,null,null,null,null,null,null,null,null,null,null,null,null,null,null,null,null,null,null,null,null,null,null,null,null,null,null,null,null,null,null,null,null,null,null,null,null,null,null,null,null,null,null,null,null,null,null,null,null,null,null,null,null,null,null,null,null,null,null,null,null,null,null,null,null,null,null,null,null,null,null,null,null,null,null,null,null,null,null,null,null,null,null,null,null,null,null,null,null,null,null,null,null,null,null,null,null,null,null,null,null,null,null,null,null,null,null,null,null,null,null,null,null,null,null,null,null,null,null,null,null,null,null,null,null,null,null,null,null,null,null,null,null,null,null,null,null,null,null,null,null,null,null,null,null,null,null,null,null,null,null,null,null,null,null,null,null,null,null,null,null,null,null,null,null,null,null,null,null,null,null,null,null,null,null,null,null,null,null,null,null,null,null,null,null,null,null,null,null,null,null,null,null,null,null,null,null,null,null,null,null,null,null,null,null,null,null,null,null,null,null,null,null,null,null,null,null,null,null,null,null,null,null,null,null,null,null,null,null,null,null,null,null,null,null,null,null,null,null,null,null,null,null,null,null,null,null,null,null,null,null,null,null,null,null,null,null,null,null,null,null,null,null,null,null,null,null,null,null,null,null,null,null,null,null,null,null,null,null,null,null,null,null,null,null,null,null,null,null,null,null,null,null,null,null,null,null,null,null,null,null,null,null,null,null,null,null,null,null,null,null,null,null,null,null,null,null,null,null,null,null,null,null,null,null,null,null,null,null,null,null,null,null,null,null,null,null,null,null,null,null,null,null,null,null,null,null,null,null,null,null,null,null,null,null,null,null,null,null,null,null,null,null,null,null,null,null,null,null,null,null,null,null,null,null,null,null,null,null,null,null,null,null,null,null,null,null,null,null,null,null,null,null,null,null,null,null,null,null,null,null,null,null,null,null,null,null,null,null,null,null,null,null,null,null,null,null,null,null,null,null,null,null,null,null,null,null,null,null,null,null,null,null,null,null,null,null,null,null,null,null,null,null,null,null,null,null,null,null,null,null,null,null,null,null,null,null,null,null,null,null,null,null,null,null,null,null,null,null,null,null,null,null,null,null,null,null,null,null,null,null,null,null,null,null,null,null,null,null,null,null,null,null,null,null,null,null,null,null,null,null,null,null,null,null,null,null,null,null,null,null,null,null,null,null,null,null,null,null,null,null,null,null,null,null,null,null,null,null,null,null,null,null,null,null,null,null,null,null,null,null,null,null,null,null,null,null,null,null,null,null,null,null,null,null,null,null,null,null,null,null,null,null,null,null,null,null,null,null,null,null,null,null,null,null,null,null,null,null,null,null,null,null,null,null,null,null,null,null,null,null,null,null,null,null,null,null,null,null,null,null,null,null,null,null,null,null,null,null,null,null,null,null,null,null,null,null,null,null,null,null,null,null,null,null,null,null,null,null,null,null,null,null,null,null,null,null,null,null,null,null,null,null,null,null,null,null,null,null,null,null,null,null,null,null,null,null,null,null,null,null,null,null,null,null,null,null,null,null,null,null,null,null,null,null,null,null,null,null,null,null,null,null,null,null,null,null,null,null,null,null,null,null,null,null,null,null,null,null,null,null,null,null,null,null,null,null,null,null,null,null,null,null,null,null,null,null,null,null,null,null,null,null,null,null,null,null,null,null,null,null,null,null,null,null,null,null,null,null,null,null,null,null,null,null,null,null,null,null,null,null,null,null,null,null,null,null,null,null,null,null,null,null,null,null,null,null,null,null,null,null,null,null,null,null,null,null,null,null,null,null,null,null,null,null,null,null,null,null,null,null,null,null,null,null,null,null,null,null,null,null,null,null,null,null,null,null,null,null,null,null,null,null,null,null,null,null,null,null,null,null,null,null,null,null,null,null,null,null,null,null,null,null,null,null,null,null,null,null,null,null,null,null,null,null,null,null,null,null,null,null,null,null,null,null,null,null,null,null,null,null,null,null,null,null,null,null,null,null,null,null,null,null,null,null,null,null,null,null,null,null,null,null,null,null,null,null,null,null,null,null,null,null,null,null,null,null,null,null,null,null,null,null,null,null,null,null,null,null,null,null,null,null,null,null,null,null,null,null,null,null,null,null,null,null,null,null,null,null,null,null,null,null,null,null,null,null,null,null,null,null,null,null,null,null,null,null,null,null,null,null,null,null,null,null,null,null,null,null,null,null,null,null,null,null,null,null,null,null,null,null,null,null,null,null,null,null,null,null,null,null,null,null,null,null,null,null,null,null,null,null,null,null,null,null,null,null,null,null,null,null,null,null,null,null,null,null,null,null,null,null,null,null,null,null,null,null,null,null,null,null,null,null,null,null,null,null,null,null,null,null,null,null,null,null,null,null,null,null,null,null,null,null,null,null,null,null,null,null,null,null,null,null,null,null,null,null,null,null,null,null,null,null,null,null,null,null,null,null,null,null,null,null,null,null,null,null,null,null,null,null,null,null,null,null,null,null,null,null,null,null,null,null,null,null,null,null,null,null,null,null,null,null,null,null,null,null,null,null,null,null,null,null,null,null,null,null,null,null,null,null,null,null,null,null,null,null,null,null,null,null,null,null,null,null,null,null,null,null,null,null,null,null,null,null,null,null,null,null,null,null,null,null,null,null,null,null,null,null,null,null,null,null,null,null,null,null,null,null,null,null,null,null,null,null,null,null,null,null,null,null,null,null,null,null,null,null,null,null,null,null,null,null,null,null,null,null,null,null,null,null,null,null,null,null,null,null,null,null,null,null,null,null,null,null,null,null,null,null,null,null,null,null,null,null,null,null,null,null,null,null,null,null,null,null,null,null,null,null,null,null,null,null,null,null,null,null,null,null,null,null,null,null,null,null,null,null,null,null,null,null,null,null,null,null,null,null,null,null,null,null,null,null,null,null,null,null,null,null,null,null,null,null,null,null,null,null,null,null,null,null,null,null,null,null,null,null,null,null,null,null,null,null,null,null,null,null,null,null,null,null,null,null,null,null,null,null,null,null,null,null,null,null,null,null,null,null,null,null,null,null,null,null,null,null,null,null,null,null,null,null,null,null,null,null,null,null,null,null,null,null,null,null,null,null,null,null,null,null,null,null,null,null,null,null,null,null,null,null,null,null,null,null,null,null,null,null,null,null,null,null,null,null,null,null,null,null,null,null,null,null,null,null,null,null,null,null,null,null,null,null,null,null,null,null,null,null,null,null,null,null,null,null,null,null,null,null,null,null,null,null,null,null,null,null,null,null,null,null,null,null,null,null,null,null,null,null,null,null,null,null,null,null,null,null,null,null,null,null,null,null,null,null,null,null,null,null,null,null,null,null,null,null,null,null,null,null,null,null,null,null,null,null,null,null,null,null,null,null,null,null,null,null,null,null,null,null,null,null,null,null,null,null,null,null,null,null,null,null,null,null,null,null,null,null,null,null,null,null,null,null,null,null,null,null,null,null,null,null,null,null,null,null,null,null,null,null,null,null,null,null,null,null,null,null,null,null,null,null,null,null,null,null,null,null,null,null,null,null,null,null,null,null,null,null,null,null,null,null,null,null,null,null,null,null,null,null,null,null,null,null,null,null,null,null,null,null,null,null,null,null,null,null,null,null,null,null,null,null,null,null,null,null,null,null,null,null,null,null,null,null,null,null,null,null,null,null,null,null,null,null,null,null,null,null,null,null,null,null,null,null,null,null,null,null,null,null,null,null,null,null,null,null,null,null,null,null,null,null,null,null,null,null,null,null,null,null,null,null,null,null,null,null,null,null,null,null,null,null,null,null,null,null,null,null,null,null,null,null,null,null,null,null,null,null,null,null,null,null,null,null,null,null,null,null,null,null,null,null,null,null,null,null,null,null,null,null,null,null,null,null,null,null,null,null,null,null,null,null,null,null,null,null,null,null,null,null,null,null,null,null,null,null,null,null,null,null,null,null,null,null,null,null,null,null,null,null,null,null,null,null,null,null,null,null,null,null,null,null,null,null,null,null,null,null,null,null,null,null,null,null,null,null,null,null,null,null,null,null,null,null,null,null,null,null,null,null,null,null,null,null,null,null,null,null,null,null,null,null,null,null,null,null,null,null,null,null,null,null,null,null,null,null,null,null,null,null,null,null,null,null,null,null,null,null,null,null,null,null,null,null,null,null,null,null,null,null,null,null,null,null,null,null,null,null,null,null,null,null,null,null,null,null,null,null,null,null,null,null,null,null,null,null,null,null,null,null,null,null,null,null,null,null,null,null,null,null,null,null,null,null,null,null,null,null,null,null,null,null,null,null,null,null,null,null,null,null,null,null,null,null,null,null,null,null,null,null,null,null,null,null,null,null,null,null,null,null,null,null,null,null,null,null,null,null,null,null,null,null,null,null,null,null,null,null,null,null,null,null,null,null,null,null,null,null,null,null,null,null,null,null,null,null,null,null,null,null,null,null,null,null,null,null,null,null,null,null,null,null,null,null,null,null,null,null,null,null,null,null,null,null,null,null,null,null,null,null,null,null,null,null,null,null,null,null,null,null,null,null,null,null,null,null,null,null,null,null,null,null,null,null,null,null,null,null,null,null,null,null,null,null,null,null,null,null,null,null,null,null,null,null,null,null,null,null,null,null,null,null,null,null,null,null,null,null,null,null,null,null,null,null,null,null,null,null,null,null,null,null,null,null,null,null,null,null,null,null,null,null,null,null,null,null,null,null,null,null,null,null,null,null,null,null,null,null,null,null,null,null,null,null,null,null,null,null,null,null,null,null,null,null,null,null,null,null,null,null,null,null,null,null,null,null,null,null,null,null,null,null,null,null,null,null,null,null,null,null,null,null,null,null,null,null,null,null,null,null,null,null,null,null,null,null,null,null,null,null,null,null,null,null,null,null,null,null,null,null,null,null,null,null,null,null,null,null,null,null,null,null,null,null,null,null,null,null,null,null,null,null,null,null,null,null,null,null,null,null,null,null,null,null,null,null,null,null,null,null,null,null,null,null,null,null,null,null,null,null,null,null,null,null,null,null,null,null,null,null,null,null,null,null,null,null,null,null,null,null,null,null,null,null,null,null,null,null,null,null,null,null,null,null,null,null,null,null,null,null,null,null,null,null,null,null,null,null,null,null,null,null,null,null,null,null,null,null,null,null,null,null,null,null,null,null,null,null,null,null,null,null,null,null,null,null,null,null,null,null,null,null,null,null,null,null,null,null,null,null,null,null,null,null,null,null,null,null,null,null,null,null,null,null,null,null,null,null,null,null,null,null,null,null,null,null,null,null,null,null,null,null,null,null,null,null,null,null,null,null,null,null,null,null,null,null,null,null,null,null,null,null,null,null,null,null,null,null,null,null,null,null,null,null,null,null,null,null,null,null,null,null,null,null,null,null,null,null,null,null,null,null,null,null,null,null,null,null,null,null,null,null,null,null,null,null,null,null,null,null,null,null,null,null,null,null,null,null,null,null,null,null,null,null,null,null,null,null,null,null,null,null,null,null,null,null,null,null,null,null,null,null,null,null,null,null,null,null,null,null,null,null,null,null,null,null,null,null,null,null,null,null,null,null,null,null,null,null,null,null,null,null,null,null,null,null,null,null,null,null,null,null,null,null,null,null,null,null,null,null,null,null,null,null,null,null,null,null,null,null,null,null,null,null,null,null,null,null,null,null,null,null,null,null,null,null,null,null,null,null,null,null,null,null,null,null,null,null,null,null,null,null,null,null,null,null,null,null,null,null,null,null,null,null,null,null,null,null,null,null,null,null,null,null,null,null,null,null,null,null,null,null,null,null,null,null,null,null,null,null,null,null,null,null,null,null,null,null,null,null,null,null,null,null,null,null,null,null,null,null,null,null,null,null,null,null,null,null,null,null,null,null,null,null,null,null,null,null,null,null,null,null,null,null,null,null,null,null,null,null,null,null,null,null,null,null,null,null,null,null,null,null,null,null,null,null,null,null,null,null,null,null,null,null,null,null,null,null,null,null,null,null,null,null,null,null,null,null,null,null,null,null,null,null,null,null,null,null,null,null,null,null,null,null,null,null,null,null,null,null,null,null,null,null,null,null,null,null,null,null,null,null,null,null,null,null,null,null,null,null,null,null,null,null,null,null,null,null,null,null,null,null,null,null,null,null,null,null,null,null,null,null,null,null,null,null,null,null,null,null,null,null,null,null,null,null,null,null,null,null,null,null,null,null,null,null,null,null,null,null,null,null,null,null,null,null,null,null,null,null,null,null,null,null,null,null,null,null,null,null,null,null,null,null,null,null,null,null,null,null,null,null,null,null,null,null,null,null,null,null,null,null,null,null,null,null,null,null,null,null,null,null,null,null,null,null,null,null,null,null,null,null,null,null,null,null,null,null,null,null,null,null,null,null,null,null,null,null,null,null,null,null,null,null,null,null,null,null,null,null,null,null,null,null,null,null,null,null,null,null,null,null,null,null,null,null,null,null,null,null,null,null,null,null,null,null,null,null,null,null,null,null,null,null,null,null,null,null,null,null,null,null,null,null,null,null,null,null,null,null,null,null,null,null,null,null,null,null,null,null,null,null,null,null,null,null,null,null,null,null,null,null,null,null,null,null,null,null,null,null,null,null,null,null,null,null,null,null,null,null,null,null,null,null,null,null,null,null,null,null,null,null,null,null,null,null,null,null,null,null,null,null,null,null,null,null,null,null,null,null,null,null,null,null,null,null,null,null,null,null,null,null,null,null,null,null,null,null,null,null,null,null,null,null,null,null,null,null,null,null,null,null,null,null,null,null,null,null,null,null,null,null,null,null,null,null,null,null,null,null,null,null,null,null,null,null,null,null,null,null,null,null,null,null,null,null,null,null,null,null,null,null,null,null,null,null,null,null,null,null,null,null,null,null,null,null,null,null,null,null,null,null,null,null,null,null,null,null,null,null,null,null,null,null,null,null,null,null,null,null,null,null,null,null,null,null,null,null,null,null,null,null,null,null,null,null,null,null,null,null,null,null,null,null,null,null,null,null,null,null,null,null,null,null,null,null,null,null,null,null,null,null,null,null,null,null,null,null,null,null,null,null,null,null,null,null,null,null,null,null,null,null,null,null,null,null,null,null,null,null,null,null,null,null,null,null,null,null,null,null,null,null,null,null,null,null,null,null,null,null,null,null,null,null,null,null,null,null,null,null,null,null,null,null,null,null,null,null,null,null,null,null,null,null,null,null,null,null,null,null,null,null,null,null,null,null,null,null,null,null,null,null,null,null,null,null,null,null,null,null,null,null,null,null,null,null,null,null,null,null,null,null,null,null,null,null,null,null,null,null,null,null,null,null,null,null,null,null,null,null,null,null,null,null,null,null,null,null,null,null,null,null,null,null,null,null,null,null,null,null,null,null,null,null,null,null,null,null,null,null,null,null,null,null,null,null,null,null,null,null,null,null,null,null,null,null,null,null,null,null,null,null,null,null,null,null,null,null,null,null,null,null,null,null,null,null,null,null,null,null,null,null,null,null,null,null,null,null,null,null,null,null,null,null,null,null,null,null,null,null,null,null,null,null,null,null,null,null,null,null,null,null,null,null,null,null,null,null,null,null,null,null,null,null,null,null,null,null,null,null,null,null,null,null,null,null,null,null,null,null,null,null,null,null,null,null,null,null,null,null,null,null,null,null,null,null,null,null,null,null,null,null,null,null,null,null,null,null,null,null,null,null,null,null,null,null,null,null,null,null,null,null,null,null,null,null,null,null,null,null,null,null,null,null,null,null,null,null,null,null,null,null,null,null,null,null,null,null,null,null,null,null,null,null,null,null,null,null,null,null,null,null,null,null,null,null,null,null,null,null,null,null,null,null,null,null,null,null,null,null,null,null,null,null,null,null,null,null,null,null,null,null,null,null,null,null,null,null,null,null,null,null,null,null,null,null,null,null,null,null,null,null,null,null,null,null,null,null,null,null,null,null,null,null,null,null,null,null,null,null,null,null,null,null,null,null,null,null,null,null,null,null,null,null,null,null,null,null,null,null,null,null,null,null,null,null,null,null,null,null,null,null,null,null,null,null,null,null,null,null,null,null,null,null,null,null,null,null,null,null,null,null,null,null,null,null,null,null,null,null,null,null,null,null,null,null,null,null,null,null,null,null,null,null,null,null,null,null,null,null,null,null,null,null,null,null,null,null,null,null,null,null,null,null,null,null,null,null,null,null,null,null,null,null,null,null,null,null,null,null,null,null,null,null,null,null,null,null,null,null,null,null,null,null,null,null,null,null,null,null,null,null,null,null,null,null,null,null,null,null,null,null,null,null,null,null,null,null,null,null,null,null,null,null,null,null,null,null,null,null,null,null,null,null,null,null,null,null,null,null,null,null,null,null,null,null,null,null,null,null,null,null,null,null,null,null,null,null,null,null,null,null,null,null,null,null,null,null,null,null,null,null,null,null,null,null,null,null,null,null,null,null,null,null,null,null,null,null,null,null,null,null,null,null,null,null,null,null,null,null,null,null,null,null,null,null,null,null,null,null,null,null,null,null,null,null,null,null,null,null,null,null,null,null,null,null,null,null,null,null,null,null,null,null,null,null,null,null,null,null,null,null,null,null,null,null,null,null,null,null,null,null,null,null,null,null,null,null,null,null,null,null,null,null,null,null,null,null,null,null,null,null,null,null,null,null,null,null,null,null,null,null,null,null,null,null,null,null,null,null,null,null,null,null,null,null,null,null,null,null,null,null,null,null,null,null,null,null,null,null,null,null,null,null,null,null,null,null,null,null,null,null,null,null,null,null,null,null,null,null,null,null,null,null,null,null,null,null,null,null,null,null,null,null,null,null,null,null,null,null,null,null,null,null,null,null,null,null,null,null,null,null,null,null,null,null,null,null,null,null,null,null,null,null,null,null,null,null,null,null,null,null,null,null,null,null,null,null,null,null,null,null,null,null,null,null,null,null,null,null,null,null,null,null,null,null,null,null,null,null,null,null,null,null,null,null,null,null,null,null,null,null,null,null,null,null,null,null,null,null,null,null,null,null,null,null,null,null,null,null,null,null,null,null,null,null,null,null,null,null,null,null,null,null,null,null,null,null,null,null,null,null,null,null,null,null,null,null,null,null,null,null,null,null,null,null,null,null,null,null,null,null,null,null,null,null,null,null,null,null,null,null,null,null,null,null,null,null,null,null,null,null,null,null,null,null,null,null,null,null,null,null,null,null,null,null,null,null,null,null,null,null,null,null,null,null,null,null,null,null,null,null,null,null,null,null,null,null,null,null,null,null,null,null,null,null,null,null,null,null,null,null,null,null,null,null,null,null,null,null,null,null,null,null,null,null,null,null,null,null,null,null,null,null,null,null,null,null,null,null,null,null,null,null,null,null,null,null,null,null,null,null,null,null,null,null,null,null,null,null,null,null,null,null,null,null,null,null,null,null,null,null,null,null,null,null,null,null,null,null,null,null,null,null,null,null,null,null,null,null,null,null,null,null,null,null,null,null,null,null,null,null,null,null,null,null,null,null,null,null,null,null,null,null,null,null,null,null,null,null,null,null,null,null,null,null,null,null,null,null,null,null,null,null,null,null,null,null,null,null,null,null,null,null,null,null,null,null,null,null,null,null,null,null,null,null,null,null,null,null,null,null,null,null,null,null,null,null,null,null,null,null,null,null,null,null,null,null,null,null,null,null,null,null,null,null,null,null,null,null,null,null,null,null,null,null,null,null,null,null,null,null,null,null,null,null,null,null,null,null,null,null,null,null,null,null,null,null,null,null,null,null,null,null,null,null,null,null,null,null,null,null,null,null,null,null,null,null,null,null,null,null,null,null,null,null,null,null,null,null,null,null,null,null,null,null,null,null,null,null,null,null,null,null,null,null,null,null,null,null,null,null,null,null,null,null,null,null,null,null,null,null,null,null,null,null,null,null,null,null,null,null,null,null,null,null,null,null,null,null,null,null,null,null,null,null,null,null,null,null,null,null,null,null,null,null,null,null,null,null,null,null,null,null,null,null,null,null,null,null,null,null,null,null,null,null,null,null,null,null,null,null,null,null,null,null,null,null,null,null,null,null,null,null,null,null,null,null,null,null,null,null,null,null,null,null,null,null,null,null,null,null,null,null,null,null,null,null,null,null,null,null,null,null,null,null,null,null,null,null,null,null,null,null,null,null,null,null,null,null,null,null,null,null,null,null,null,null,null,null,null,null,null,null,null,null,null,null,null,null,null,null,null,null,null,null,null,null,null,null,null,null,null,null,null,null,null,null,null,null,null,null,null,null,null,null,null,null,null,null,null,null,null,null,null,null,null,null,null,null,null,null,null,null,null,null,null,null,null,null,null,null,null,null,null,null,null,null,null,null,null,null,null,null,null,null,null,null,null,null,null,null,null,null,null,null,null,null,null,null,null,null,null,null,null,null,null,null,null,null,null,null,null,null,null,null,null,null,null,null,null,null,null,null,null,null,null,null,null,null,null,null,null,null,null,null,null,null,null,null,null,null,null,null,null,null,null,null,null,null,null,null,null,null,null,null,null,null,null,null,null,null,null,null,null,null,null,null,null,null,null,null,null,null,null,null,null,null,null,null,null,null,null,null,null,null,null,null,null,null,null,null,null,null,null,null,null,null,null,null,null,null,null,null,null,null,null,null,null,null,null,null,null,null,null,null,null,null,null,null,null,null,null,null,null,null,null,null,null,null,null,null,null,null,null,null,null,null,null,null,null,null,null,null,null,null,null,null,null,null,null,null,null,null,null,null,null,null,null,null,null,null,null,null,null,null,null,null,null,null,null,null,null,null,null,null,null,null,null,null,null,null,null,null,null,null,null,null,null,null,null,null,null,null,null,null,null,null,null,null,null,null,null,null,null,null,null,null,null,null,null,null,null,null,null,null,null,null,null,null,null,null,null,null,null,null,null,null,null,null,null,null,null,null,null,null,null,null,null,null,null,null,null,null,null,null,null,null,null,null,null,null,null,null,null,null,null,null,null,null,null,null,null,null,null,null,null,null,null,null,null,null,null,null,null,null,null,null,null,null,null,null,null,null,null,null,null,null,null,null,null,null,null,null,null,null,null,null,null,null,null,null,null,null,null,null,null,null,null,null,null,null,null,null,null,null,null,null,null,null,null,null,null,null,null,null,null,null,null,null,null,null,null,null,null,null,null,null,null,null,null,null,null,null,null,null,null,null,null,null,null,null,null,null,null,null,null,null,null,null,null,null,null,null,null,null,null,null,null,null,null,null,null,null,null,null,null,null,null,null,null,null,null,null,null,null,null,null,null,null,null,null,null,null,null,null,null,null,null,null,null,null,null,null,null,null,null,null,null,null,null,null,null,null,null,null,null,null,null,null,null,null,null,null,null,null,null,null,null,null,null,null,null,null,null,null,null,null,null,null,null,null,null,null,null,null,null,null,null,null,null,null,null,null,null,null,null,null,null,null,null,null,null,null,null,null,null,null,null,null,null,null,null,null,null,null,null,null,null,null,null,null,null,null,null,null,null,null,null,null,null,null,null,null,null,null,null,null,null,null,null,null,null,null,null,null,null,null,null,null,null,null,null,null,null,null,null,null,null,null,null,null,null,null,null,null,null,null,null,null,null,null,null,null,null,null,null,null,null,null,null,null,null,null,null,null,null,null,null,null,null,null,null,null,null,null,null,null,null,null,null,null,null,null,null,null,null,null,null,null,null,null,null,null,null,null,null,null,null,null,null,null,null,null,null,null,null,null,null,null,null,null,null,null,null,null,null,null,null,null,null,null,null,null,null,null,null,null,null,null,null,null,null,null,null,null,null,null,null,null,null,null,null,null,null,null,null,null,null,null,null,null,null,null,null,null,null,null,null,null,null,null,null,null,null,null,null,null,null,null,null,null,null,null,null,null,null,null,null,null,null,null,null,null,null,null,null,null,null,null,null,null,null,null,null,null,null,null,null,null,null,null,null,null,null,null,null,null,null,null,null,null,null,null,null,null,null,null,null,null,null,null,null,null,null,null,null,null,null,null,null,null,null,null,null,null,null,null,null,null,null,null,null,null,null,null,null,null,null,null,null,null,null,null,null,null,null,null,null,null,null,null,null,null,null,null,null,null,null,null,null,null,null,null,null,null,null,null,null,null,null,null,null,null,null,null,null,null,null,null,null,null,null,null,null,null,null,null,null,null,null,null,null,null,null,null,null,null,null,null,null,null,null,null,null,null,null,null,null,null,null,null,null,null,null,null,null,null,null,null,null,null,null,null,null,null,null,null,null,null,null,null,null,null,null,null,null,null,null,null,null,null,null,null,null,null,null,null,null,null,null,null,null,null,null,null,null,null,null,null,null,null,null,null,null,null,null,null,null,null,null,null,null,null,null,null,null,null,null,null,null,null,null,null,null,null,null,null,null,null,null,null,null,null,null,null,null,null,null,null,null,null,null,null,null,null,null,null,null,null,null,null,null,null,null,null,null,null,null,null,null,null,null,null,null,null,null,null,null,null,null,null,null,null,null,null,null,null,null,null,null,null,null,null,null,null,null,null,null,null,null,null,null,null,null,null,null,null,null,null,null,null,null,null,null,null,null,null,null,null,null,null,null,null,null,null,null,null,null,null,null,null,null,null,null,null,null,null,null,null,null,null,null,null,null,null,null,null,null,null,null,null,null,null,null,null,null,null,null,null,null,null,null,null,null,null,null,null,null,null,null,null,null,null,null,null,null,null,null,null,null,null,null,null,null,null,null,null,null,null,null,null,null,null,null,null,null,null,null,null,null,null,null,null,null,null,null,null,null,null,null,null,null,null,null,null,null,null,null,null,null,null,null,null,null,null,null,null,null,null,null,null,null,null,null,null,null,null,null,null,null,null,null,null,null,null,null,null,null,null,null,null,null,null,null,null,null,null,null,null,null,null,null,null,null,null,null,null,null,null,null,null,null,null,null,null,null,null,null,null,null,null,null,null,null,null,null,null,null,null,null,null,null,null,null,null,null,null,null,null,null,null,null,null,null,null,null,null,null,null,null,null,null,null,null,null,null,null,null,null,null,null,null,null,null,null,null,null,null,null,null,null,null,null,null,null,null,null,null,null,null,null,null,null,null,null,null,null,null,null,null,null,null,null,null,null,null,null,null,null,null,null,null,null,null,null,null,null,null,null,null,null,null,null,null,null,null,null,null,null,null,null,null,null,null,null,null,null,null,null,null,null,null,null,null,null,null,null,null,null,null,null,null,null,null,null,null,null,null,null,null,null,null,null,null,null,null,null,null,null,null,null,null,null,null,null,null,null,null,null,null,null,null,null,null,null,null,null,null,null,null,null,null,null,null,null,null,null,null,null,null,null,null,null,null,null,null,null,null,null,null,null,null,null,null,null,null,null,null,null,null,null,null,null,null,null,null,null,null,null,null,null,null,null,null,null,null,null,null,null,null,null,null,null,null,null,null,null,null,null,null,null,null,null,null,null,null,null,null,null,null,null,null,null,null,null,null,null,null,null,null,null,null,null,null,null,null,null,null,null,null,null,null,null,null,null,null,null,null,null,null,null,null,null,null,null,null,null,null,null,null,null,null,null,null,null,null,null,null,null,null,null,null,null,null,null,null,null,null,null,null,null,null,null,null,null,null,null,null,null,null,null,null,null,null,null,null,null,null,null,null,null,null,null,null,null,null,null,null,null,null,null,null,null,null,null,null,null,null,null,null,null,null,null,null,null,null,null,null,null,null,null,null,null,null,null,null,null,null,null,null,null,null,null,null,null,null,null,null,null,null,null,null,null,null,null,null,null,null,null,null,null,null,null,null,null,null,null,null,null,null,null,null,null,null,null,null,null,null,null,null,null,null,null,null,null,null,null,null,null,null,null,null,null,null,null,null,null,null,null,null,null,null,null,null,null,null,null,null,null,null,null,null,null,null,null,null,null,null,null,null,null,null,null,null,null,null,null,null,null,null,null,null,null,null,null,null,null,null,null,null,null,null,null,null,null,null,null,null,null,null,null,null,null,null,null,null,null,null,null,null,null,null,null,null,null,null,null,null,null,null,null,null,null,null,null,null,null,null,null,null,null,null,null,null,null,null,null,null,null,null,null,null,null,null,null,null,null,null,null,null,null,null,null,null,null,null,null,null,null,null,null,null,null,null,null,null,null,null,null,null,null,null,null,null,null,null,null,null,null,null,null,null,null,null,null,null,null,null,null,null,null,null,null,null,null,null,null,null,null,null,null,null,null,null,null,null,null,null,null,null,null,null,null,null,null,null,null,null,null,null,null,null,null,null,null,null,null,null,null,null,null,null,null,null,null,null,null,null,null,null,null,null,null,null,null,null,null,null,null,null,null,null,null,null,null,null,null,null,null,null,null,null,null,null,null,null,null,null,null,null,null,null,null,null,null,null,null,null,null,null,null,null,null,null,null,null,null,null,null,null,null,null,null,null,null,null,null,null,null,null,null,null,null,null,null,null,null,null,null,null,null,null,null,null,null,null,null,null,null,null,null,null,null,null,null,null,null,null,null,null,null,null,null,null,null,null,null,null,null,null,null,null,null,null,null,null,null,null,null,null,null,null,null,null,null,null,null,null,null,null,null,null,null,null,null,null,null,null,null,null,null,null,null,null,null,null,null,null,null,null,null,null,null,null,null,null,null,null,null,null,null,null,null,null,null,null,null,null,null,null,null,null,null,null,null,null,null,null,null,null,null,null,null,null,null,null,null,null,null,null,null,null,null,null,null,null,null,null,null,null,null,null,null,null,null,null,null,null,null,null,null,null,null,null,null,null,null,null,null,null,null,null,null,null,null,null,null,null,null,null,null,null,null,null,null,null,null,null,null,null,null,null,null,null,null,null,null,null,null,null,null,null,null,null,null,null,null,null,null,null,null,null,null,null,null,null,null,null,null,null,null,null,null,null,null,null,null,null,null,null,null,null,null,null,null,null,null,null,null,null,null,null,null,null,null,null,null,null,null,null,null,null,null,null,null,null,null,null,null,null,null,null,null,null,null,null,null,null,null,null,null,null,null,null,null,null,null,null,null,null,null,null,null,null,null,null,null,null,null,null,null,null,null,null,null,null,null,null,null,null,null,null,null,null,null,null,null,null,null,null,null,null,null,null,null,null,null,null,null,null,null,null,null,null,null,null,null,null,null,null,null,null,null,null,null,null,null,null,null,null,null,null,null,null,null,null,null,null,null,null,null,null,null,null,null,null,null,null,null,null,null,null,null,null,null,null,null,null,null,null,null,null,null,null,null,null,null,null,null,null,null,null,null,null,null,null,null,null,null,null,null,null,null,null,null,null,null,null,null,null,null,null,null,null,null,null,null,null,null,null,null,null,null,null,null,null,null,null,null,null,null,null,null,null,null,null,null,null,null,null,null,null,null,null,null,null,null,null,null,null,null,null,null,null,null,null,null,null,null,null,null,null,null,null,null,null,null,null,null,null,null,null,null,null,null,null,null,null,null,null,null,null,null,null,null,null,null,null,null,null,null,null,null,null,null,null,null,null,null,null,null,null,null,null,null,null,null,null,null,null,null,null,null,null,null,null,null,null,null,null,null,null,null,null,null,null,null,null,null,null,null,null,null,null,null,null,null,null,null,null,null,null,null,null,null,null,null,null,null,null,null,null,null,null,null,null,null,null,null,null,null,null,null,null,null,null,null,null,null,null,null,null,null,null,null,null,null,null,null,null,null,null,null,null,null,null,null,null,null,null,null,null,null,null,null,null,null,null,null,null,null,null,null,null,null,null,null,null,null,null,null,null,null,null,null,null,null,null,null,null,null,null,null,null,null,null,null,null,null,null,null,null,null,null,null,null,null,null,null,null,null,null,null,null,null,null,null,null,null,null,null,null,null,null,null,null,null,null,null,null,null,null,null,null,null,null,null,null,null,null,null,null,null,null,null,null,null,null,null,null,null,null,null,null,null,null,null,null,null,null,null,null,null,null,null,null,null,null,null,null,null,null,null,null,null,null,null,null,null,null,null,null,null,null,null,null,null,null,null,null,null,null,null,null,null,null,null,null,null,null,null,null,null,null,null,null,null,null,null,null,null,null,null,null,null,null,null,null,null,null,null,null,null,null,null,null,null,null,null,null,null,null,null,null,null,null,null,null,null,null,null,null,null,null,null,null,null,null,null,null,null,null,null,null,null,null,null,null,null,null,null,null,null,null,null,null,null,null,null,null,null,null,null,null,null,null,null,null,null,null,null,null,null,null,null,null,null,null,null,null,null,null,null,null,null,null,null,null,null,null,null,null,null,null,null,null,null,null,null,null,null,null,null,null,null,null,null,null,null,null,null,null,null,null,null,null,null,null,null,null,null,null,null,null,null,null,null,null,null,null,null,null,null,null,null,null,null,null,null,null,null,null,null,null,null,null,null,null,null,null,null,null,null,null,null,null,null,null,null,null,null,null,null,null,null,null,null,null,null,null,null,null,null,null,null,null,null,null,null,null,null,null,null,null,null,null,null,null,null,null,null,null,null,null,null,null,null,null,null,null,null,null,null,null,null,null,null,null,null,null,null,null,null,null,null,null,null,null,null,null,null,null,null,null,null,null,null,null,null,null,null,null,null,null,null,null,null,null,null,null,null,null,null,null,null,null,null,null,null,null,null,null,null,null,null,null,null,null,null,null,null,null,null,null,null,null,null,null,null,null,null,null,null,null,null,null,null,null,null,null,null,null,null,null,null,null,null,null,null,null,null,null,null,null,null,null,null,null,null,null,null,null,null,null,null,null,null,null,null,null,null,null,null,null,null,null,null,null,null,null,null,null,null,null,null,null,null,null,null,null,null,null,null,null,null,null,null,null,null,null,null,null,null,null,null,null,null,null,null,null,null,null,null,null,null,null,null,null,null,null,null,null,null,null,null,null,null,null,null,null,null,null,null,null,null,null,null,null,null,null,null,null,null,null,null,null,null,null,null,null,null,null,null,null,null,null,null,null,null,null,null,null,null,null,null,null,null,null,null,null,null,null,null,null,null,null,null,null,null,null,null,null,null,null,null,null,null,null,null,null,null,null,null,null,null,null,null,null,null,null,null,null,null,null,null,null,null,null,null,null,null,null,null,null,null,null,null,null,null,null,null,null,null,null,null,null,null,null,null,null,null,null,null,null,null,null,null,null,null,null,null,null,null,null,null,null,null,null,null,null,null,null,null,null,null,null,null,null,null,null,null,null,null,null,null,null,null,null,null,null,null,null,null,null,null,null,null,null,null,null,null,null,null,null,null,null,null,null,null,null,null,null,null,null,null,null,null,null,null,null,null,null,null,null,null,null,null,null,null,null,null,null,null,null,null,null,null,null,null,null,null,null,null,null,null,null,null,null,null,null,null,null,null,null,null,null,null,null,null,null,null,null,null,null,null,null,null,null,null,null,null,null,null,null,null,null,null,null,null,null,null,null,null,null,null,null,null,null,null,null,null,null,null,null,null,null,null,null,null,null,null,null,null,null,null,null,null,null,null,null,null,null,null,null,null,null,null,null,null,null,null,null,null,null,null,null,null,null,null,null,null,null,null,null,null,null,null,null,null,null,null,null,null,null,null,null,null,null,null,null,null,null,null,null,null,null,null,null,null,null,null,null,null,null,null,null,null,null,null,null,null,null,null,null,null,null,null,null,null,null,null,null,null,null,null,null,null,null,null,null,null,null,null,null,null,null,null,null,null,null,null,null,null,null,null,null,null,null,null,null,null,null,null,null,null,null,null,null,null,null,null,null,null,null,null,null,null,null,null,null,null,null,null,null,null,null,null,null,null,null,null,null,null,null,null,null,null,null,null,null,null,null,null,null,null,null,null,null,null,null,null,null,null,null,null,null,null,null,null,null,null,null,null,null,null,null,null,null,null,null,null,null,null,null,null,null,null,null,null,null,null,null,null,null,null,null,null,null,null,null,null,null,null,null,null,null,null,null,null,null,null,null,null,null,null,null,null,null,null,null,null,null,null,null,null,null,null,null,null,null,null,null,null,null,null,null,null,null,null,null,null,null,null,null,null,null,null,null,null,null,null,null,null,null,null,null,null,null,null,null,null,null,null,null,null,null,null,null,null,null,null,null,null,null,null,null,null,null,null,null,null,null,null,null,null,null,null,null,null,null,null,null,null,null,null,null,null,null,null,null,null,null,null,null,null,null,null,null,null,null,null,null,null,null,null,null,null,null,null,null,null,null,null,null,null,null,null,null,null,null,null,null,null,null,null,null,null,null,null,null,null,null,null,null,null,null,null,null,null,null,null,null,null,null,null,null,null,null,null,null,null,null,null,null,null,null,null,null,null,null,null,null,null,null,null,null,null,null,null,null,null,null,null,null,null,null,null,null,null,null,null,null,null,null,null,null,null,null,null,null,null,null,null,null,null,null,null,null,null,null,null,null,null,null,null,null,null,null,null,null,null,null,null,null,null,null,null,null,null,null,null,null,null,null,null,null,null,null,null,null,null,null,null,null,null,null,null,null,null,null,null,null,null,null,null,null,null,null,null,null,null,null,null,null,null,null,null,null,null,null,null,null,null,null,null,null,null,null,null,null,null,null,null,null,null,null,null,null,null,null,null,null,null,null,null,null,null,null,null,null,null,null,null,null,null,null,null,null,null,null,null,null,null,null,null,null,null,null,null,null,null,null,null,null,null,null,null,null,null,null,null,null,null,null,null,null,null,null,null,null,null,null,null,null,null,null,null,null,null,null,null,null,null,null,null,null,null,null,null,null,null,null,null,null,null,null,null,null,null,null,null,null,null,null,null,null,null,null,null,null,null,null,null,null,null,null,null,null,null,null,null,null,null,null,null,null,null,null,null,null,null,null,null,null,null,null,null,null,null,null,null,null,null,null,null,null,null,null,null,null,null,null,null,null,null,null,null,null,null,null,null,null,null,null,null,null,null,null,null,null,null,null,null,null,null,null,null,null,null,null,null,null,null,null,null,null,null,null,null,null,null,null,null,null,null,null,null,null,null,null,null,null,null,null,null,null,null,null,null,null,null,null,null,null,null,null,null,null,null,null,null,null,null,null,null,null,null,null,null,null,null,null,null,null,null,null,null,null,null,null,null,null,null,null,null,null,null,null,null,null,null,null,null,null,null,null,null,null,null,null,null,null,null,null,null,null,null,null,null,null,null,null,null,null,null,null,null,null,null,null,null,null,null,null,null,null,null,null,null,null,null,null,null,null,null,null,null,null,null,null,null,null,null,null,null,null,null,null,null,null,null,null,null,null,null,null,null,null,null,null,null,null,null,null,null,null,null,null,null,null,null,null,null,null,null,null,null,null,null,null,null,null,null,null,null,null,null,null,null,null,null,null,null,null,null,null,null,null,null,null,null,null,null,null,null,null,null,null,null,null,null,null,null,null,null,null,null,null,null,null,null,null,null,null,null,null,null,null,null,null,null,null,null,null,null,null,null,null,null,null,null,null,null,null,null,null,null,null,null,null,null,null,null,null,null,null,null,null,null,null,null,null,null,null,null,null,null,null,null,null,null,null,null,null,null,null,null,null,null,null,null,null,null,null,null,null,null,null,null,null,null,null,null,null,null,null,null,null,null,null,null,null,null,null,null,null,null,null,null,null,null,null,null,null,null,null,null,null,null,null,null,null,null,null,null,null,null,null,null,null,null,null,null,null,null,null,null,null,null,null,null,null,null,null,null,null,null,null,null,null,null,null,null,null,null,null,null,null,null,null,null,null,null,null,null,null,null,null,null,null,null,null,null,null,null,null,null,null,null,null,null,null,null,null,null,null,null,null,null,null,null,null,null,null,null,null,null,null,null,null,null,null,null,null,null,null,null,null,null,null,null,null,null,null,null,null,null,null,null,null,null,null,null,null,null,null,null,null,null,null,null,null,null,null,null,null,null,null,null,null,null,null,null,null,null,null,null,null,null,null,null,null,null,null,null,null,null,null,null,null,null,null,null,null,null,null,null,null,null,null,null,null,null,null,null,null,null,null,null,null,null,null,null,null,null,null,null,null,null,null,null,null,null,null,null,null,null,null,null,null,null,null,null,null,null,null,null,null,null,null,null,null,null,null,null,null,null,null,null,null,null,null,null,null,null,null,null,null,null,null,null,null,null,null,null,null,null,null,null,null,null,null,null,null,null,null,null,null,null,null,null,null,null,null,null,null,null,null,null,null,null,null,null,null,null,null,null,null,null,null,null,null,null,null,null,null,null,null,null,null,null,null,null,null,null,null,null,null,null,null,null,null,null,null,null,null,null,null,null,null,null,null,null,null,null,null,null,null,null,null,null,null,null,null,null,null,null,null,null,null,null,null,null,null,null,null,null,null,null,null,null,null,null,null,null,null,null,null,null,null,null,null,null,null,null,null,null,null,null,null,null,null,null,null,null,null,null,null,null,null,null,null,null,null,null,null,null,null,null,null,null,null,null,null,null,null,null,null,null,null,null,null,null,null,null,null,null,null,null,null,null,null,null,null,null,null,null,null,null,null,null,null,null,null,null,null,null,null,null,null,null,null,null,null,null,null,null,null,null,null,null,null,null,null,null,null,null,null,null,null,null,null,null,null,null,null,null,null,null,null,null,null,null,null,null,null,null,null,null,null,null,null,null,null,null,null,null,null,null,null,null,null,null,null,null,null,null,null,null,null,null,null,null,null,null,null,null,null,null,null,null,null,null,null,null,null,null,null,null,null,null,null,null,null,null,null,null,null,null,null,null,null,null,null,null,null,null,null,null,null,null,null,null,null,null,null,null,null,null,null,null,null,null,null,null,null,null,null,null,null,null,null,null,null,null,null,null,null,null,null,null,null,null,null,null,null,null,null,null,null,null,null,null,null,null,null,null,null,null,null,null,null,null,null,null,null,null,null,null,null,null,null,null,null,null,null,null,null,null,null,null,null,null,null,null,null,null,null,null,null,null,null,null,null,null,null,null,null,null,null,null,null,null,null,null,null,null,null,null,null,null,null,null,null,null,null,null,null,null,null,null,null,null,null,null,null,null,null,null,null,null,null,null,null,null,null,null,null,null,null,null,null,null,null,null,null,null,null,null,null,null,null,null,null,null,null,null,null,null,null,null,null,null,null,null,null,null,null,null,null,null,null,null,null,null,null,null,null,null,null,null,null,null,null,null,null,null,null,null,null,null,null,null,null,null,null,null,null,null,null,null,null,null,null,null,null,null,null,null,null,null,null,null,null,null,null,null,null,null,null,null,null,null,null,null,null,null,null,null,null,null,null,null,null,null,null,null,null,null,null,null,null,null,null,null,null,null,null,null,null,null,null,null,null,null,null,null,null,null,null,null,null,null,null,null,null,null,null,null,null,null,null,null,null,null,null,null,null,null,null,null,null,null,null,null,null,null,null,null,null,null,null,null,null,null,null,null,null,null,null,null,null,null,null,null,null,null,null,null,null,null,null,null,null,null,null,null,null,null,null,null,null,null,null,null,null,null,null,null,null,null,null,null,null,null,null,null,null,null,null,null,null,null,null,null,null,null,null,null,null,null,null,null,null,null,null,null,null,null,null,null,null,null,null,null,null,null,null,null,null,null,null,null,null,null,null,null,null,null,null,null,null,null,null,null,null,null,null,null,null,null,null,null,null,null,null,null,null,null,null,null,null,null,null,null,null,null,null,null,null,null,null,null,null,null,null,null,null,null,null,null,null,null,null,null,null,null,null,null,null,null,null,null,null,null,null,null,null,null,null,null,null,null,null,null,null,null,null,null,null,null,null,null,null,null,null,null,null,null,null,null,null,null,null,null,null,null,null,null,null,null,null,null,null,null,null,null,null,null,null,null,null,null,null,null,null,null,null,null,null,null,null,null,null,null,null,null,null,null,null,null,null,null,null,null,null,null,null,null,null,null,null,null,null,null,null,null,null,null,null,null,null,null,null,null,null,null,null,null,null,null,null,null,null,null,null,null,null,null,null,null,null,null,null,null,null,null,null,null,null,null,null,null,null,null,null,null,null,null,null,null,null,null,null,null,null,null,null,null,null,null,null,null,null,null,null,null,null,null,null,null,null,null,null,null,null,null,null,null,null,null,null,null,null,null,null,null,null,null,null,null,null,null,null,null,null,null,null,null,null,null,null,null,null,null,null,null,null,null,null,null,null,null,null,null,null,null,null,null,null,null,null,null,null,null,null,null,null,null,null,null,null,null,null,null,null,null,null,null,null,null,null,null,null,null,null,null,null,null,null,null,null,null,null,null,null,null,null,null,null,null,null,null,null,null,null,null,null,null,null,null,null,null,null,null,null,null,null,null,null,null,null,null,null,null,null,null,null,null,null,null,null,null,null,null,null,null,null,null,null,null,null,null,null,null,null,null,null,null,null,null,null,null,null,null,null,null,null,null,null,null,null,null,null,null,null,null,null,null,null,null,null,null,null,null,null,null,null,null,null,null,null,null,null,null,null,null,null,null,null,null,null,null,null,null,null,null,null,null,null,null,null,null,null,null,null,null,null,null,null,null,null,null,null,null,null,null,null,null,null,null,null,null,null,null,null,null,null,null,null,null,null,null,null,null,null,null,null,null,null,null,null,null,null,null,null,null,null,null,null,null,null,null,null,null,null,null,null,null,null,null,null,null,null,null,null,null,null,null,null,null,null,null,null,null,null,null,null,null,null,null,null,null,null,null,null,null,null,null,null,null,null,null,null,null,null,null,null,null,null,null,null,null,null,null,null,null,null,null,null,null,null,null,null,null,null,null,null,null,null,null,null,null,null,null,null,null,null,null,null,null,null,null,null,null,null,null,null,null,null,null,null,null,null,null,null,null,null,null,null,null,null,null,null,null,null,null,null,null,null,null,null,null,null,null,null,null,null,null,null,null,null,null,null,null,null,null,null,null,null,null,null,null,null,null,null,null,null,null,null,null,null,null,null,null,null,null,null,null,null,null,null,null,null,null,null,null,null,null,null,null,null,null,null,null,null,null,null,null,null,null,null,null,null,null,null,null,null,null,null,null,null,null,null,null,null,null,null,null,null,null,null,null,null,null,null,null,null,null,null,null,null,null,null,null,null,null,null,null,null,null,null,null,null,null,null,null,null,null,null,null,null,null,null,null,null,null,null,null,null,null,null,null,null,null,null,null,null,null,null,null,null,null,null,null,null,null,null,null,null,null,null,null,null,null,null,null,null,null,null,null,null,null,null,null,null,null,null,null,null,null,null,null,null,null,null,null,null,null,null,null,null,null,null,null,null,null,null,null,null,null,null,null,null,null,null,null,null,null,null,null,null,null,null,null,null,null,null,null,null,null,null,null,null,null,null,null,null,null,null,null,null,null,null,null,null,null,null,null,null,null,null,null,null,null,null,null,null,null,null,null,null,null,null,null,null,null,null,null,null,null,null,null,null,null,null,null,null,null,null,null,null,null,null,null,null,null,null,null,null,null,null,null,null,null,null,null,null,null,null,null,null,null,null,null,null,null,null,null,null,null,null,null,null,null,null,null,null,null,null,null,null,null,null,null,null,null,null,null,null,null,null,null,null,null,null,null,null,null,null,null,null,null,null,null,null,null,null,null,null,null,null,null,null,null,null,null,null,null,null,null,null,null,null,null,null,null,null,null,null,null,null,null,null,null,null,null,null,null,null,null,null,null,null,null,null,null,null,null,null,null,null,null,null,null,null,null,null,null,null,null,null,null,null,null,null,null,null,null,null,null,null,null,null,null,null,null,null,null,null,null,null,null,null,null,null,null,null,null,null,null,null,null,null,null,null,null,null,null,null,null,null,null,null,null,null,null,null,null,null,null,null,null,null,null,null,null,null,null,null,null,null,null,null,null,null,null,null,null,null,null,null,null,null,null,null,null,null,null,null,null,null,null,null,null,null,null,null,null,null,null,null,null,null,null,null,null,null,null,null,null,null,null,null,null,null,null,null,null,null,null,null,null,null,null,null,null,null,null,null,null,null,null,null,null,null,null,null,null,null,null,null,null,null,null,null,null,null,null,null,null,null,null,null,null,null,null,null,null,null,null,null,null,null,null,null,null,null,null,null,null,null,null,null,null,null,null,null,null,null,null,null,null,null,null,null,null,null,null,null,null,null,null,null,null,null,null,null,null,null,null,null,null,null,null,null,null,null,null,null,null,null,null,null,null,null,null,null,null,null,null,null,null,null,null,null,null,null,null,null,null,null,null,null,null,null,null,null,null,null,null,null,null,null,null,null,null,null,null,null,null,null,null,null,null,null,null,null,null,null,null,null,null,null,null,null,null,null,null,null,null,null,null,null,null,null,null,null,null,null,null,null,null,null,null,null,null,null,null,null,null,null,null,null,null,null,null,null,null,null,null,null,null,null,null,null,null,null,null,null,null,null,null,null,null,null,null,null,null,null,null,null,null,null,null,null,null,null,null,null,null,null,null,null,null,null,null,null,null,null,null,null,null,null,null,null,null,null,null,null,null,null,null,null,null,null,null,null,null,null,null,null,null,null,null,null,null,null,null,null,null,null,null,null,null,null,null,null,null,null,null,null,null,null,null,null,null,null,null,null,null,null,null,null,null,null,null,null,null,null,null,null,null,null,null,null,null,null,null,null,null,null,null,null,null,null,null,null,null,null,null,null,null,null,null,null,null,null,null,null,null,null,null,null,null,null,null,null,null,null,null,null,null,null,null,null,null,null,null,null,null,null,null,null,null,null,null,null,null,null,null,null,null,null,null,null,null,null,null,null,null,null,null,null,null,null,null,null,null,null,null,null,null,null,null,null,null,null,null,null,null,null,null,null,null,null,null,null,null,null,null,null,null,null,null,null,null,null,null,null,null,null,null,null,null,null,null,null,null,null,null,null,null,null,null,null,null,null,null,null,null,null,null,null,null,null,null,null,null,null,null,null,null,null,null,null,null,null,null,null,null,null,null,null,null,null,null,null,null,null,null,null,null,null,null,null,null,null,null,null,null,null,null,null,null,null,null,null,null,null,null,null,null,null,null,null,null,null,null,null,null,null,null,null,null,null,null,null,null,null,null,null,null,null,null,null,null,null,null,null,null,null,null,null,null,null,null,null,null,null,null,null,null,null,null,null,null,null,null,null,null,null,null,null,null,null,null,null,null,null,null,null,null,null,null,null,null,null,null,null,null,null,null,null,null,null,null,null,null,null,null,null,null,null,null,null,null,null,null,null,null,null,null,null,null,null,null,null,null,null,null,null,null,null,null,null,null,null,null,null,null,null,null,null,null,null,null,null,null,null,null,null,null,null,null,null,null,null,null,null,null,null,null,null,null,null,null,null,null,null,null,null,null,null,null,null,null,null,null,null,null,null,null,null,null,null,null,null,null,null,null,null,null,null,null,null,null,null,null,null,null,null,null,null,null,null,null,null,null,null,null,null,null,null,null,null,null,null,null,null,null,null,null,null,null,null,null,null,null,null,null,null,null,null,null,null,null,null,null,null,null,null,null,null,null,null,null,null,null,null,null,null,null,null,null,null,null,null,null,null,null,null,null,null,null,null,null,null,null,null,null,null,null,null,null,null,null,null,null,null,null,null,null,null,null,null,null,null,null,null,null,null,null,null,null,null,null,null,null,null,null,null,null,null,null,null,null,null,null,null,null,null,null,null,null,null,null,null,null,null,null,null,null,null,null,null,null,null,null,null,null,null,null,null,null,null,null,null,null,null,null,null,null,null,null,null,null,null,null,null,null,null,null,null,null,null,null,null,null,null,null,null,null,null,null,null,null,null,null,null,null,null,null,null,null,null,null,null,null,null,null,null,null,null,null,null,null,null,null,null,null,null,null,null,null,null,null,null,null,null,null,null,null,null,null,null,null,null,null,null,null,null,null,null,null,null,null,null,null,null,null,null,null,null,null,null,null,null,null,null,null,null,null,null,null,null,null,null,null,null,null,null,null,null,null,null,null,null,null,null,null,null,null,null,null,null,null,null,null,null,null,null,null,null,null,null,null,null,null,null,null,null,null,null,null,null,null,null,null,null,null,null,null,null,null,null,null,null,null,null,null,null,null,null,null,null,null,null,null,null,null,null,null,null,null,null,null,null,null,null,null,null,null,null,null,null,null,null,null,null,null,null,null,null,null,null,null,null,null,null,null,null,null,null,null,null,null,null,null,null,null,null,null,null,null,null,null,null,null,null,null,null,null,null,null,null,null,null,null,null,null,null,null,null,null,null,null,null,null,null,null,null,null,null,null,null,null,null,null,null,null,null,null,null,null,null,null,null,null,null,null,null,null,null,null,null,null,null,null,null,null,null,null,null,null,null,null,null,null,null,null,null,null,null,null,null,null,null,null,null,null,null,null,null,null,null,null,null,null,null,null,null,null,null,null,null,null,null,null,null,null,null,null,null,null,null,null,null,null,null,null,null,null,null,null,null,null,null,null,null,null,null,null,null,null,null,null,null,null,null,null,null,null,null,null,null,null,null,null,null,null,null,null,null,null,null,null,null,null,null,null,null,null,null,null,null,null,null,null,null,null,null,null,null,null,null,null,null,null,null,null,null,null,null,null,null,null,null,null,null,null,null,null,null,null,null,null,null,null,null,null,null,null,null,null,null,null,null,null,null,null,null,null,null,null,null,null,null,null,null,null,null,null,null,null,null,null,null,null,null,null,null,null,null,null,null,null,null,null,null,null,null,null,null,null,null,null,null,null,null,null,null,null,null,null,null,null,null,null,null,null,null,null,null,null,null,null,null,null,null,null,null,null,null,null,null,null,null,null,null,null,null,null,null,null,null,null,null,null,null,null,null,null,null,null,null,null,null,null,null,null,null,null,null,null,null,null,null,null,null,null,null,null,null,null,null,null,null,null,null,null,null,null,null,null,null,null,null,null,null,null,null,null,null,null,null,null,null,null,null,null,null,null,null,null,null,null,null,null,null,null,null,null,null,null,null,null,null,null,null,null,null,null,null,null,null,null,null,null,null,null,null,null,null,null,null,null,null,null,null,null,null,null,null,null,null,null,null,null,null,null,null,null,null,null,null,null,null,null,null,null,null,null,null,null,null,null,null,null,null,null,null,null,null,null,null,null,null,null,null,null,null,null,null,null,null,null,null,null,null,null,null,null,null,null,null,null,null,null,null,null,null,null,null,null,null,null,null,null,null,null,null,null,null,null,null,null,null,null,null,null,null,null,null,null,null,null,null,null,null,null,null,null,null,null,null,null,null,null,null,null,null,null,null,null,null,null,null,null,null,null,null,null,null,null,null,null,null,null,null,null,null,null,null,null,null,null,null,null,null,null,null,null,null,null,null,null,null,null,null,null,null,null,null,null,null,null,null,null,null,null,null,null,null,null,null,null,null,null,null,null,null,null,null,null,null,null,null,null,null,null,null,null,null,null,null,null,null,null,null,null,null,null,null,null,null,null,null,null,null,null,null,null,null,null,null,null,null,null,null,null,null,null,null,null,null,null,null,null,null,null,null,null,null,null,null,null,null,null,null,null,null,null,null,null,null,null,null,null,null,null,null,null,null,null,null,null,null,null,null,null,null,null,null,null,null,null,null,null,null,null,null,null,null,null,null,null,null,null,null,null,null,null,null,null,null,null,null,null,null,null,null,null,null,null,null,null,null,null,null,null,null,null,null,null,null,null,null,null,null,null,null,null,null,null,null,null,null,null,null,null,null,null,null,null,null,null,null,null,null,null,null,null,null,null,null,null,null,null,null,null,null,null,null,null,null,null,null,null,null,null,null,null,null,null,null,null,null,null,null,null,null,null,null,null,null,null,null,null,null,null,null,null,null,null,null,null,null,null,null,null,null,null,null,null,null,null,null,null,null,null,null,null,null,null,null,null,null,null,null,null,null,null,null,null,null,null,null,null,null,null,null,null,null,null,null,null,null,null,null,null,null,null,null,null,null,null,null,null,null,null,null,null,null,null,null,null,null,null,null,null,null,null,null,null,null,null,null,null,null,null,null,null,null,null,null,null,null,null,null,null,null,null,null,null,null,null,null,null,null,null,null,null,null,null,null,null,null,null,null,null,null,null,null,null,null,null,null,null,null,null,null,null,null,null,null,null,null,null,null,null,null,null,null,null,null,null,null,null,null,null,null,null,null,null,null,null,null,null,null,null,null,null,null,null,null,null,null,null,null,null,null,null,null,null,null,null,null,null,null,null,null,null,null,null,null,null,null,null,null,null,null,null,null,null,null,null,null,null,null,null,null,null,null,null,null,null,null,null,null,null,null,null,null,null,null,null,null,null,null,null,null,null,null,null,null,null,null,null,null,null,null,null,null,null,null,null,null,null,null,null,null,null,null,null,null,null,null,null,null,null,null,null,null,null,null,null,null,null,null,null,null,null,null,null,null,null,null,null,null,null,null,null,null,null,null,null,null,null,null,null,null,null,null,null,null,null,null,null,null,null,null,null,null,null,null,null,null,null,null,null,null,null,null,null,null,null,null,null,null,null,null,null,null,null,null,null,null,null,null,null,null,null,null,null,null,null,null,null,null,null,null,null,null,null,null,null,null,null,null,null,null,null,null,null,null,null,null,null,null,null,null,null,null,null,null,null,null,null,null,null,null,null,null,null,null,null,null,null,null,null,null,null,null,null,null,null,null,null,null,null,null,null,null,null,null,null,null,null,null,null,null,null,null,null,null,null,null,null,null,null,null,null,null,null,null,null,null,null,null,null,null,null,null,null,null,null,null,null,null,null,null,null,null,null,null,null,null,null,null,null,null,null,null,null,null,null,null,null,null,null,null,null,null,null,null,null,null,null,null,null,null,null,null,null,null,null,null,null,null,null,null,null,null,null,null,null,null,null,null,null,null,null,null,null,null,null,null,null,null,null,null,null,null,null,null,null,null,null,null,null,null,null,null,null,null,null,null,null,null,null,null,null,null,null,null,null,null,null,null,null,null,null,null,null,null,null,null,null,null,null,null,null,null,null,null,null,null,null,null,null,null,null,null,null,null,null,null,null,null,null,null,null,null,null,null,null,null,null,null,null,null,null,null,null,null,null,null,null,null,null,null,null,null,null,null,null,null,null,null,null,null,null,null,null,null,null,null,null,null,null,null,null,null,null,null,null,null,null,null,null,null,null,null,null,null,null,null,null,null,null,null,null,null,null,null,null,null,null,null,null,null,null,null,null,null,null,null,null,null,null,null,null,null,null,null,null,null,null,null,null,null,null,null,null,null,null,null,null,null,null,null,null,null,null,null,null,null,null,null,null,null,null,null,null,null,null,null,null,null,null,null,null,null,null,null,null,null,null,null,null,null,null,null,null,null,null,null,null,null,null,null,null,null,null,null,null,null,null,null,null,null,null,null,null,null,null,null,null,null,null,null,null,null,null,null,null,null,null,null,null,null,null,null,null,null,null,null,null,null,null,null,null,null,null,null,null,null,null,null,null,null,null,null,null,null,null,null,null,null,null,null,null,null,null,null,null,null,null,null,null,null,null,null,null,null,null,null,null,null,null,null,null,null,null,null,null,null,null,null,null,null,null,null,null,null,null,null,null,null,null,null,null,null,null,null,null,null,null,null,null,null,null,null,null,null,null,null,null,null,null,null,null,null,null,null,null,null,null,null,null,null,null,null,null,null,null,null,null,null,null,null,null,null,null,null,null,null,null,null,null,null,null,null,null,null,null,null,null,null,null,null,null,null,null,null,null,null,null,null,null,null,null,null,null,null,null,null,null,null,null,null,null,null,null,null,null,null,null,null,null,null,null,null,null,null,null,null,null,null,null,null,null,null,null,null,null,null,null,null,null,null,null,null,null,null,null,null,null,null,null,null,null,null,null,null,null,null,null,null,null,null,null,null,null,null,null,null,null,null,null,null,null,null,null,null,null,null,null,null,null,null,null,null,null,null,null,null,null,null,null,null,null,null,null,null,null,null,null,null,null,null,null,null,null,null,null,null,null,null,null,null,null,null,null,null,null,null,null,null,null,null,null,null,null,null,null,null,null,null,null,null,null,null,null,null,null,null,null,null,null,null,null,null,null,null,null,null,null,null,null,null,null,null,null,null,null,null,null,null,null,null,null,null,null,null,null,null,null,null,null,null,null,null,null,null,null,null,null,null,null,null,null,null,null,null,null,null,null,null,null,null,null,null,null,null,null,null,null,null,null,null,null,null,null,null,null,null,null,null,null,null,null,null,null,null,null,null,null,null,null,null,null,null,null,null,null,null,null,null,null,null,null,null,null,null,null,null,null,null,null,null,null,null,null,null,null,null,null,null,null,null,null,null,null,null,null,null,null,null,null,null,null,null,null,null,null,null,null,null,null,null,null,null,null,null,null,null,null,null,null,null,null,null,null,null,null,null,null,null,null,null,null,null,null,null,null,null,null,null,null,null,null,null,null,null,null,null,null,null,null,null,null,null,null,null,null,null,null,null,null,null,null,null,null,null,null,null,null,null,null,null,null,null,null,null,null,null,null,null,null,null,null,null,null,null,null,null,null,null,null,null,null,null,null,null,null,null,null,null,null,null,null,null,null,null,null,null,null,null,null,null,null,null,null,null,null,null,null,null,null,null,null,null,null,null,null,null,null,null,null,null,null,null,null,null,null,null,null,null,null,null,null,null,null,null,null,null,null,null,null,null,null,null,null,null,null,null,null,null,null,null,null,null,null,null,null,null,null,null,null,null,null,null,null,null,null,null,null,null,null,null,null,null,null,null,null,null,null,null,null,null,null,null,null,null,null,null,null,null,null,null,null,null,null,null,null,null,null,null,null,null,null,null,null,null,null,null,null,null,null,null,null,null,null,null,null,null,null,null,null,null,null,null,null,null,null,null,null,null,null,null,null,null,null,null,null,null,null,null,null,null,null,null,null,null,null,null,null,null,null,null,null,null,null,null,null,null,null,null,null,null,null,null,null,null,null,null,null,null,null,null,null,null,null,null,null,null,null,null,null,null,null,null,null,null,null,null,null,null,null,null,null,null,null,null,null,null,null,null,null,null,null,null,null,null,null,null,null,null,null,null,null,null,null,null,null,null,null,null,null,null,null,null,null,null,null,null,null,null,null,null,null,null,null,null,null,null,null,null,null,null,null,null,null,null,null,null,null,null,null,null,null,null,null,null,null,null,null,null,null,null,null,null,null,null,null,null,null,null,null,null,null,null,null,null,null,null,null,null,null,null,null,null,null,null,null,null,null,null,null,null,null,null,null,null,null,null,null,null,null,null,null,null,null,null,null,null,null,null,null,null,null,null,null,null,null,null,null,null,null,null,null,null,null,null,null,null,null,null,null,null,null,null,null,null,null,null,null,null,null,null,null,null,null,null,null,null,null,null,null,null,null,null,null,null,null,null,null,null,null,null,null,null,null,null,null,null,null,null,null,null,null,null,null,null,null,null,null,null,null,null,null,null,null,null,null,null,null,null,null,null,null,null,null,null,null,null,null,null,null,null,null,null,null,null,null,null,null,null,null,null,null,null,null,null,null,null,null,null,null,null,null,null,null,null,null,null,null,null,null,null,null,null,null,null,null,null,null,null,null,null,null,null,null,null,null,null,null,null,null,null,null,null,null,null,null,null,null,null,null,null,null,null,null,null,null,null,null,null,null,null,null,null,null,null,null,null,null,null,null,null,null,null,null,null,null,null,null,null,null,null,null,null,null,null,null,null,null,null,null,null,null,null,null,null,null,null,null,null,null,null,null,null,null,null,null,null,null,null,null,null,null,null,null,null,null,null,null,null,null,null,null,null,null,null,null,null,null,null,null,null,null,null,null,null,null,null,null,null,null,null,null,null,null,null,null,null,null,null,null,null,null,null,null,null,null,null,null,null,null,null,null,null,null,null,null,null,null,null,null,null,null,null,null,null,null,null,null,null,null,null,null,null,null,null,null,null,null,null,null,null,null,null,null,null,null,null,null,null,null,null,null,null,null,null,null,null,null,null,null,null,null,null,null,null,null,null,null,null,null,null,null,null,null,null,null,null,null,null,null,null,null,null,null,null,null,null,null,null,null,null,null,null,null,null,null,null,null,null,null,null,null,null,null,null,null,null,null,null,null,null,null,null,null,null,null,null,null,null,null,null,null,null,null,null,null,null,null,null,null,null,null,null,null,null,null,null,null,null,null,null,null,null,null,null,null,null,null,null,null,null,null,null,null,null,null,null,null,null,null,null,null,null,null,null,null,null,null,null,null,null,null,null,null,null,null,null,null,null,null,null,null,null,null,null,null,null,null,null,null,null,null,null,null,null,null,null,null,null,null,null,null,null,null,null,null,null,null,null,null,null,null,null,null,null,null,null,null,null,null,null,null,null,null,null,null,null,null,null,null,null,null,null,null,null,null,null,null,null,null,null,null,null,null,null,null,null,null,null,null,null,null,null,null,null,null,null,null,null,null,null,null,null,null,null,null,null,null,null,null,null,null,null,null,null,null,null,null,null,null,null,null,null,null,null,null,null,null,null,null,null,null,null,null,null,null,null,null,null,null,null,null,null,null,null,null,null,null,null,null,null,null,null,null,null,null,null,null,null,null,null,null,null,null,null,null,null,null,null,null,null,null,null,null,null,null,null,null,null,null,null,null,null,null,null,null,null,null,null,null,null,null,null,null,null,null,null,null,null,null,null,null,null,null,null,null,null,null,null,null,null,null,null,null,null,null,null,null,null,null,null,null,null,null,null,null,null,null,null,null,null,null,null,null,null,null,null,null,null,null,null,null,null,null,null,null,null,null,null,null,null,null,null,null,null,null,null,null,null,null,null,null,null,null,null,null,null,null,null,null,null,null,null,null,null,null,null,null,null,null,null,null,null,null,null,null,null,null,null,null,null,null,null,null,null,null,null,null,null,null,null,null,null,null,null,null,null,null,null,null,null,null,null,null,null,null,null,null,null,null,null,null,null,null,null,null,null,null,null,null,null,null,null,null,null,null,null,null,null,null,null,null,null,null,null,null,null,null,null,null,null,null,null,null,null,null,null,null,null,null,null,null,null,null,null,null,null,null,null,null,null,null,null,null,null,null,null,null,null,null,null,null,null,null,null,null,null,null,null,null,null,null,null,null,null,null,null,null,null,null,null,null,null,null,null,null,null,null,null,null,null,null,null,null,null,null,null,null,null,null,null,null,null,null,null,null,null,null,null,null,null,null,null,null,null,null,null,null,null,null,null,null,null,null,null,null,null,null,null,null,null,null,null,null,null,null,null,null,null,null,null,null,null,null,null,null,null,null,null,null,null,null,null,null,null,null,null,null,null,null,null,null,null,null,null,null,null,null,null,null,null,null,null,null,null,null,null,null,null,null,null,null,null,null,null,null,null,null,null,null,null,null,null,null,null,null,null,null,null,null,null,null,null,null,null,null,null,null,null,null,null,null,null,null,null,null,null,null,null,null,null,null,null,null,null,null,null,null,null,null,null,null,null,null,null,null,null,null,null,null,null,null,null,null,null,null,null,null,null,null,null,null,null,null,null,null,null,null,null,null,null,null,null,null,null,null,null,null,null,null,null,null,null,null,null,null,null,null,null,null,null,null,null,null,null,null,null,null,null,null,null,null,null,null,null,null,null,null,null,null,null,null,null,null,null,null,null,null,null,null,null,null,null,null,null,null,null,null,null,null,null,null,null,null,null,null,null,null,null,null,null,null,null,null,null,null,null,null,null,null,null,null,null,null,null,null,null,null,null,null,null,null,null,null,null,null,null,null,null,null,null,null,null,null,null,null,null,null,null,null,null,null,null,null,null,null,null,null,null,null,null,null,null,null,null,null,null,null,null,null,null,null,null,null,null,null,null,null,null,null,null,null,null,null,null,null,null,null,null,null,null,null,null,null,null,null,null,null,null,null,null,null,null,null,null,null,null,null,null,null,null,null,null,null,null,null,null,null,null,null,null,null,null,null,null,null,null,null,null,null,null,null,null,null,null,null,null,null,null,null,null,null,null,null,null,null,null,null,null,null,null,null,null,null,null,null,null,null,null,null,null,null,null,null,null,null,null,null,null,null,null,null,null,null,null,null,null,null,null,null,null,null,null,null,null,null,null,null,null,null,null,null,null,null,null,null,null,null,null,null,null,null,null,null,null,null,null,null,null,null,null,null,null,null,null,null,null,null,null,null,null,null,null,null,null,null,null,null,null,null,null,null,null,null,null,null,null,null,null,null,null,null,null,null,null,null,null,null,null,null,null,null,null,null,null,null,null,null,null,null,null,null,null,null,null,null,null,null,null,null,null,null,null,null,null,null,null,null,null,null,null,null,null,null,null,null,null,null,null,null,null,null,null,null,null,null,null,null,null,null,null,null,null,null,null,null,null,null,null,null,null,null,null,null,null,null,null,null,null,null,null,null,null,null,null,null,null,null,null,null,null,null,null,null,null,null,null,null,null,null,null,null,null,null,null,null,null,null,null,null,null,null,null,null,null,null,null,null,null,null,null,null,null,null,null,null,null,null,null,null,null,null,null,null,null,null,null,null,null,null,null,null,null,null,null,null,null,null,null,null,null,null,null,null,null,null,null,null,null,null,null,null,null,null,null,null,null,null,null,null,null,null,null,null,null,null,null,null,null,null,null,null,null,null,null,null,null,null,null,null,null,null,null,null,null,null,null,null,null,null,null,null,null,null,null,null,null,null,null,null,null,null,null,null,null,null,null,null,null,null,null,null,null,null,null,null,null,null,null,null,null,null,null,null,null,null,null,null,null,null,null,null,null,null,null,null,null,null,null,null,null,null,null,null,null,null,null,null,null,null,null,null,null,null,null,null,null,null,null,null,null,null,null,null,null,null,null,null,null,null,null,null,null,null,null,null,null,null,null,null,null,null,null,null,null,null,null,null,null,null,null,null,null,null,null,null,null,null,null,null,null,null,null,null,null,null,null,null,null,null,null,null,null,null,null,null,null,null,null,null,null,null,null,null,null,null,null,null,null,null,null,null,null,null,null,null,null,null,null,null,null,null,null,null,null,null,null,null,null,null,null,null,null,null,null,null,null,null,null,null,null,null,null,null,null,null,null,null,null,null,null,null,null,null,null,null,null,null,null,null,null,null,null,null,null,null,null,null,null,null,null,null,null,null,null,null,null,null,null,null,null,null,null,null,null,null,null,null,null,null,null,null,null,null,null,null,null,null,null,null,null,null,null,null,null,null,null,null,null,null,null,null,null,null,null,null,null,null,null,null,null,null,null,null,null,null,null,null,null,null,null,null,null,null,null,null,null,null,null,null,null,null,null,null,null,null,null,null,null,null,null,null,null,null,null,null,null,null,null,null,null,null,null,null,null,null,null,null,null,null,null,null,null,null,null,null,null,null,null,null,null,null,null,null,null,null,null,null,null,null,null,null,null,null,null,null,null,null,null,null,null,null,null,null,null,null,null,null,null,null,null,null,null,null,null,null,null,null,null,null,null,null,null,null,null,null,null,null,null,null,null,null,null,null,null,null,null,null,null,null,null,null,null,null,null,null,null,null,null,null,null,null,null,null,null,null,null,null,null,null,null,null,null,null,null,null,null,null,null,null,null,null,null,null,null,null,null,null,null,null,null,null,null,null,null,null,null,null,null,null,null,null,null,null,null,"T11","Tháng 11"]
[null,null,null,null,null,null,null,null,null,null,null,null,null,null,null,null,null,null,null,null,null,null,null,null,null,null,null,null,null,null,null,null,null,null,null,null,null,null,null,null,null,null,null,null,null,null,null,null,null,null,null,null,null,null,null,null,null,null,null,null,null,null,null,null,null,null,null,null,null,null,null,null,null,null,null,null,null,null,null,null,null,null,null,null,null,null,null,null,null,null,null,null,null,null,null,null,null,null,null,null,null,null,null,null,null,null,null,null,null,null,null,null,null,null,null,null,null,null,null,null,null,null,null,null,null,null,null,null,null,null,null,null,null,null,null,null,null,null,null,null,null,null,null,null,null,null,null,null,null,null,null,null,null,null,null,null,null,null,null,null,null,null,null,null,null,null,null,null,null,null,null,null,null,null,null,null,null,null,null,null,null,null,null,null,null,null,null,null,null,null,null,null,null,null,null,null,null,null,null,null,null,null,null,null,null,null,null,null,null,null,null,null,null,null,null,null,null,null,null,null,null,null,null,null,null,null,null,null,null,null,null,null,null,null,null,null,null,null,null,null,null,null,null,null,null,null,null,null,null,null,null,null,null,null,null,null,null,null,null,null,null,null,null,null,null,null,null,null,null,null,null,null,null,null,null,null,null,null,null,null,null,null,null,null,null,null,null,null,null,null,null,null,null,null,null,null,null,null,null,null,null,null,null,null,null,null,null,null,null,null,null,null,null,null,null,null,null,null,null,null,null,null,null,null,null,null,null,null,null,null,null,null,null,null,null,null,null,null,null,null,null,null,null,null,null,null,null,null,null,null,null,null,null,null,null,null,null,null,null,null,null,null,null,null,null,null,null,null,null,null,null,null,null,null,null,null,null,null,null,null,null,null,null,null,null,null,null,null,null,null,null,null,null,null,null,null,null,null,null,null,null,null,null,null,null,null,null,null,null,null,null,null,null,null,null,null,null,null,null,null,null,null,null,null,null,null,null,null,null,null,null,null,null,null,null,null,null,null,null,null,null,null,null,null,null,null,null,null,null,null,null,null,null,null,null,null,null,null,null,null,null,null,null,null,null,null,null,null,null,null,null,null,null,null,null,null,null,null,null,null,null,null,null,null,null,null,null,null,null,null,null,null,null,null,null,null,null,null,null,null,null,null,null,null,null,null,null,null,null,null,null,null,null,null,null,null,null,null,null,null,null,null,null,null,null,null,null,null,null,null,null,null,null,null,null,null,null,null,null,null,null,null,null,null,null,null,null,null,null,null,null,null,null,null,null,null,null,null,null,null,null,null,null,null,null,null,null,null,null,null,null,null,null,null,null,null,null,null,null,null,null,null,null,null,null,null,null,null,null,null,null,null,null,null,null,null,null,null,null,null,null,null,null,null,null,null,null,null,null,null,null,null,null,null,null,null,null,null,null,null,null,null,null,null,null,null,null,null,null,null,null,null,null,null,null,null,null,null,null,null,null,null,null,null,null,null,null,null,null,null,null,null,null,null,null,null,null,null,null,null,null,null,null,null,null,null,null,null,null,null,null,null,null,null,null,null,null,null,null,null,null,null,null,null,null,null,null,null,null,null,null,null,null,null,null,null,null,null,null,null,null,null,null,null,null,null,null,null,null,null,null,null,null,null,null,null,null,null,null,null,null,null,null,null,null,null,null,null,null,null,null,null,null,null,null,null,null,null,null,null,null,null,null,null,null,null,null,null,null,null,null,null,null,null,null,null,null,null,null,null,null,null,null,null,null,null,null,null,null,null,null,null,null,null,null,null,null,null,null,null,null,null,null,null,null,null,null,null,null,null,null,null,null,null,null,null,null,null,null,null,null,null,null,null,null,null,null,null,null,null,null,null,null,null,null,null,null,null,null,null,null,null,null,null,null,null,null,null,null,null,null,null,null,null,null,null,null,null,null,null,null,null,null,null,null,null,null,null,null,null,null,null,null,null,null,null,null,null,null,null,null,null,null,null,null,null,null,null,null,null,null,null,null,null,null,null,null,null,null,null,null,null,null,null,null,null,null,null,null,null,null,null,null,null,null,null,null,null,null,null,null,null,null,null,null,null,null,null,null,null,null,null,null,null,null,null,null,null,null,null,null,null,null,null,null,null,null,null,null,null,null,null,null,null,null,null,null,null,null,null,null,null,null,null,null,null,null,null,null,null,null,null,null,null,null,null,null,null,null,null,null,null,null,null,null,null,null,null,null,null,null,null,null,null,null,null,null,null,null,null,null,null,null,null,null,null,null,null,null,null,null,null,null,null,null,null,null,null,null,null,null,null,null,null,null,null,null,null,null,null,null,null,null,null,null,null,null,null,null,null,null,null,null,null,null,null,null,null,null,null,null,null,null,null,null,null,null,null,null,null,null,null,null,null,null,null,null,null,null,null,null,null,null,null,null,null,null,null,null,null,null,null,null,null,null,null,null,null,null,null,null,null,null,null,null,null,null,null,null,null,null,null,null,null,null,null,null,null,null,null,null,null,null,null,null,null,null,null,null,null,null,null,null,null,null,null,null,null,null,null,null,null,null,null,null,null,null,null,null,null,null,null,null,null,null,null,null,null,null,null,null,null,null,null,null,null,null,null,null,null,null,null,null,null,null,null,null,null,null,null,null,null,null,null,null,null,null,null,null,null,null,null,null,null,null,null,null,null,null,null,null,null,null,null,null,null,null,null,null,null,null,null,null,null,null,null,null,null,null,null,null,null,null,null,null,null,null,null,null,null,null,null,null,null,null,null,null,null,null,null,null,null,null,null,null,null,null,null,null,null,null,null,null,null,null,null,null,null,null,null,null,null,null,null,null,null,null,null,null,null,null,null,null,null,null,null,null,null,null,null,null,null,null,null,null,null,null,null,null,null,null,null,null,null,null,null,null,null,null,null,null,null,null,null,null,null,null,null,null,null,null,null,null,null,null,null,null,null,null,null,null,null,null,null,null,null,null,null,null,null,null,null,null,null,null,null,null,null,null,null,null,null,null,null,null,null,null,null,null,null,null,null,null,null,null,null,null,null,null,null,null,null,null,null,null,null,null,null,null,null,null,null,null,null,null,null,null,null,null,null,null,null,null,null,null,null,null,null,null,null,null,null,null,null,null,null,null,null,null,null,null,null,null,null,null,null,null,null,null,null,null,null,null,null,null,null,null,null,null,null,null,null,null,null,null,null,null,null,null,null,null,null,null,null,null,null,null,null,null,null,null,null,null,null,null,null,null,null,null,null,null,null,null,null,null,null,null,null,null,null,null,null,null,null,null,null,null,null,null,null,null,null,null,null,null,null,null,null,null,null,null,null,null,null,null,null,null,null,null,null,null,null,null,null,null,null,null,null,null,null,null,null,null,null,null,null,null,null,null,null,null,null,null,null,null,null,null,null,null,null,null,null,null,null,null,null,null,null,null,null,null,null,null,null,null,null,null,null,null,null,null,null,null,null,null,null,null,null,null,null,null,null,null,null,null,null,null,null,null,null,null,null,null,null,null,null,null,null,null,null,null,null,null,null,null,null,null,null,null,null,null,null,null,null,null,null,null,null,null,null,null,null,null,null,null,null,null,null,null,null,null,null,null,null,null,null,null,null,null,null,null,null,null,null,null,null,null,null,null,null,null,null,null,null,null,null,null,null,null,null,null,null,null,null,null,null,null,null,null,null,null,null,null,null,null,null,null,null,null,null,null,null,null,null,null,null,null,null,null,null,null,null,null,null,null,null,null,null,null,null,null,null,null,null,null,null,null,null,null,null,null,null,null,null,null,null,null,null,null,null,null,null,null,null,null,null,null,null,null,null,null,null,null,null,null,null,null,null,null,null,null,null,null,null,null,null,null,null,null,null,null,null,null,null,null,null,null,null,null,null,null,null,null,null,null,null,null,null,null,null,null,null,null,null,null,null,null,null,null,null,null,null,null,null,null,null,null,null,null,null,null,null,null,null,null,null,null,null,null,null,null,null,null,null,null,null,null,null,null,null,null,null,null,null,null,null,null,null,null,null,null,null,null,null,null,null,null,null,null,null,null,null,null,null,null,null,null,null,null,null,null,null,null,null,null,null,null,null,null,null,null,null,null,null,null,null,null,null,null,null,null,null,null,null,null,null,null,null,null,null,null,null,null,null,null,null,null,null,null,null,null,null,null,null,null,null,null,null,null,null,null,null,null,null,null,null,null,null,null,null,null,null,null,null,null,null,null,null,null,null,null,null,null,null,null,null,null,null,null,null,null,null,null,null,null,null,null,null,null,null,null,null,null,null,null,null,null,null,null,null,null,null,null,null,null,null,null,null,null,null,null,null,null,null,null,null,null,null,null,null,null,null,null,null,null,null,null,null,null,null,null,null,null,null,null,null,null,null,null,null,null,null,null,null,null,null,null,null,null,null,null,null,null,null,null,null,null,null,null,null,null,null,null,null,null,null,null,null,null,null,null,null,null,null,null,null,null,null,null,null,null,null,null,null,null,null,null,null,null,null,null,null,null,null,null,null,null,null,null,null,null,null,null,null,null,null,null,null,null,null,null,null,null,null,null,null,null,null,null,null,null,null,null,null,null,null,null,null,null,null,null,null,null,null,null,null,null,null,null,null,null,null,null,null,null,null,null,null,null,null,null,null,null,null,null,null,null,null,null,null,null,null,null,null,null,null,null,null,null,null,null,null,null,null,null,null,null,null,null,null,null,null,null,null,null,null,null,null,null,null,null,null,null,null,null,null,null,null,null,null,null,null,null,null,null,null,null,null,null,null,null,null,null,null,null,null,null,null,null,null,null,null,null,null,null,null,null,null,null,null,null,null,null,null,null,null,null,null,null,null,null,null,null,null,null,null,null,null,null,null,null,null,null,null,null,null,null,null,null,null,null,null,null,null,null,null,null,null,null,null,null,null,null,null,null,null,null,null,null,null,null,null,null,null,null,null,null,null,null,null,null,null,null,null,null,null,null,null,null,null,null,null,null,null,null,null,null,null,null,null,null,null,null,null,null,null,null,null,null,null,null,null,null,null,null,null,null,null,null,null,null,null,null,null,null,null,null,null,null,null,null,null,null,null,null,null,null,null,null,null,null,null,null,null,null,null,null,null,null,null,null,null,null,null,null,null,null,null,null,null,null,null,null,null,null,null,null,null,null,null,null,null,null,null,null,null,null,null,null,null,null,null,null,null,null,null,null,null,null,null,null,null,null,null,null,null,null,null,null,null,null,null,null,null,null,null,null,null,null,null,null,null,null,null,null,null,null,null,null,null,null,null,null,null,null,null,null,null,null,null,null,null,null,null,null,null,null,null,null,null,null,null,null,null,null,null,null,null,null,null,null,null,null,null,null,null,null,null,null,null,null,null,null,null,null,null,null,null,null,null,null,null,null,null,null,null,null,null,null,null,null,null,null,null,null,null,null,null,null,null,null,null,null,null,null,null,null,null,null,null,null,null,null,null,null,null,null,null,null,null,null,null,null,null,null,null,null,null,null,null,null,null,null,null,null,null,null,null,null,null,null,null,null,null,null,null,null,null,null,null,null,null,null,null,null,null,null,null,null,null,null,null,null,null,null,null,null,null,null,null,null,null,null,null,null,null,null,null,null,null,null,null,null,null,null,null,null,null,null,null,null,null,null,null,null,null,null,null,null,null,null,null,null,null,null,null,null,null,null,null,null,null,null,null,null,null,null,null,null,null,null,null,null,null,null,null,null,null,null,null,null,null,null,null,null,null,null,null,null,null,null,null,null,null,null,null,null,null,null,null,null,null,null,null,null,null,null,null,null,null,null,null,null,null,null,null,null,null,null,null,null,null,null,null,null,null,null,null,null,null,null,null,null,null,null,null,null,null,null,null,null,null,null,null,null,null,null,null,null,null,null,null,null,null,null,null,null,null,null,null,null,null,null,null,null,null,null,null,null,null,null,null,null,null,null,null,null,null,null,null,null,null,null,null,null,null,null,null,null,null,null,null,null,null,null,null,null,null,null,null,null,null,null,null,null,null,null,null,null,null,null,null,null,null,null,null,null,null,null,null,null,null,null,null,null,null,null,null,null,null,null,null,null,null,null,null,null,null,null,null,null,null,null,null,null,null,null,null,null,null,null,null,null,null,null,null,null,null,null,null,null,null,null,null,null,null,null,null,null,null,null,null,null,null,null,null,null,null,null,null,null,null,null,null,null,null,null,null,null,null,null,null,null,null,null,null,null,null,null,null,null,null,null,null,null,null,null,null,null,null,null,null,null,null,null,null,null,null,null,null,null,null,null,null,null,null,null,null,null,null,null,null,null,null,null,null,null,null,null,null,null,null,null,null,null,null,null,null,null,null,null,null,null,null,null,null,null,null,null,null,null,null,null,null,null,null,null,null,null,null,null,null,null,null,null,null,null,null,null,null,null,null,null,null,null,null,null,null,null,null,null,null,null,null,null,null,null,null,null,null,null,null,null,null,null,null,null,null,null,null,null,null,null,null,null,null,null,null,null,null,null,null,null,null,null,null,null,null,null,null,null,null,null,null,null,null,null,null,null,null,null,null,null,null,null,null,null,null,null,null,null,null,null,null,null,null,null,null,null,null,null,null,null,null,null,null,null,null,null,null,null,null,null,null,null,null,null,null,null,null,null,null,null,null,null,null,null,null,null,null,null,null,null,null,null,null,null,null,null,null,null,null,null,null,null,null,null,null,null,null,null,null,null,null,null,null,null,null,null,null,null,null,null,null,null,null,null,null,null,null,null,null,null,null,null,null,null,null,null,null,null,null,null,null,null,null,null,null,null,null,null,null,null,null,null,null,null,null,null,null,null,null,null,null,null,null,null,null,null,null,null,null,null,null,null,null,null,null,null,null,null,null,null,null,null,null,null,null,null,null,null,null,null,null,null,null,null,null,null,null,null,null,null,null,null,null,null,null,null,null,null,null,null,null,null,null,null,null,null,null,null,null,null,null,null,null,null,null,null,null,null,null,null,null,null,null,null,null,null,null,null,null,null,null,null,null,null,null,null,null,null,null,null,null,null,null,null,null,null,null,null,null,null,null,null,null,null,null,null,null,null,null,null,null,null,null,null,null,null,null,null,null,null,null,null,null,null,null,null,null,null,null,null,null,null,null,null,null,null,null,null,null,null,null,null,null,null,null,null,null,null,null,null,null,null,null,null,null,null,null,null,null,null,null,null,null,null,null,null,null,null,null,null,null,null,null,null,null,null,null,null,null,null,null,null,null,null,null,null,null,null,null,null,null,null,null,null,null,null,null,null,null,null,null,null,null,null,null,null,null,null,null,null,null,null,null,null,null,null,null,null,null,null,null,null,null,null,null,null,null,null,null,null,null,null,null,null,null,null,null,null,null,null,null,null,null,null,null,null,null,null,null,null,null,null,null,null,null,null,null,null,null,null,null,null,null,null,null,null,null,null,null,null,null,null,null,null,null,null,null,null,null,null,null,null,null,null,null,null,null,null,null,null,null,null,null,null,null,null,null,null,null,null,null,null,null,null,null,null,null,null,null,null,null,null,null,null,null,null,null,null,null,null,null,null,null,null,null,null,null,null,null,null,null,null,null,null,null,null,null,null,null,null,null,null,null,null,null,null,null,null,null,null,null,null,null,null,null,null,null,null,null,null,null,null,null,null,null,null,null,null,null,null,null,null,null,null,null,null,null,null,null,null,null,null,null,null,null,null,null,null,null,null,null,null,null,null,null,null,null,null,null,null,null,null,null,null,null,null,null,null,null,null,null,null,null,null,null,null,null,null,null,null,null,null,null,null,null,null,null,null,null,null,null,null,null,null,null,null,null,null,null,null,null,null,null,null,null,null,null,null,null,null,null,null,null,null,null,null,null,null,null,null,null,null,null,null,null,null,null,null,null,null,null,null,null,null,null,null,null,null,null,null,null,null,null,null,null,null,null,null,null,null,null,null,null,null,null,null,null,null,null,null,null,null,null,null,null,null,null,null,null,null,null,null,null,null,null,null,null,null,null,null,null,null,null,null,null,null,null,null,null,null,null,null,null,null,null,null,null,null,null,null,null,null,null,null,null,null,null,null,null,null,null,null,null,null,null,null,null,null,null,null,null,null,null,null,null,null,null,null,null,null,null,null,null,null,null,null,null,null,null,null,null,null,null,null,null,null,null,null,null,null,null,null,null,null,null,null,null,null,null,null,null,null,null,null,null,null,null,null,null,null,null,null,null,null,null,null,null,null,null,null,null,null,null,null,null,null,null,null,null,null,null,null,null,null,null,null,null,null,null,null,null,null,null,null,null,null,null,null,null,null,null,null,null,null,null,null,null,null,null,null,null,null,null,null,null,null,null,null,null,null,null,null,null,null,null,null,null,null,null,null,null,null,null,null,null,null,null,null,null,null,null,null,null,null,null,null,null,null,null,null,null,null,null,null,null,null,null,null,null,null,null,null,null,null,null,null,null,null,null,null,null,null,null,null,null,null,null,null,null,null,null,null,null,null,null,null,null,null,null,null,null,null,null,null,null,null,null,null,null,null,null,null,null,null,null,null,null,null,null,null,null,null,null,null,null,null,null,null,null,null,null,null,null,null,null,null,null,null,null,null,null,null,null,null,null,null,null,null,null,null,null,null,null,null,null,null,null,null,null,null,null,null,null,null,null,null,null,null,null,null,null,null,null,null,null,null,null,null,null,null,null,null,null,null,null,null,null,null,null,null,null,null,null,null,null,null,null,null,null,null,null,null,null,null,null,null,null,null,null,null,null,null,null,null,null,null,null,null,null,null,null,null,null,null,null,null,null,null,null,null,null,null,null,null,null,null,null,null,null,null,null,null,null,null,null,null,null,null,null,null,null,null,null,null,null,null,null,null,null,null,null,null,null,null,null,null,null,null,null,null,null,null,null,null,null,null,null,null,null,null,null,null,null,null,null,null,null,null,null,null,null,null,null,null,null,null,null,null,null,null,null,null,null,null,null,null,null,null,null,null,null,null,null,null,null,null,null,null,null,null,null,null,null,null,null,null,null,null,null,null,null,null,null,null,null,null,null,null,null,null,null,null,null,null,null,null,null,null,null,null,null,null,null,null,null,null,null,null,null,null,null,null,null,null,null,null,null,null,null,null,null,null,null,null,null,null,null,null,null,null,null,null,null,null,null,null,null,null,null,null,null,null,null,null,null,null,null,null,null,null,null,null,null,null,null,null,null,null,null,null,null,null,null,null,null,null,null,null,null,null,null,null,null,null,null,null,null,null,null,null,null,null,null,null,null,null,null,null,null,null,null,null,null,null,null,null,null,null,null,null,null,null,null,null,null,null,null,null,null,null,null,null,null,null,null,null,null,null,null,null,null,null,null,null,null,null,null,null,null,null,null,null,null,null,null,null,null,null,null,null,null,null,null,null,null,null,null,null,null,null,null,null,null,null,null,null,null,null,null,null,null,null,null,null,null,null,null,null,null,null,null,null,null,null,null,null,null,null,null,null,null,null,null,null,null,null,null,null,null,null,null,null,null,null,null,null,null,null,null,null,null,null,null,null,null,null,null,null,null,null,null,null,null,null,null,null,null,null,null,null,null,null,null,null,null,null,null,null,null,null,null,null,null,null,null,null,null,null,null,null,null,null,null,null,null,null,null,null,null,null,null,null,null,null,null,null,null,null,null,null,null,null,null,null,null,null,null,null,null,null,null,null,null,null,null,null,null,null,null,null,null,null,null,null,null,null,null,null,null,null,null,null,null,null,null,null,null,null,null,null,null,null,null,null,null,null,null,null,null,null,null,null,null,null,null,null,null,null,null,null,null,null,null,null,null,null,null,null,null,null,null,null,null,null,null,null,null,null,null,null,null,null,null,null,null,null,null,null,null,null,null,null,null,null,null,null,null,null,null,null,null,null,null,null,null,null,null,null,null,null,null,null,null,null,null,null,null,null,null,null,null,null,null,null,null,null,null,null,null,null,null,null,null,null,null,null,null,null,null,null,null,null,null,null,null,null,null,null,null,null,null,null,null,null,null,null,null,null,null,null,null,null,null,null,null,null,null,null,null,null,null,null,null,null,null,null,null,null,null,null,null,null,null,null,null,null,null,null,null,null,null,null,null,null,null,null,null,null,null,null,null,null,null,null,null,null,null,null,null,null,null,null,null,null,null,null,null,null,null,null,null,null,null,null,null,null,null,null,null,null,null,null,null,null,null,null,null,null,null,null,null,null,null,null,null,null,null,null,null,null,null,null,null,null,null,null,null,null,null,null,null,null,null,null,null,null,null,null,null,null,null,null,null,null,null,null,null,null,null,null,null,null,null,null,null,null,null,null,null,null,null,null,null,null,null,null,null,null,null,null,null,null,null,null,null,null,null,null,null,null,null,null,null,null,null,null,null,null,null,null,null,null,null,null,null,null,null,null,null,null,null,null,null,null,null,null,null,null,null,null,null,null,null,null,null,null,null,null,null,null,null,null,null,null,null,null,null,null,null,null,null,null,null,null,null,null,null,null,null,null,null,null,null,null,null,null,null,null,null,null,null,null,null,null,null,null,null,null,null,null,null,null,null,null,null,null,null,null,null,null,null,null,null,null,null,null,null,null,null,null,null,null,null,null,null,null,null,null,null,null,null,null,null,null,null,null,null,null,null,null,null,null,null,null,null,null,null,null,null,null,null,null,null,null,null,null,null,null,null,null,null,null,null,null,null,null,null,null,null,null,null,null,null,null,null,null,null,null,null,null,null,null,null,null,null,null,null,null,null,null,null,null,null,null,null,null,null,null,null,null,null,null,null,null,null,null,null,null,null,null,null,null,null,null,null,null,null,null,null,null,null,null,null,null,null,null,null,null,null,null,null,null,null,null,null,null,null,null,null,null,null,null,null,null,null,null,null,null,null,null,null,null,null,null,null,null,null,null,null,null,null,null,null,null,null,null,null,null,null,null,null,null,null,null,null,null,null,null,null,null,null,null,null,null,null,null,null,null,null,null,null,null,null,null,null,null,null,null,null,null,null,null,null,null,null,null,null,null,null,null,null,null,null,null,null,null,null,null,null,null,null,null,null,null,null,null,null,null,null,null,null,null,null,null,null,null,null,null,null,null,null,null,null,null,null,null,null,null,null,null,null,null,null,null,null,null,null,null,null,null,null,null,null,null,null,null,null,null,null,null,null,null,null,null,null,null,null,null,null,null,null,null,null,null,null,null,null,null,null,null,null,null,null,null,null,null,null,null,null,null,null,null,null,null,null,null,null,null,null,null,null,null,null,null,null,null,null,null,null,null,null,null,null,null,null,null,null,null,null,null,null,null,null,null,null,null,null,null,null,null,null,null,null,null,null,null,null,null,null,null,null,null,null,null,null,null,null,null,null,null,null,null,null,null,null,null,null,null,null,null,null,null,null,null,null,null,null,null,null,null,null,null,null,null,null,null,null,null,null,null,null,null,null,null,null,null,null,null,null,null,null,null,null,null,null,null,null,null,null,null,null,null,null,null,null,null,null,null,null,null,null,null,null,null,null,null,null,null,null,null,null,null,null,null,null,null,null,null,null,null,null,null,null,null,null,null,null,null,null,null,null,null,null,null,null,null,null,null,null,null,null,null,null,null,null,null,null,null,null,null,null,null,null,null,null,null,null,null,null,null,null,null,null,null,null,null,null,null,null,null,null,null,null,null,null,null,null,null,null,null,null,null,null,null,null,null,null,null,null,null,null,null,null,null,null,null,null,null,null,null,null,null,null,null,null,null,null,null,null,null,null,null,null,null,null,null,null,null,null,null,null,null,null,null,null,null,null,null,null,null,null,null,null,null,null,null,null,null,null,null,null,null,null,null,null,null,null,null,null,null,null,null,null,null,null,null,null,null,null,null,null,null,null,null,null,null,null,null,null,null,null,null,null,null,null,null,null,null,null,null,null,null,null,null,null,null,null,null,null,null,null,null,null,null,null,null,null,null,null,null,null,null,null,null,null,null,null,null,null,null,null,null,null,null,null,null,null,null,null,null,null,null,null,null,null,null,null,null,null,null,null,null,null,null,null,null,null,null,null,null,null,null,null,null,null,null,null,null,null,null,null,null,null,null,null,null,null,null,null,null,null,null,null,null,null,null,null,null,null,null,null,null,null,null,null,null,null,null,null,null,null,null,null,null,null,null,null,null,null,null,null,null,null,null,null,null,null,null,null,null,null,null,null,null,null,null,null,null,null,null,null,null,null,null,null,null,null,null,null,null,null,null,null,null,null,null,null,null,null,null,null,null,null,null,null,null,null,null,null,null,null,null,null,null,null,null,null,null,null,null,null,null,null,null,null,null,null,null,null,null,null,null,null,null,null,null,null,null,null,null,null,null,null,null,null,null,null,null,null,null,null,null,null,null,null,null,null,null,null,null,null,null,null,null,null,null,null,null,null,null,null,null,null,null,null,null,null,null,null,null,null,null,null,null,null,null,null,null,null,null,null,null,null,null,null,null,null,null,null,null,null,null,null,null,null,null,null,null,null,null,null,null,null,null,null,null,null,null,null,null,null,null,null,null,null,null,null,null,null,null,null,null,null,null,null,null,null,null,null,null,null,null,null,null,null,null,null,null,null,null,null,null,null,null,null,null,null,null,null,null,null,null,null,null,null,null,null,null,null,null,null,null,null,null,null,null,null,null,null,null,null,null,null,null,null,null,null,null,null,null,null,null,null,null,null,null,null,null,null,null,null,null,null,null,null,null,null,null,null,null,null,null,null,null,null,null,null,null,null,null,null,null,null,null,null,null,null,null,null,null,null,null,null,null,null,null,null,null,null,null,null,null,null,null,null,null,null,null,null,null,null,null,null,null,null,null,null,null,null,null,null,null,null,null,null,null,null,null,null,null,null,null,null,null,null,null,null,null,null,null,null,null,null,null,null,null,null,null,null,null,null,null,null,null,null,null,null,null,null,null,null,null,null,null,null,null,null,null,null,null,null,null,null,null,null,null,null,null,null,null,null,null,null,null,null,null,null,null,null,null,null,null,null,null,null,null,null,null,null,null,null,null,null,null,null,null,null,null,null,null,null,null,null,null,null,null,null,null,null,null,null,null,null,null,null,null,null,null,null,null,null,null,null,null,null,null,null,null,null,null,null,null,null,null,null,null,null,null,null,null,null,null,null,null,null,null,null,null,null,null,null,null,null,null,null,null,null,null,null,null,null,null,null,null,null,null,null,null,null,null,null,null,null,null,null,null,null,null,null,null,null,null,null,null,null,null,null,null,null,null,null,null,null,null,null,null,null,null,null,null,null,null,null,null,null,null,null,null,null,null,null,null,null,null,null,null,null,null,null,null,null,null,null,null,null,null,null,null,null,null,null,null,null,null,null,null,null,null,null,null,null,null,null,null,null,null,null,null,null,null,null,null,null,null,null,null,null,null,null,null,null,null,null,null,null,null,null,null,null,null,null,null,null,null,null,null,null,null,null,null,null,null,null,null,null,null,null,null,null,null,null,null,null,null,null,null,null,null,null,null,null,null,null,null,null,null,null,null,null,null,null,null,null,null,null,null,null,null,null,null,null,null,null,null,null,null,null,null,null,null,null,null,null,null,null,null,null,null,null,null,null,null,null,null,null,null,null,null,null,null,null,null,null,null,null,null,null,null,null,null,null,null,null,null,null,null,null,null,null,null,null,null,null,null,null,null,null,null,null,null,null,null,null,null,null,null,null,null,null,null,null,null,null,null,null,null,null,null,null,null,null,null,null,null,null,null,null,null,null,null,null,null,null,null,null,null,null,null,null,null,null,null,null,null,null,null,null,null,null,null,null,null,null,null,null,null,null,null,null,null,null,null,null,null,null,null,null,null,null,null,null,null,null,null,null,null,null,null,null,null,null,null,null,null,null,null,null,null,null,null,null,null,null,null,null,null,null,null,null,null,null,null,null,null,null,null,null,null,null,null,null,null,null,null,null,null,null,null,null,null,null,null,null,null,null,null,null,null,null,null,null,null,null,null,null,null,null,null,null,null,null,null,null,null,null,null,null,null,null,null,null,null,null,null,null,null,null,null,null,null,null,null,null,null,null,null,null,null,null,null,null,null,null,null,null,null,null,null,null,null,null,null,null,null,null,null,null,null,null,null,null,null,null,null,null,null,null,null,null,null,null,null,null,null,null,null,null,null,null,null,null,null,null,null,null,null,null,null,null,null,null,null,null,null,null,null,null,null,null,null,null,null,null,null,null,null,null,null,null,null,null,null,null,null,null,null,null,null,null,null,null,null,null,null,null,null,null,null,null,null,null,null,null,null,null,null,null,null,null,null,null,null,null,null,null,null,null,null,null,null,null,null,null,null,null,null,null,null,null,null,null,null,null,null,null,null,null,null,null,null,null,null,null,null,null,null,null,null,null,null,null,null,null,null,null,null,null,null,null,null,null,null,null,null,null,null,null,null,null,null,null,null,null,null,null,null,null,null,null,null,null,null,null,null,null,null,null,null,null,null,null,null,null,null,null,null,null,null,null,null,null,null,null,null,null,null,null,null,null,null,null,null,null,null,null,null,null,null,null,null,null,null,null,null,null,null,null,null,null,null,null,null,null,null,null,null,null,null,null,null,null,null,null,null,null,null,null,null,null,null,null,null,null,null,null,null,null,null,null,null,null,null,null,null,null,null,null,null,null,null,null,null,null,null,null,null,null,null,null,null,null,null,null,null,null,null,null,null,null,null,null,null,null,null,null,null,null,null,null,null,null,null,null,null,null,null,null,null,null,null,null,null,null,null,null,null,null,null,null,null,null,null,null,null,null,null,null,null,null,null,null,null,null,null,null,null,null,null,null,null,null,null,null,null,null,null,null,null,null,null,null,null,null,null,null,null,null,null,null,null,null,null,null,null,null,null,null,null,null,null,null,null,null,null,null,null,null,null,null,null,null,null,null,null,null,null,null,null,null,null,null,null,null,null,null,null,null,null,null,null,null,null,null,null,null,null,null,null,null,null,null,null,null,null,null,null,null,null,null,null,null,null,null,null,null,null,null,null,null,null,null,null,null,null,null,null,null,null,null,null,null,null,null,null,null,null,null,null,null,null,null,null,null,null,null,null,null,null,null,null,null,null,null,null,null,null,null,null,null,null,null,null,null,null,null,null,null,null,null,null,null,null,null,null,null,null,null,null,null,null,null,null,null,null,null,null,null,null,null,null,null,null,null,null,null,null,null,null,null,null,null,null,null,null,null,null,null,null,null,null,null,null,null,null,null,null,null,null,null,null,null,null,null,null,null,null,null,null,null,null,null,null,null,null,null,null,null,null,null,null,null,null,null,null,null,null,null,null,null,null,null,null,null,null,null,null,null,null,null,null,null,null,null,null,null,null,null,null,null,null,null,null,null,null,null,null,null,null,null,null,null,null,null,null,null,null,null,null,null,null,null,null,null,null,null,null,null,null,null,null,null,null,null,null,null,null,null,null,null,null,null,null,null,null,null,null,null,null,null,null,null,null,null,null,null,null,null,null,null,null,null,null,null,null,null,null,null,null,null,null,null,null,null,null,null,null,null,null,null,null,null,null,null,null,null,null,null,null,null,null,null,null,null,null,null,null,null,null,null,null,null,null,null,null,null,null,null,null,null,null,null,null,null,null,null,null,null,null,null,null,null,null,null,null,null,null,null,null,null,null,null,null,null,null,null,null,null,null,null,null,null,null,null,null,null,null,null,null,null,null,null,null,null,null,null,null,null,null,null,null,null,null,null,null,null,null,null,null,null,null,null,null,null,null,null,null,null,null,null,null,null,null,null,null,null,null,null,null,null,null,null,null,null,null,null,null,null,null,null,null,null,null,null,null,null,null,null,null,null,null,null,null,null,null,null,null,null,null,null,null,null,null,null,null,null,null,null,null,null,null,null,null,null,null,null,null,null,null,null,null,null,null,null,null,null,null,null,null,null,null,null,null,null,null,null,null,null,null,null,null,null,null,null,null,null,null,null,null,null,null,null,null,null,null,null,null,null,null,null,null,null,null,null,null,null,null,null,null,null,null,null,null,null,null,null,null,null,null,null,null,null,null,null,null,null,null,null,null,null,null,null,null,null,null,null,null,null,null,null,null,null,null,null,null,null,null,null,null,null,null,null,null,null,null,null,null,null,null,null,null,null,null,null,null,null,null,null,null,null,null,null,null,null,null,null,null,null,null,null,null,null,null,null,null,null,null,null,null,null,null,null,null,null,null,null,null,null,null,null,null,null,null,null,null,null,null,null,null,null,null,null,null,null,null,null,null,null,null,null,null,null,null,null,null,null,null,null,null,null,null,null,null,null,null,null,null,null,null,null,null,null,null,null,null,null,null,null,null,null,null,null,null,null,null,null,null,null,null,null,null,null,null,null,null,null,null,null,null,null,null,null,null,null,null,null,null,null,null,null,null,null,null,null,null,null,null,null,null,null,null,null,null,null,null,null,null,null,null,null,null,null,null,null,null,null,null,null,null,null,null,null,null,null,null,null,null,null,null,null,null,null,null,null,null,null,null,null,null,null,null,null,null,null,null,null,null,null,null,null,null,null,null,null,null,null,null,null,null,null,null,null,null,null,null,null,null,null,null,null,null,null,null,null,null,null,null,null,null,null,null,null,null,null,null,null,null,null,null,null,null,null,null,null,null,null,null,null,null,null,null,null,null,null,null,null,null,null,null,null,null,null,null,null,null,null,null,null,null,null,null,null,null,null,null,null,null,null,null,null,null,null,null,null,null,null,null,null,null,null,null,null,null,null,null,null,null,null,null,null,null,null,null,null,null,null,null,null,null,null,null,null,null,null,null,null,null,null,null,null,null,null,null,null,null,null,null,null,null,null,null,null,null,null,null,null,null,null,null,null,null,null,null,null,null,null,null,null,null,null,null,null,null,null,null,null,null,null,null,null,null,null,null,null,null,null,null,null,null,null,null,null,null,null,null,null,null,null,null,null,null,null,null,null,null,null,null,null,null,null,null,null,null,null,null,null,null,null,null,null,null,null,null,null,null,null,null,null,null,null,null,null,null,null,null,null,null,null,null,null,null,null,null,null,null,null,null,null,null,null,null,null,null,null,null,null,null,null,null,null,null,null,null,null,null,null,null,null,null,null,null,null,null,null,null,null,null,null,null,null,null,null,null,null,null,null,null,null,null,null,null,null,null,null,null,null,null,null,null,null,null,null,null,null,null,null,null,null,null,null,null,null,null,null,null,null,null,null,null,null,null,null,null,null,null,null,null,null,null,null,null,null,null,null,null,null,null,null,null,null,null,null,null,null,null,null,null,null,null,null,null,null,null,null,null,null,null,null,null,null,null,null,null,null,null,null,null,null,null,null,null,null,null,null,null,null,null,null,null,null,null,null,null,null,null,null,null,null,null,null,null,null,null,null,null,null,null,null,null,null,null,null,null,null,null,null,null,null,null,null,null,null,null,null,null,null,null,null,null,null,null,null,null,null,null,null,null,null,null,null,null,null,null,null,null,null,null,null,null,null,null,null,null,null,null,null,null,null,null,null,null,null,null,null,null,null,null,null,null,null,null,null,null,null,null,null,null,null,null,null,null,null,null,null,null,null,null,null,null,null,null,null,null,null,null,null,null,null,null,null,null,null,null,null,null,null,null,null,null,null,null,null,null,null,null,null,null,null,null,null,null,null,null,null,null,null,null,null,null,null,null,null,null,null,null,null,null,null,null,null,null,null,null,null,null,null,null,null,null,null,null,null,null,null,null,null,null,null,null,null,null,null,null,null,null,null,null,null,null,null,null,null,null,null,null,null,null,null,null,null,null,null,null,null,null,null,null,null,null,null,null,null,null,null,null,null,null,null,null,null,null,null,null,null,null,null,null,null,null,null,null,null,null,null,null,null,null,null,null,null,null,null,null,null,null,null,null,null,null,null,null,null,null,null,null,null,null,null,null,null,null,null,null,null,null,null,null,null,null,null,null,null,null,null,null,null,null,null,null,null,null,null,null,null,null,null,null,null,null,null,null,null,null,null,null,null,null,null,null,null,null,null,null,null,null,null,null,null,null,null,null,null,null,null,null,null,null,null,null,null,null,null,null,null,null,null,null,null,null,null,null,null,null,null,null,null,null,null,null,null,null,null,null,null,null,null,null,null,null,null,null,null,null,null,null,null,null,null,null,null,null,null,null,null,null,null,null,null,null,null,null,null,null,null,null,null,null,null,null,null,null,null,null,null,null,null,null,null,null,null,null,null,null,null,null,null,null,null,null,null,null,null,null,null,null,null,null,null,null,null,null,null,null,null,null,null,null,null,null,null,null,null,null,null,null,null,null,null,null,null,null,null,null,null,null,null,null,null,null,null,null,null,null,null,null,null,null,null,null,null,null,null,null,null,null,null,null,null,null,null,null,null,null,null,null,null,null,null,null,null,null,null,null,null,null,null,null,null,null,null,null,null,null,null,null,null,null,null,null,null,null,null,null,null,null,null,null,null,null,null,null,null,null,null,null,null,null,null,null,null,null,null,null,null,null,null,null,null,null,null,null,null,null,null,null,null,null,null,null,null,null,null,null,null,null,null,null,null,null,null,null,null,null,null,null,null,null,null,null,null,null,null,null,null,null,null,null,null,null,null,null,null,null,null,null,null,null,null,null,null,null,null,null,null,null,null,null,null,null,null,null,null,null,null,null,null,null,null,null,null,null,null,null,null,null,null,null,null,null,null,null,null,null,null,null,null,null,null,null,null,null,null,null,null,null,null,null,null,null,null,null,null,null,null,null,null,null,null,null,null,null,null,null,null,null,null,null,null,null,null,null,null,null,null,null,null,null,null,null,null,null,null,null,null,null,null,null,null,null,null,null,null,null,null,null,null,null,null,null,null,null,null,null,null,null,null,null,null,null,null,null,null,null,null,null,null,null,null,null,null,null,null,null,null,null,null,null,null,null,null,null,null,null,null,null,null,null,null,null,null,null,null,null,null,null,null,null,null,null,null,null,null,null,null,null,null,null,null,null,null,null,null,null,null,null,null,null,null,null,null,null,null,null,null,null,null,null,null,null,null,null,null,null,null,null,null,null,null,null,null,null,null,null,null,null,null,null,null,null,null,null,null,null,null,null,null,null,null,null,null,null,null,null,null,null,null,null,null,null,null,null,null,null,null,null,null,null,null,null,null,null,null,null,null,null,null,null,null,null,null,null,null,null,null,null,null,null,null,null,null,null,null,null,null,null,null,null,null,null,null,null,null,null,null,null,null,null,null,null,null,null,null,null,null,null,null,null,null,null,null,null,null,null,null,null,null,null,null,null,null,null,null,null,null,null,null,null,null,null,null,null,null,null,null,null,null,null,null,null,null,null,null,null,null,null,null,null,null,null,null,null,null,null,null,null,null,null,null,null,null,null,null,null,null,null,null,null,null,null,null,null,null,null,null,null,null,null,null,null,null,null,null,null,null,null,null,null,null,null,null,null,null,null,null,null,null,null,null,null,null,null,null,null,null,null,null,null,null,null,null,null,null,null,null,null,null,null,null,null,null,null,null,null,null,null,null,null,null,null,null,null,null,null,null,null,null,null,null,null,null,null,null,null,null,null,null,null,null,null,null,null,null,null,null,null,null,null,null,null,null,null,null,null,null,null,null,null,null,null,null,null,null,null,null,null,null,null,null,null,null,null,null,null,null,null,null,null,null,null,null,null,null,null,null,null,null,null,null,null,null,null,null,null,null,null,null,null,null,null,null,null,null,null,null,null,null,null,null,null,null,null,null,null,null,null,null,null,null,null,null,null,null,null,null,null,null,null,null,null,null,null,null,null,null,null,null,null,null,null,null,null,null,null,null,null,null,null,null,null,null,null,null,null,null,null,null,null,null,null,null,null,null,null,null,null,null,null,null,null,null,null,null,null,null,null,null,null,null,null,null,null,null,null,null,null,null,null,null,null,null,null,null,null,null,null,null,null,null,null,null,null,null,null,null,null,null,null,null,null,null,null,null,null,null,null,null,null,null,null,null,null,null,null,null,null,null,null,null,null,null,null,null,null,null,null,null,null,null,null,null,null,null,null,null,null,null,null,null,null,null,null,null,null,null,null,null,null,null,null,null,null,null,null,null,null,null,null,null,null,null,null,null,null,null,null,null,null,null,null,null,null,null,null,null,null,null,null,null,null,null,null,null,null,null,null,null,null,null,null,null,null,null,null,null,null,null,null,null,null,null,null,null,null,null,null,null,null,null,null,null,null,null,null,null,null,null,null,null,null,null,null,null,null,null,null,null,null,null,null,null,null,null,null,null,null,null,null,null,null,null,null,null,null,null,null,null,null,null,null,null,null,null,null,null,null,null,null,null,null,null,null,null,null,null,null,null,null,null,null,null,null,null,null,null,null,null,null,null,null,null,null,null,null,null,null,null,null,null,null,null,null,null,null,null,null,null,null,null,null,null,null,null,null,null,null,null,null,null,null,null,null,null,null,null,null,null,null,null,null,null,null,null,null,null,null,null,null,null,null,null,null,null,null,null,null,null,null,null,null,null,null,null,null,null,null,null,null,null,null,null,null,null,null,null,null,null,null,null,null,null,null,null,null,null,null,null,null,null,null,null,null,null,null,null,null,null,null,null,null,null,null,null,null,null,null,null,null,null,null,null,null,null,null,null,null,null,null,null,null,null,null,null,null,null,null,null,null,null,null,null,null,null,null,null,null,null,null,null,null,null,null,null,null,null,null,null,null,null,null,null,null,null,null,null,null,null,null,null,null,null,null,null,null,null,null,null,null,null,null,null,null,null,null,null,null,null,null,null,null,null,null,null,null,null,null,null,null,null,null,null,null,null,null,null,null,null,null,null,null,null,null,null,null,null,null,null,null,null,null,null,null,null,null,null,null,null,null,null,null,null,null,null,null,null,null,null,null,null,null,null,null,null,null,null,null,null,null,null,null,null,null,null,null,null,null,null,null,null,null,null,null,null,null,null,null,null,null,null,null,null,null,null,null,null,null,null,null,null,null,null,null,null,null,null,null,null,null,null,null,null,null,null,null,null,null,null,null,null,null,null,null,null,null,null,null,null,null,null,null,null,null,null,null,null,null,null,null,null,null,null,null,null,null,null,null,null,null,null,null,null,null,null,null,null,null,null,null,null,null,null,null,null,null,null,null,null,null,null,null,null,null,null,null,null,null,null,null,null,null,null,null,null,null,null,null,null,null,null,null,null,null,null,null,null,null,null,null,null,null,null,null,null,null,null,null,null,null,null,null,null,null,null,null,null,null,null,null,null,null,null,null,null,null,null,null,null,null,null,null,null,null,null,null,null,null,null,null,null,null,null,null,null,null,null,null,null,null,null,null,null,null,null,null,null,null,null,null,null,null,null,null,null,null,null,null,null,null,null,null,null,null,null,null,null,null,null,null,null,null,null,null,null,null,null,null,null,null,null,null,null,null,null,null,null,null,null,null,null,null,null,null,null,null,null,null,null,null,null,null,null,null,null,null,null,null,null,null,null,null,null,null,null,null,null,null,null,null,null,null,null,null,null,null,null,null,null,null,null,null,null,null,null,null,null,null,null,null,null,null,null,null,null,null,null,null,null,null,null,null,null,null,null,null,null,null,null,null,null,null,null,null,null,null,null,null,null,null,null,null,null,null,null,null,null,null,null,null,null,null,null,null,null,null,null,null,null,null,null,null,null,null,null,null,null,null,null,null,null,null,null,null,null,null,null,null,null,null,null,null,null,null,null,null,null,null,null,null,null,null,null,null,null,null,null,null,null,null,null,null,null,null,null,null,null,null,null,null,null,null,null,null,null,null,null,null,null,null,null,null,null,null,null,null,null,null,null,null,null,null,null,null,null,null,null,null,null,null,null,null,null,null,null,null,null,null,null,null,null,null,null,null,null,null,null,null,null,null,null,null,null,null,null,null,null,null,null,null,null,null,null,null,null,null,null,null,null,null,null,null,null,null,null,null,null,null,null,null,null,null,null,null,null,null,null,null,null,null,null,null,null,null,null,null,null,null,null,null,null,null,null,null,null,null,null,null,null,null,null,null,null,null,null,null,null,null,null,null,null,null,null,null,null,null,null,null,null,null,null,null,null,null,null,null,null,null,null,null,null,null,null,null,null,null,null,null,null,null,null,null,null,null,null,null,null,null,null,null,null,null,null,null,null,null,null,null,null,null,null,null,null,null,null,null,null,null,null,null,null,null,null,null,null,null,null,null,null,null,null,null,null,null,null,null,null,null,null,null,null,null,null,null,null,null,null,null,null,null,null,null,null,null,null,null,null,null,null,null,null,null,null,null,null,null,null,null,null,null,null,null,null,null,null,null,null,null,null,null,null,null,null,null,null,null,null,null,null,null,null,null,null,null,null,null,null,null,null,null,null,null,null,null,null,null,null,null,null,null,null,null,null,null,null,null,null,null,null,null,null,null,null,null,null,null,null,null,null,null,null,null,null,null,null,null,null,null,null,null,null,null,null,null,null,null,null,null,null,null,null,null,null,null,null,null,null,null,null,null,null,null,null,null,null,null,null,null,null,null,null,null,null,null,null,null,null,null,null,null,null,null,null,null,null,null,null,null,null,null,null,null,null,null,null,null,null,null,null,null,null,null,null,null,null,null,null,null,null,null,null,null,null,null,null,null,null,null,null,null,null,null,null,null,null,null,null,null,null,null,null,null,null,null,null,null,null,null,null,null,null,null,null,null,null,null,null,null,null,null,null,null,null,null,null,null,null,null,null,null,null,null,null,null,null,null,null,null,null,null,null,null,null,null,null,null,null,null,null,null,null,null,null,null,null,null,null,null,null,null,null,null,null,null,null,null,null,null,null,null,null,null,null,null,null,null,null,null,null,null,null,null,null,null,null,null,null,null,null,null,null,null,null,null,null,null,null,null,null,null,null,null,null,null,null,null,null,null,null,null,null,null,null,null,null,null,null,null,null,null,null,null,null,null,null,null,null,null,null,null,null,null,null,null,null,null,null,null,null,null,null,null,null,null,null,null,null,null,null,null,null,null,null,null,null,null,null,null,null,null,null,null,null,null,null,null,null,null,null,null,null,null,null,null,null,null,null,null,null,null,null,null,null,null,null,null,null,null,null,null,null,null,null,null,null,null,null,null,null,null,null,null,null,null,null,null,null,null,null,null,null,null,null,null,null,null,null,null,null,null,null,null,null,null,null,null,null,null,null,null,null,null,null,null,null,null,null,null,null,null,null,null,null,null,null,null,null,null,null,null,null,null,null,null,null,null,null,null,null,null,null,null,null,null,null,null,null,null,null,null,null,null,null,null,null,null,null,null,null,null,null,null,null,null,null,null,null,null,null,null,null,null,null,null,null,null,null,null,null,null,null,null,null,null,null,null,null,null,null,null,null,null,null,null,null,null,null,null,null,null,null,null,null,null,null,null,null,null,null,null,null,null,null,null,null,null,null,null,null,null,null,null,null,null,null,null,null,null,null,null,null,null,null,null,null,null,null,null,null,null,null,null,null,null,null,null,null,null,null,null,null,null,null,null,null,null,null,null,null,null,null,null,null,null,null,null,null,null,null,null,null,null,null,null,null,null,null,null,null,null,null,null,null,null,null,null,null,null,null,null,null,null,null,null,null,null,null,null,null,null,null,null,null,null,null,null,null,null,null,null,null,null,null,null,null,null,null,null,null,null,null,null,null,null,null,null,null,null,null,null,null,null,null,null,null,null,null,null,null,null,null,null,null,null,null,null,null,null,null,null,null,null,null,null,null,null,null,null,null,null,null,null,null,null,null,null,null,null,null,null,null,null,null,null,null,null,null,null,null,null,null,null,null,null,null,null,null,null,null,null,null,null,null,null,null,null,null,null,null,null,null,null,null,null,null,null,null,null,null,null,null,null,null,null,null,null,null,null,null,null,null,null,null,null,null,null,null,null,null,null,null,null,null,null,null,null,null,null,null,null,null,null,null,null,null,null,null,null,null,null,null,null,null,null,null,null,null,null,null,null,null,null,null,null,null,null,null,null,null,null,null,null,null,null,null,null,null,null,null,null,null,null,null,null,null,null,null,null,null,null,null,null,null,null,null,null,null,null,null,null,null,null,null,null,null,null,null,null,null,null,null,null,null,null,null,null,null,null,null,null,null,null,null,null,null,null,null,null,null,null,null,null,null,null,null,null,null,null,null,null,null,null,null,null,null,null,null,null,null,null,null,null,null,null,null,null,null,null,null,null,null,null,null,null,null,null,null,null,null,null,null,null,null,null,null,null,null,null,null,null,null,null,null,null,null,null,null,null,null,null,null,null,null,null,null,null,null,null,null,null,null,null,null,null,null,null,null,null,null,null,null,null,null,null,null,null,null,null,null,null,null,null,null,null,null,null,null,null,null,null,null,null,null,null,null,null,null,null,null,null,null,null,null,null,null,null,null,null,null,null,null,null,null,null,null,null,null,null,null,null,null,null,null,null,null,null,null,null,null,null,null,null,null,null,null,null,null,null,null,null,null,null,null,null,null,null,null,null,null,null,null,null,null,null,null,null,null,null,null,null,null,null,null,null,null,null,null,null,null,null,null,null,null,null,null,null,null,null,null,null,null,null,null,null,null,null,null,null,null,null,null,null,null,null,null,null,null,null,null,null,null,null,null,null,null,null,null,null,null,null,null,null,null,null,null,null,null,null,null,null,null,null,null,null,null,null,null,null,null,null,null,null,null,null,null,null,null,null,null,null,null,null,null,null,null,null,null,null,null,null,null,null,null,null,null,null,null,null,null,null,null,null,null,null,null,null,null,null,null,null,null,null,null,null,null,null,null,null,null,null,null,null,null,null,null,null,null,null,null,null,null,null,null,null,null,null,null,null,null,null,null,null,null,null,null,null,null,null,null,null,null,null,null,null,null,null,null,null,null,null,null,null,null,null,null,null,null,null,null,null,null,null,null,null,null,null,null,null,null,null,null,null,null,null,null,null,null,null,null,null,null,null,null,null,null,null,null,null,null,null,null,null,null,null,null,null,null,null,null,null,null,null,null,null,null,null,null,null,null,null,null,null,null,null,null,null,null,null,null,null,null,null,null,null,null,null,null,null,null,null,null,null,null,null,null,null,null,null,null,null,null,null,null,null,null,null,null,null,null,null,null,null,null,null,null,null,null,null,null,null,null,null,null,null,null,null,null,null,null,null,null,null,null,null,null,null,null,null,null,null,null,null,null,null,null,null,null,null,null,null,null,null,null,null,null,null,null,null,null,null,null,null,null,null,null,null,null,null,null,null,null,null,null,null,null,null,null,null,null,null,null,null,null,null,null,null,null,null,null,null,null,null,null,null,null,null,null,null,null,null,null,null,null,null,null,null,null,null,null,null,null,null,null,null,null,null,null,null,null,null,null,null,null,null,null,null,null,null,null,null,null,null,null,null,null,null,null,null,null,null,null,null,null,null,null,null,null,null,null,null,null,null,null,null,null,null,null,null,null,null,null,null,null,null,null,null,null,null,null,null,null,null,null,null,null,null,null,null,null,null,null,null,null,null,null,null,null,null,null,null,null,null,null,null,null,null,null,null,null,null,null,null,null,null,null,null,null,null,null,null,null,null,null,null,null,null,null,null,null,null,null,null,null,null,null,null,null,null,null,null,null,null,null,null,null,null,null,null,null,null,null,null,null,null,null,null,null,null,null,null,null,null,null,null,null,null,null,null,null,null,null,null,null,null,null,null,null,null,null,null,null,null,null,null,null,null,null,null,null,null,null,null,null,null,null,null,null,null,null,null,null,null,null,null,null,null,null,null,null,null,null,null,null,null,null,null,null,null,null,null,null,null,null,null,null,null,null,null,null,null,null,null,null,null,null,null,null,null,null,null,null,null,null,null,null,null,null,null,null,null,null,null,null,null,null,null,null,null,null,null,null,null,null,null,null,null,null,null,null,null,null,null,null,null,null,null,null,null,null,null,null,null,null,null,null,null,null,null,null,null,null,null,null,null,null,null,null,null,null,null,null,null,null,null,null,null,null,null,null,null,null,null,null,null,null,null,null,null,null,null,null,null,null,null,null,null,null,null,null,null,null,null,null,null,null,null,null,null,null,null,null,null,null,null,null,null,null,null,null,null,null,null,null,null,null,null,null,null,null,null,null,null,null,null,null,null,null,null,null,null,null,null,null,null,null,null,null,null,null,null,null,null,null,null,null,null,null,null,null,null,null,null,null,null,null,null,null,null,null,null,null,null,null,null,null,null,null,null,null,null,null,null,null,null,null,null,null,null,null,null,null,null,null,null,null,null,null,null,null,null,null,null,null,null,null,null,null,null,null,null,null,null,null,null,null,null,null,null,null,null,null,null,null,null,null,null,null,null,null,null,null,null,null,null,null,null,null,null,null,null,null,null,null,null,null,null,null,null,null,null,null,null,null,null,null,null,null,null,null,null,null,null,null,null,null,null,null,null,null,null,null,null,null,null,null,null,null,null,null,null,null,null,null,null,null,null,null,null,null,null,null,null,null,null,null,null,null,null,null,null,null,null,null,null,null,null,null,null,null,null,null,null,null,null,null,null,null,null,null,null,null,null,null,null,null,null,null,null,null,null,null,null,null,null,null,null,null,null,null,null,null,null,null,null,null,null,null,null,null,null,null,null,null,null,null,null,null,null,null,null,null,null,null,null,null,null,null,null,null,null,null,null,null,null,null,null,null,null,null,null,null,null,null,null,null,null,null,null,null,null,null,null,null,null,null,null,null,null,null,null,null,null,null,null,null,null,null,null,null,null,null,null,null,null,null,null,null,null,null,null,null,null,null,null,null,null,null,null,null,null,null,null,null,null,null,null,null,null,null,null,null,null,null,null,null,null,null,null,null,null,null,null,null,null,null,null,null,null,null,null,null,null,null,null,null,null,null,null,null,null,null,null,null,null,null,null,null,null,null,null,null,null,null,null,null,null,null,null,null,null,null,null,null,null,null,null,null,null,null,null,null,null,null,null,null,null,null,null,null,null,null,null,null,null,null,null,null,null,null,null,null,null,null,null,null,null,null,null,null,null,null,null,null,null,null,null,null,null,null,null,null,null,null,null,null,null,null,null,null,null,null,null,null,null,null,null,null,null,null,null,null,null,null,null,null,null,null,null,null,null,null,null,null,null,null,null,null,null,null,null,null,null,null,null,null,null,null,null,null,null,null,null,null,null,null,null,null,null,null,null,null,null,null,null,null,null,null,null,null,null,null,null,null,null,null,null,null,null,null,null,null,null,null,null,null,null,null,null,null,null,null,null,null,null,null,null,null,null,null,null,null,null,null,null,null,null,null,null,null,null,null,null,null,null,null,null,null,null,null,null,null,null,null,null,null,null,null,null,null,null,null,null,null,null,null,null,null,null,null,null,null,null,null,null,null,null,null,null,null,null,null,null,null,null,null,null,null,null,null,null,null,null,null,null,null,null,null,null,null,null,null,null,null,null,null,null,null,null,null,null,null,null,null,null,null,null,null,null,null,null,null,null,null,null,null,null,null,null,null,null,null,null,null,null,null,null,null,null,null,null,null,null,null,null,null,null,null,null,null,null,null,null,null,null,null,null,null,null,null,null,null,null,null,null,null,null,null,null,null,null,null,null,null,null,null,null,null,null,null,null,null,null,null,null,null,null,null,null,null,null,null,null,null,null,null,null,null,null,null,null,null,null,null,null,null,null,null,null,null,null,null,null,null,null,null,null,null,null,null,null,null,null,null,null,null,null,null,null,null,null,null,null,null,null,null,null,null,null,null,null,null,null,null,null,null,null,null,null,null,null,null,null,null,null,null,null,null,null,null,null,null,null,null,null,null,null,null,null,null,null,null,null,null,null,null,null,null,null,null,null,null,null,null,null,null,null,null,null,null,null,null,null,null,null,null,null,null,null,null,null,null,null,null,null,null,null,null,null,null,null,null,null,null,null,null,null,null,null,null,null,null,null,null,null,null,null,null,null,null,null,null,null,null,null,null,null,null,null,null,null,null,null,null,null,null,null,null,null,null,null,null,null,null,null,null,null,null,null,null,null,null,null,null,null,null,null,null,null,null,null,null,null,null,null,null,null,null,null,null,null,null,null,null,null,null,null,null,null,null,null,null,null,null,null,null,null,null,null,null,null,null,null,null,null,null,null,null,null,null,null,null,null,null,null,null,null,null,null,null,null,null,null,null,null,null,null,null,null,null,null,null,null,null,null,null,null,null,null,null,null,null,null,null,null,null,null,null,null,null,null,null,null,null,null,null,null,null,null,null,null,null,null,null,null,null,null,null,null,null,null,null,null,null,null,null,null,null,null,null,null,null,null,null,null,null,null,null,null,null,null,null,null,null,null,null,null,null,null,null,null,null,null,null,null,null,null,null,null,null,null,null,null,null,null,null,null,null,null,null,null,null,null,null,null,null,null,null,null,null,null,null,null,null,null,null,null,null,null,null,null,null,null,null,null,null,null,null,null,null,null,null,null,null,null,null,null,null,null,null,null,null,null,null,null,null,null,null,null,null,null,null,null,null,null,null,null,null,null,null,null,null,null,null,null,null,null,null,null,null,null,null,null,null,null,null,null,null,null,null,null,null,null,null,null,null,null,null,null,null,null,null,null,null,null,null,null,null,null,null,null,null,null,null,null,null,null,null,null,null,null,null,null,null,null,null,null,null,null,null,null,null,null,null,null,null,null,null,null,null,null,null,null,null,null,null,null,null,null,null,null,null,null,null,null,null,null,null,null,null,null,null,null,null,null,null,null,null,null,null,null,null,null,null,null,null,null,null,null,null,null,null,null,null,null,null,null,null,null,null,null,null,null,null,null,null,null,null,null,null,null,null,null,null,null,null,null,null,null,null,null,null,null,null,null,null,null,null,null,null,null,null,null,null,null,null,null,null,null,null,null,null,null,null,null,null,null,null,null,null,null,null,null,null,null,null,null,null,null,null,null,null,null,null,null,null,null,null,null,null,null,null,null,null,null,null,null,null,null,null,null,null,null,null,null,null,null,null,null,null,null,null,null,null,null,null,null,null,null,null,null,null,null,null,null,null,null,null,null,null,null,null,null,null,null,null,null,null,null,null,null,null,null,null,null,null,null,null,null,null,null,null,null,null,null,null,null,null,null,null,null,null,null,null,null,null,null,null,null,null,null,null,null,null,null,null,null,null,null,null,null,null,null,null,null,null,null,null,null,null,null,null,null,null,null,null,null,null,null,null,null,null,null,null,null,null,null,null,null,null,null,null,null,null,null,null,null,null,null,null,null,null,null,null,null,null,null,null,null,null,null,null,null,null,null,null,null,null,null,null,null,null,null,null,null,null,null,null,null,null,null,null,null,null,null,null,null,null,null,null,null,null,null,null,null,null,null,null,null,null,null,null,null,null,null,null,null,null,null,null,null,null,null,null,null,null,null,null,null,null,null,null,null,null,null,null,null,null,null,null,null,null,null,null,null,null,null,null,null,null,null,null,null,null,null,null,null,null,null,null,null,null,null,null,null,null,null,null,null,null,null,null,null,null,null,null,null,null,null,null,null,null,null,null,null,null,null,null,null,null,null,null,null,null,null,null,null,null,null,null,null,null,null,null,null,null,null,null,null,null,null,null,null,null,null,null,null,null,null,null,null,null,null,null,null,null,null,null,null,null,null,null,null,null,null,null,null,null,null,null,null,null,null,null,null,null,null,null,null,null,null,null,null,null,null,null,null,null,null,null,null,null,null,null,null,null,null,null,null,null,null,null,null,null,null,null,null,null,null,null,null,null,null,null,null,null,null,null,null,null,null,null,null,null,null,null,null,null,null,null,null,null,null,null,null,null,null,null,null,null,null,null,null,null,null,null,null,null,null,null,null,null,null,null,null,null,null,null,null,null,null,null,null,null,null,null,null,null,null,null,null,null,null,null,null,null,null,null,null,null,null,null,null,null,null,null,null,null,null,null,null,null,null,null,null,null,null,null,null,null,null,null,null,null,null,null,null,null,null,null,null,null,null,null,null,null,null,null,null,null,null,null,null,null,null,null,null,null,null,null,null,null,null,null,null,null,null,null,null,null,null,null,null,null,null,null,null,null,null,null,null,null,null,null,null,null,null,null,null,null,null,null,null,null,null,null,null,null,null,null,null,null,null,null,null,null,null,null,null,null,null,null,null,null,null,null,null,null,null,null,null,null,null,null,null,null,null,null,null,null,null,null,null,null,null,null,null,null,null,null,null,null,null,null,null,null,null,null,null,null,null,null,null,null,null,null,null,null,null,null,null,null,null,null,null,null,null,null,null,null,null,null,null,null,null,null,null,null,null,null,null,null,null,null,null,null,null,null,null,null,null,null,null,null,null,null,null,null,null,null,null,null,null,null,null,null,null,null,null,null,null,null,null,null,null,null,null,null,null,null,null,null,null,null,null,null,null,null,null,null,null,null,null,null,null,null,null,null,null,null,null,null,null,null,null,null,null,null,null,null,null,null,null,null,null,null,null,null,null,null,null,null,null,null,null,null,null,null,null,null,null,null,null,null,null,null,null,null,null,null,null,null,null,null,null,null,null,null,null,null,null,null,null,null,null,null,null,null,null,null,null,null,null,null,null,null,null,null,null,null,null,null,null,null,null,null,null,null,null,null,null,null,null,null,null,null,null,null,null,null,null,null,null,null,null,null,null,null,null,null,null,null,null,null,null,null,null,null,null,null,null,null,null,null,null,null,null,null,null,null,null,null,null,null,null,null,null,null,null,null,null,null,null,null,null,null,null,null,null,null,null,null,null,null,null,null,null,null,null,null,null,null,null,null,null,null,null,null,null,null,null,null,null,null,null,null,null,null,null,null,null,null,null,null,null,null,null,null,null,null,null,null,null,null,null,null,null,null,null,null,null,null,null,null,null,null,null,null,null,null,null,null,null,null,null,null,null,null,null,null,null,null,null,null,null,null,null,null,null,null,null,null,null,null,null,null,null,null,null,null,null,null,null,null,null,null,null,null,null,null,null,null,null,null,null,null,null,null,null,null,null,null,null,null,null,null,null,null,null,null,null,null,null,null,null,null,null,null,null,null,null,null,null,null,null,null,null,null,null,null,null,null,null,null,null,null,null,null,null,null,null,null,null,null,null,null,null,null,null,null,null,null,null,null,null,null,null,null,null,null,null,null,null,null,null,null,null,null,null,null,null,null,null,null,null,null,null,null,null,null,null,null,null,null,null,null,null,null,null,null,null,null,null,null,null,null,null,null,null,null,null,null,null,null,null,null,null,null,null,null,null,null,null,null,null,null,null,null,null,null,null,null,null,null,null,null,null,null,null,null,null,null,null,null,null,null,null,null,null,null,null,null,null,null,null,null,null,null,null,null,null,null,null,null,null,null,null,null,null,null,null,null,null,null,null,null,null,null,null,null,null,null,null,null,null,null,null,null,null,null,null,null,null,null,null,null,null,null,null,null,null,null,null,null,null,null,null,null,null,null,null,null,null,null,null,null,null,null,null,null,null,null,null,null,null,null,null,null,null,null,null,null,null,null,null,null,null,null,null,null,null,null,null,null,null,null,null,null,null,null,null,null,null,null,null,null,null,null,null,null,null,null,null,null,null,null,null,null,null,null,null,null,null,null,null,null,null,null,null,null,null,null,null,null,null,null,null,null,null,null,null,null,null,null,null,null,null,null,null,null,null,null,null,null,null,null,null,null,null,null,null,null,null,null,null,null,null,null,null,null,null,null,null,null,null,null,null,null,null,null,null,null,null,null,null,null,null,null,null,null,null,null,null,null,null,null,null,null,null,null,null,null,null,null,null,null,null,null,null,null,null,null,null,null,null,null,null,null,null,null,null,null,null,null,null,null,null,null,null,null,null,null,null,null,null,null,null,null,null,null,null,null,null,null,null,null,null,null,null,null,null,null,null,null,null,null,null,null,null,null,null,null,null,null,null,null,null,null,null,null,null,null,null,null,null,null,null,null,null,null,null,null,null,null,null,null,null,null,null,null,null,null,null,null,null,null,null,null,null,null,null,null,null,null,null,null,null,null,null,null,null,null,null,null,null,null,null,null,null,null,null,null,null,null,null,null,null,null,null,null,null,null,null,null,null,null,null,null,null,null,null,null,null,null,null,null,null,null,null,null,null,null,null,null,null,null,null,null,null,null,null,null,null,null,null,null,null,null,null,null,null,null,null,null,null,null,null,null,null,null,null,null,null,null,null,null,null,null,null,null,null,null,null,null,null,null,null,null,null,null,null,null,null,null,null,null,null,null,null,null,null,null,null,null,null,null,null,null,null,null,null,null,null,null,null,null,null,null,null,null,null,null,null,null,null,null,null,null,null,null,null,null,null,null,null,null,null,null,null,null,null,null,null,null,null,null,null,null,null,null,null,null,null,null,null,null,null,null,null,null,null,null,null,null,null,null,null,null,null,null,null,null,null,null,null,null,null,null,null,null,null,null,null,null,null,null,null,null,null,null,null,null,null,null,null,null,null,null,null,null,null,null,null,null,null,null,null,null,null,null,null,null,null,null,null,null,null,null,null,null,null,null,null,null,null,null,null,null,null,null,null,null,null,null,null,null,null,null,null,null,null,null,null,null,null,null,null,null,null,null,null,null,null,null,null,null,null,null,null,null,null,null,null,null,null,null,null,null,null,null,null,null,null,null,null,null,null,null,null,null,null,null,null,null,null,null,null,null,null,null,null,null,null,null,null,null,null,null,null,null,null,null,null,null,null,null,null,null,null,null,null,null,null,null,null,null,null,null,null,null,null,null,null,null,null,null,null,null,null,null,null,null,null,null,null,null,null,null,null,null,null,null,null,null,null,null,null,null,null,null,null,null,null,null,null,null,null,null,null,null,null,null,null,null,null,null,null,null,null,null,null,null,null,null,null,null,null,null,null,null,null,null,null,null,null,null,null,null,null,null,null,null,null,null,null,null,null,null,null,null,null,null,null,null,null,null,null,null,null,null,null,null,null,null,null,null,null,null,null,null,null,null,null,null,null,null,null,null,null,null,null,null,null,null,null,null,null,null,null,null,null,null,null,null,null,null,null,null,null,null,null,null,null,null,null,null,null,null,null,null,null,null,null,null,null,null,null,null,null,null,null,null,null,null,null,null,null,null,null,null,null,null,null,null,null,null,null,null,null,null,null,null,null,null,null,null,null,null,null,null,null,null,null,null,null,null,null,null,null,null,null,null,null,null,null,null,null,null,null,null,null,null,null,null,null,null,null,null,null,null,null,null,null,null,null,null,null,null,null,null,null,null,null,null,null,null,null,null,null,null,null,null,null,null,null,null,null,null,null,null,null,null,null,null,null,null,null,null,null,null,null,null,null,null,null,null,null,null,null,null,null,null,null,null,null,null,null,null,null,null,null,null,null,null,null,null,null,null,null,null,null,null,null,null,null,null,null,null,null,null,null,null,null,null,null,null,null,null,null,null,null,null,null,null,null,null,null,null,null,null,null,null,null,null,null,null,null,null,null,null,null,null,null,null,null,null,null,null,null,null,null,null,null,null,null,null,null,null,null,null,null,null,null,null,null,null,null,null,null,null,null,null,null,null,null,null,null,null,null,null,null,null,null,null,null,null,null,null,null,null,null,null,null,null,null,null,null,null,null,null,null,null,null,null,null,null,null,null,null,null,null,null,null,null,null,null,null,null,null,null,null,null,null,null,null,null,null,null,null,null,null,null,null,null,null,null,null,null,null,null,null,null,null,null,null,null,null,null,null,null,null,null,null,null,null,null,null,null,null,null,null,null,null,null,null,null,null,null,null,null,null,null,null,null,null,null,null,null,null,null,null,null,null,null,null,null,null,null,null,null,null,null,null,null,null,null,null,null,null,null,null,null,null,null,null,null,null,null,null,null,null,null,null,null,null,null,null,null,null,null,null,null,null,null,null,null,null,null,null,null,null,null,null,null,null,null,null,null,null,null,null,null,null,null,null,null,null,null,null,null,null,null,null,null,null,null,null,null,null,null,null,null,null,null,null,null,null,null,null,null,null,null,null,null,null,null,null,null,null,null,null,null,null,null,null,null,null,null,null,null,null,null,null,null,null,null,null,null,null,null,null,null,null,null,null,null,null,null,null,null,null,null,null,null,null,null,null,null,null,null,null,null,null,null,null,null,null,null,null,null,null,null,null,null,null,null,null,null,null,null,null,null,null,null,null,null,null,null,null,null,null,null,null,null,null,null,null,null,null,null,null,null,null,null,null,null,null,null,null,null,null,null,null,null,null,null,null,null,null,null,null,null,null,null,null,null,null,null,null,null,null,null,null,null,null,null,null,null,null,null,null,null,null,null,null,null,null,null,null,null,null,null,null,null,null,null,null,null,null,null,null,null,null,null,null,null,null,null,null,null,null,null,null,null,null,null,null,null,null,null,null,null,null,null,null,null,null,null,null,null,null,null,null,null,null,null,null,null,null,null,null,null,null,null,null,null,null,null,null,null,null,null,null,null,null,null,null,null,null,null,null,null,null,null,null,null,null,null,null,null,null,null,null,null,null,null,null,null,null,null,null,null,null,null,null,null,null,null,null,null,null,null,null,null,null,null,null,null,null,null,null,null,null,null,null,null,null,null,null,null,null,null,null,null,null,null,null,null,null,null,null,null,null,null,null,null,null,null,null,null,null,null,null,null,null,null,null,null,null,null,null,null,null,null,null,null,null,null,null,null,null,null,null,null,null,null,null,null,null,null,null,null,null,null,null,null,null,null,null,null,null,null,null,null,null,null,null,null,null,null,null,null,null,null,null,null,null,null,null,null,null,null,null,null,null,null,null,null,null,null,null,null,null,null,null,null,null,null,null,null,null,null,null,null,null,null,null,null,null,null,null,null,null,null,null,null,null,null,null,null,null,null,null,null,null,null,null,null,null,null,null,null,null,null,null,null,null,null,null,null,null,null,null,null,null,null,null,null,null,null,null,null,null,null,null,null,null,null,null,null,null,null,null,null,null,null,null,null,null,null,null,null,null,null,null,null,null,null,null,null,null,null,null,null,null,null,null,null,null,null,null,null,null,null,null,null,null,null,null,null,null,null,null,null,null,null,null,null,null,null,null,null,null,null,null,null,null,null,null,null,null,null,null,null,null,null,null,null,null,null,null,null,null,null,null,null,null,null,null,null,null,null,null,null,null,null,null,null,null,null,null,null,null,null,null,null,null,null,null,null,null,null,null,null,null,null,null,null,null,null,null,null,null,null,null,null,null,null,null,null,null,null,null,null,null,null,null,null,null,null,null,null,null,null,null,null,null,null,null,null,null,null,null,null,null,null,null,null,null,null,null,null,null,null,null,null,null,null,null,null,null,null,null,null,null,null,null,null,null,null,null,null,null,null,null,null,null,null,null,null,null,null,null,null,null,null,null,null,null,null,null,null,null,null,null,null,null,null,null,null,null,null,null,null,null,null,null,null,null,null,null,null,null,null,null,null,null,null,null,null,null,null,null,null,null,null,null,null,null,null,null,null,null,null,null,null,null,null,null,null,null,null,null,null,null,null,null,null,null,null,null,null,null,null,null,null,null,null,null,null,null,null,null,null,null,null,null,null,null,null,null,null,null,null,null,null,null,null,null,null,null,null,null,null,null,null,null,null,null,null,null,null,null,null,null,null,null,null,null,null,null,null,null,null,null,null,null,null,null,null,null,null,null,null,null,null,null,null,null,null,null,null,null,null,null,null,null,null,null,null,null,null,null,null,null,null,null,null,null,null,null,null,null,null,null,null,null,null,null,null,null,null,null,null,null,null,null,null,null,null,null,null,null,null,null,null,null,null,null,null,null,null,null,null,null,null,null,null,null,null,null,null,null,null,null,null,null,null,null,null,null,null,null,null,null,null,null,null,null,null,null,null,null,null,null,null,null,null,null,null,null,null,null,null,null,null,null,null,null,null,null,null,null,null,null,null,null,null,null,null,null,null,null,null,null,null,null,null,null,null,null,null,null,null,null,null,null,null,null,null,null,null,null,null,null,null,null,null,null,null,null,null,null,null,null,null,null,null,null,null,null,null,null,null,null,null,null,null,null,null,null,null,null,null,null,null,null,null,null,null,null,null,null,null,null,null,null,null,null,null,null,null,null,null,null,null,null,null,null,null,null,null,null,null,null,null,null,null,null,null,null,null,null,null,null,null,null,null,null,null,null,null,null,null,null,null,null,null,null,null,null,null,null,null,null,null,null,null,null,null,null,null,null,null,null,null,null,null,null,null,null,null,null,null,null,null,null,null,null,null,null,null,null,null,null,null,null,null,null,null,null,null,null,null,null,null,null,null,null,null,null,null,null,null,null,null,null,null,null,null,null,null,null,null,null,null,null,null,null,null,null,null,null,null,null,null,null,null,null,null,null,null,null,null,null,null,null,null,null,null,null,null,null,null,null,null,null,null,null,null,null,null,null,null,null,null,null,null,null,null,null,null,null,null,null,null,null,null,null,null,null,null,null,null,null,null,null,null,null,null,null,null,null,null,null,null,null,null,null,null,null,null,null,null,null,null,null,null,null,null,null,null,null,null,null,null,null,null,null,null,null,null,null,null,null,null,null,null,null,null,null,null,null,null,null,null,null,null,null,null,null,null,null,null,null,null,null,null,null,null,null,null,null,null,null,null,null,null,null,null,null,null,null,null,null,null,null,null,null,null,null,null,null,null,null,null,null,null,null,null,null,null,null,null,null,null,null,null,null,null,null,null,null,null,null,null,null,null,null,null,null,null,null,null,null,null,null,null,null,null,null,null,null,null,null,null,null,null,null,null,null,null,null,null,null,null,null,null,null,null,null,null,null,null,null,null,null,null,null,null,null,null,null,null,null,null,null,null,null,null,null,null,null,null,null,null,null,null,null,null,null,null,null,null,null,null,null,null,null,null,null,null,null,null,null,null,null,null,null,null,null,null,null,null,null,null,null,null,null,null,null,null,null,null,null,null,null,null,null,null,null,null,null,null,null,null,null,null,null,null,null,null,null,null,null,null,null,null,null,null,null,null,null,null,null,null,null,null,null,null,null,null,null,null,null,null,null,null,null,null,null,null,null,null,null,null,null,null,null,null,null,null,null,null,null,null,null,null,null,null,null,null,null,null,null,null,null,null,null,null,null,null,null,null,null,null,null,null,null,null,null,null,null,null,null,null,null,null,null,null,null,null,null,null,null,null,null,null,null,null,"T12","Tháng 12"]

{"sheet":"Phieu luong","index":20,"n_rows":52,"n_cols":6,"rows_kept":52,"cut":false,"hidden":false,"merged":[[33,2,33,5],[35,2,36,2],[35,3,36,3],[35,4,36,4],[35,5,36,5],[9,2,9,5],[11,2,12,2],[11,3,12,3],[11,4,12,4],[11,5,12,5]]}
[]
[]
[]
[]
[]
[]
[null,null,{"$f":"Setup!F10","v":"Công ty TNHH Webkynang Việt Nam"},null,null,"Liên 1"]
[null,null,{"$f":"Setup!D11&\" \"&Setup!F11","v":"Địa chỉ: Tầng 6, Tòa nhà Sannam, Duy Tân, Cầu Giấy, Hà Nội"}]
[]
[null,null,{"$f":"\"PHIẾU LƯƠNG - \"&VLOOKUP(code_thang2,code_thang1,2,0)","v":"PHIẾU LƯƠNG - Tháng 01"}]
[]
[null,null,"SỐ TT","CHỈ TIÊU","SỐ LƯỢNG","GHI CHÚ"]
[]
[null,null,1,"Tên Nhân viên","Lê Đức Chinh"]
[null,null,2,"Số Ngày công trong tháng",{"$f":"IF(ISERROR(VLOOKUP($E$14,bangluong,5,0)),\"\",VLOOKUP($E$14,bangluong,5,0))","v":0}]
[null,null,3,"Tổng lương thực lĩnh",{"$f":"IF(ISERROR(VLOOKUP($E$14,bangluong,20,0)),\"\",VLOOKUP($E$14,bangluong,20,0))","v":190250}]
[null,null,4,"Tổng lương ngày công",{"$f":"IF(ISERROR(VLOOKUP($E$14,bangluong,6,0)),\"\",VLOOKUP($E$14,bangluong,6,0))","v":0}]
[null,null,5,"Tổng Phụ cấp",{"$f":"IF(ISERROR(VLOOKUP($E$14,bangluong,9,0)),\"\",VLOOKUP($E$14,bangluong,9,0))","v":500000}]
[null,null,6,"Các koản khấu trừ vào lương",{"$f":"IF(ISERROR(VLOOKUP($E$14,bangluong,14,0)),\"\",(-1)*VLOOKUP($E$14,bangluong,14,0))","v":-309750}]
[null,null,7,"Thuế thu nhập cá nhân",{"$f":"IF(ISERROR(VLOOKUP($E$14,bangluong,18,0)),\"\",(-1)*VLOOKUP($E$14,bangluong,18,0))","v":0}]
[null,null,8,"Tạm ứng",{"$f":"IF(ISERROR(VLOOKUP($E$14,bangluong,19,0)),\"\",(-1)*VLOOKUP($E$14,bangluong,19,0))","v":0}]
[]
[]
[null,null,null,"NGƯỜI LẬP","NGƯỜI LAO ĐỘNG"]
[]
[]
[]
[null,null,null,{"$f":"Chamcong","v":"Vũ Trình B"},{"$f":"E14","v":"Lê Đức Chinh"}]
[]
[]
[null,null,{"$f":"C7","v":"Công ty TNHH Webkynang Việt Nam"},null,null,"Liên 2"]
[null,null,{"$f":"C8","v":"Địa chỉ: Tầng 6, Tòa nhà Sannam, Duy Tân, Cầu Giấy, Hà Nội"}]
[]
[null,null,{"$f":"C10","v":"PHIẾU LƯƠNG - Tháng 01"}]
[]
[null,null,"SỐ TT","CHỈ TIÊU","SỐ LƯỢNG","GHI CHÚ"]
[]
[null,null,{"$f":"C14","v":1},{"$f":"D14","v":"Tên Nhân viên"},{"$f":"E14","v":"Lê Đức Chinh"}]
[null,null,{"$f":"C15","v":2},"Số Ngày công trong tháng",0]
[null,null,3,"Tổng lương thực lĩnh",190250]
[null,null,4,"Tổng lương ngày công",0]
[null,null,5,"Tổng Phụ cấp",500000]
[null,null,6,"Các koản khấu trừ vào lương",-309750]
[null,null,7,"Thuế thu nhập cá nhân",0]
[null,null,8,"Tạm ứng",0]
[]
[]
[null,null,null,"NGƯỜI LẬP","NGƯỜI LAO ĐỘNG"]
[]
[]
[]
[null,null,null,{"$f":"D28","v":"Vũ Trình B"},{"$f":"E38","v":"Lê Đức Chinh"}]

{"sheet":"Setup","index":21,"n_rows":56,"n_cols":15,"rows_kept":56,"cut":false,"hidden":false,"merged":[[55,4,55,5],[55,6,55,7],[46,6,46,7],[46,4,46,5],[47,4,47,5],[47,6,47,7],[48,4,48,5],[48,6,48,7],[49,4,49,5],[49,6,49,7],[52,4,52,5],[52,6,52,7],[53,4,53,5],[53,6,53,7],[54,4,54,5],[54,6,54,7],[28,11,28,13],[29,11,29,13],[5,3,5,15],[11,10,11,11],[9,5,9,8],[10,5,10,8],[11,5,11,8],[9,12,9,15],[9,3,9,4],[10,3,10,4],[11,3,11,4],[9,10,9,11],[10,10,10,11],[15,7,15,8],[18,11,18,13],[17,11,17,13],[10,12,10,15],[11,12,11,15],[24,4,24,5],[25,4,25,5],[26,4,26,5],[27,4,27,5],[19,11,19,13],[20,11,20,13],[21,11,21,13],[22,11,22,13],[23,11,23,13],[28,4,28,5],[29,4,29,5],[15,10,15,13],[33,5,33,7],[34,5,34,7],[24,11,24,13],[25,11,25,13],[26,11,26,13],[27,11,27,13],[17,4,17,5],[18,4,18,5],[19,4,19,5],[20,4,20,5],[21,4,21,5],[22,4,22,5],[23,4,23,5],[33,12,33,14],[40,5,40,7],[41,5,41,7],[42,5,42,7],[35,5,35,7],[36,5,36,7],[37,5,37,7],[38,5,38,7],[39,5,39,7]]}
[]
[]
[]
[]
[]
[null,null,null,"CÀI ĐẶT PHẦN MỀM"]
[]
[null,null,null,"Thông tin doanh nghiệp"]
[]
[null,null,null,"Tên công ty: ",null,"Công ty TNHH Webkynang Việt Nam",null,null,null,null,"Giám Đốc :",null,"Mr. Trường"]
[null,null,null,"Địa chỉ:",null,"Tầng 6, Tòa nhà Sannam, Duy Tân, Cầu Giấy, Hà Nội",null,null,null,null,"Phụ trách bộ phận:",null,"Nguyễn Linh A"]
[null,null,null,"MST: ",null,"038 997 8430/ Webkynang.vn@gmail.com",null,null,null,null,"Chấm công",null,"Vũ Trình B"]
[]
[null,null,null,"Thời gian làm việc"]
[]
[null,null,null,"Năm báo cáo:",null,2021,null,"Ngày làm việc",null,null,"Ngày lễ"]
[]
[null,null,null,"Tháng","Số ngày công",null,null,"T.Hai",true,null,"Ngày","Nội dung"]
[null,null,null,1,27,null,null,"T.Ba",true,null,"2019-01-10","Thành lập Tập Đoàn"]
[null,null,null,2,24,null,null,"T.Tư",true,null,"2019-04-28","Giỗ tổ Hùng Vương"]
[null,null,null,3,26,null,null,"T.Năm",true,null,"2019-04-30","Giải phóng"]
[null,null,null,4,26,null,null,"T.Sáu",true,null,"2019-05-01","Quốc tế lao động"]
[null,null,null,5,26,null,null,"T.Bảy",false,null,"2019-09-02","Quốc Khánh"]
[null,null,null,6,26,null,null,"C.Nhật",false]
[null,null,null,7,26]
[null,null,null,8,26]
[null,null,null,9,26]
[null,null,null,10,26]
[null,null,null,11,26]
[null,null,null,12,26]
[null,null,null,null,null,{"$f":"VLOOKUP(VALUE(RIGHT(code_thang2,LEN(code_thang2)-1)),D19:F30,2,0)","v":27}]
[null,null,null,"Bảng mã chấm công",null,null,null,null,null,null,null,"Bậc thuế thu nhập cá nhân"]
[]
[null,null,null,"STT","Mã","Nội dung",null,null,null,"Mã màu",null,"Bậc","Mức tính thuế"]
[null,null,null,1,"x","Làm cả ngày",null,null,null,null,null,1,5000000,0.05]
[null,null,null,2,"x2","Làm nửa ngày",null,null,null,"Ngày lễ",null,2,10000000,0.1,{"$f":"M35*N35","v":250000}]
[null,null,null,3,"NC","Nghỉ có lương",null,null,null,"Ngày nghỉ",null,3,18000000,0.15,{"$f":"M35*N35+(M36-M35)*N36","v":750000}]
[null,null,null,4,"NO","Nghỉ không lương",null,null,null,null,null,4,32000000,0.2,{"$f":"O37+(M37-M36)*N37","v":1950000}]
[null,null,null,5,null,null,null,null,null,null,null,5,52000000,0.25,{"$f":"O38+(M38-M37)*N38","v":4750000}]
[null,null,null,null,null,null,null,null,null,null,null,6,80000000,0.3,{"$f":"O39+(M39-M38)*N39","v":9750000}]
[null,null,null,null,null,null,null,null,null,null,null,7,80000001,0.35,{"$f":"O40+(M40-M39)*N40","v":18150000}]
[]
[]
[]
[null,null,null,"Mức giảm trừ gia cảnh"]
[]
[null,null,null,"STT","Loại",null,"Số tiền giảm trừ"]
[null,null,null,1,"Bản thân",null,9000000]
[null,null,null,2,"Người thân",null,3600000]
[]
[null,null,null,"Thuế suất bảo hiểm"]
[]
[null,null,null,"STT","Loại",null,"Số tiền giảm trừ"]
[null,null,null,1,"Bảo hiểm xã hội",null,0.08]
[null,null,null,2,"Bảo hiểm y tế",null,1.4999999999999999E-2]
[null,null,null,3,"Bảo hiểm thất nghiệp",null,0.01]